#------------------------------------------------------------------------------
#$Date: 2016-02-13 21:28:24 +0200 (Sat, 13 Feb 2016) $
#$Revision: 176429 $
#$URL: svn://www.crystallography.net/cod/cif/1/53/20/1532021.cif $
#------------------------------------------------------------------------------
#
# This file is available in the Crystallography Open Database (COD),
# http://www.crystallography.net/
#
# All data on this site have been placed in the public domain by the
# contributors.
#
data_1532021
loop_
_publ_author_name
'Prokes, K.'
'de Boer, F.R.'
'Tegus, O.'
'Brueck, E.'
'Klaasse, J.C.P.'
'Buschow, K.H.J.'
_publ_section_title
;
 Magnetic properties and magnetic structure of Ho Ti Ge and Er Ti Ge
;
_journal_name_full               'Journal of Alloys Compd.'
_journal_page_first              62
_journal_page_last               69
_journal_volume                  335
_journal_year                    2002
_chemical_formula_sum            'Ge Ho Ti'
_chemical_name_systematic        'Ho Ti Ge'
_space_group_IT_number           129
_symmetry_space_group_name_Hall  '-P 4a 2a'
_symmetry_space_group_name_H-M   'P 4/n m m :2'
_cell_angle_alpha                90
_cell_angle_beta                 90
_cell_angle_gamma                90
_cell_formula_units_Z            2
_cell_length_a                   4.0153
_cell_length_b                   4.0153
_cell_length_c                   7.5678
_cell_volume                     122.013
_citation_journal_id_ASTM        JALCEU
_cod_data_source_file            Prokes_JALCEU_2002_430.cif
_cod_data_source_block           Ge1Ho1Ti1
_cod_original_cell_volume        122.0129
_cod_original_formula_sum        'Ge1 Ho1 Ti1'
_cod_database_code               1532021
loop_
_symmetry_equiv_pos_as_xyz
x,y,z
-y+1/2,x,z
-x+1/2,-y+1/2,z
y,-x+1/2,z
x+1/2,-y,-z
y+1/2,x+1/2,-z
-x,y+1/2,-z
-y,-x,-z
-x,-y,-z
y-1/2,-x,-z
x-1/2,y-1/2,-z
-y,x-1/2,-z
-x-1/2,y,z
-y-1/2,-x-1/2,z
x,-y-1/2,z
y,x,z
loop_
_atom_site_label
_atom_site_type_symbol
_atom_site_fract_x
_atom_site_fract_y
_atom_site_fract_z
_atom_site_occupancy
_atom_site_U_iso_or_equiv
Ho1 Ho 0.25 0.25 0.6553 1 0.0
Ge1 Ge 0.25 0.25 0.2493 1 0.0
Ti1 Ti 0.75 0.25 0 1 0.0
