#------------------------------------------------------------------------------
#$Date: 2025-08-18 16:30:32 +0300 (Mon, 18 Aug 2025) $
#$Revision: 301775 $
#$URL: file:///home/coder/svn-repositories/cod/cif/1/50/17/1501726.cif $
#------------------------------------------------------------------------------
#
# This file is available in the Crystallography Open Database (COD),
# http://www.crystallography.net/
#
# All data on this site have been placed in the public domain by the
# contributors.
#
data_1501726
loop_
_publ_author_name
'Naumov, Panče'
'Topcu, Yildiray'
'Eckert-Maksić, Mirjana'
'Glasovac, Zoran'
'Pavošević, Fabijan'
'Kochunnoonny, Manoj'
'Hara, Hideyuki'
_publ_section_title
;
 Photoinduced rearrangement of aromatic N-chloroamides to chloroaromatic
 amides in the solid state: inverted Π(N)-Σ(N) occupational stability of
 amidyl radicals.
;
_journal_issue                   26
_journal_name_full               'The journal of physical chemistry. A'
_journal_page_first              7834
_journal_page_last               7848
_journal_paper_doi               10.1021/jp203771c
_journal_volume                  115
_journal_year                    2011
_chemical_formula_moiety         C13H10ClNO
_chemical_formula_sum            'C13 H10 Cl N O'
_chemical_formula_weight         231.67
_chemical_name_common            N-chlorobenzanilide
_space_group_IT_number           14
_symmetry_cell_setting           monoclinic
_symmetry_space_group_name_Hall  '-P 2ybc'
_symmetry_space_group_name_H-M   'P 1 21/c 1'
_atom_sites_solution_hydrogens   geom
_atom_sites_solution_primary     direct
_atom_sites_solution_secondary   difmap
_audit_creation_method           SHELXL-97
_cell_angle_alpha                90.000(5)
_cell_angle_beta                 94.743(5)
_cell_angle_gamma                90.000(5)
_cell_formula_units_Z            4
_cell_length_a                   11.754(5)
_cell_length_b                   5.765(5)
_cell_length_c                   16.944(5)
_cell_measurement_reflns_used    997
_cell_measurement_temperature    293(2)
_cell_measurement_theta_max      22.86
_cell_measurement_theta_min      2.85
_cell_volume                     1144.2(12)
_computing_cell_refinement       'APEX2 software (Bruker, 2007)'
_computing_data_collection       'APEX2 software (Bruker, 2007)'
_computing_data_reduction        'SAINT (Bruker, 2007)'
_computing_molecular_graphics    'DIAMOND (Brandenburg, 2005)'
_computing_publication_material  'WinGX (Farrugia, 1999)'
_computing_structure_refinement  'SHELXL-97 (Sheldrick, 2008)'
_computing_structure_solution    'SHELXS-97 (Sheldrick, 2008)'
_diffrn_ambient_temperature      293(2)
_diffrn_measured_fraction_theta_full 0.941
_diffrn_measured_fraction_theta_max 0.941
_diffrn_measurement_device_type  'Bruker SMART APEX2 diffractometer'
_diffrn_measurement_method       'φ and ω scans'
_diffrn_radiation_monochromator  'multilayer confocal TXS mirror'
_diffrn_radiation_source         'rotating anode'
_diffrn_radiation_type           MoK\a
_diffrn_radiation_wavelength     0.71073
_diffrn_reflns_av_R_equivalents  0.0425
_diffrn_reflns_av_sigmaI/netI    0.0537
_diffrn_reflns_limit_h_max       12
_diffrn_reflns_limit_h_min       -13
_diffrn_reflns_limit_k_max       6
_diffrn_reflns_limit_k_min       -6
_diffrn_reflns_limit_l_max       20
_diffrn_reflns_limit_l_min       -20
_diffrn_reflns_number            4634
_diffrn_reflns_theta_full        25.00
_diffrn_reflns_theta_max         25.00
_diffrn_reflns_theta_min         2.41
_diffrn_standards_number         0
_exptl_absorpt_coefficient_mu    0.310
_exptl_absorpt_correction_T_max  0.99
_exptl_absorpt_correction_T_min  0.96
_exptl_absorpt_correction_type   empirical
_exptl_absorpt_process_details   'SADABS (Sheldrick, 1996)'
_exptl_crystal_colour            colourless
_exptl_crystal_density_diffrn    1.345
_exptl_crystal_density_method    'not measured'
_exptl_crystal_description       'thin prism'
_exptl_crystal_F_000             480
_exptl_crystal_size_max          0.20
_exptl_crystal_size_mid          0.02
_exptl_crystal_size_min          0.02
_refine_diff_density_max         0.135
_refine_diff_density_min         -0.229
_refine_diff_density_rms         0.036
_refine_ls_extinction_method     none
_refine_ls_goodness_of_fit_ref   1.089
_refine_ls_hydrogen_treatment    constr
_refine_ls_matrix_type           full
_refine_ls_number_parameters     145
_refine_ls_number_reflns         1897
_refine_ls_number_restraints     0
_refine_ls_restrained_S_all      1.089
_refine_ls_R_factor_all          0.0724
_refine_ls_R_factor_gt           0.0453
_refine_ls_shift/su_max          0.007
_refine_ls_shift/su_mean         0.001
_refine_ls_structure_factor_coef Fsqd
_refine_ls_weighting_details
'calc w=1/[σ²(Fo²)+(0.0513P)²+0.0784P] where P=(Fo²+2Fc²)/3'
_refine_ls_weighting_scheme      calc
_refine_ls_wR_factor_gt          0.1088
_refine_ls_wR_factor_ref         0.1213
_reflns_number_gt                1309
_reflns_number_total             1897
_reflns_threshold_expression     >2sigma(I)
_cod_data_source_file            jp203771c_si_005.cif
_cod_data_source_block           5a_B
_cod_depositor_comments
;
The following automatic conversions were performed:

'_symmetry_cell_setting' value 'Monoclinic' changed to 'monoclinic'
according to /home/saulius/struct/CIF-dictionaries/cif_core.dic
dictionary named 'cif_core.dic' version 2.4.1 from 2010-06-29.

Automatic conversion script
Id: cif_fix_values 1715 2011-07-08 13:25:40Z adriana 
;
_cod_original_sg_symbol_H-M      P2(1)/c
_cod_original_formula_sum        C13H10ClNO
_cod_database_code               1501726
loop_
_symmetry_equiv_pos_as_xyz
'x, y, z'
'-x, y+1/2, -z+1/2'
'-x, -y, -z'
'x, -y-1/2, z-1/2'
loop_
_atom_site_label
_atom_site_type_symbol
_atom_site_fract_x
_atom_site_fract_y
_atom_site_fract_z
_atom_site_U_iso_or_equiv
_atom_site_adp_type
_atom_site_occupancy
_atom_site_symmetry_multiplicity
_atom_site_calc_flag
_atom_site_refinement_flags
Cl1 Cl 0.92335(7) 1.26829(12) 0.70910(4) 0.0717(3) Uani 1 1 d .
O1 O 0.78736(19) 0.9624(4) 0.78850(9) 0.0835(7) Uani 1 1 d .
N1 N 0.82105(19) 1.0864(3) 0.66663(10) 0.0547(6) Uani 1 1 d .
C1 C 0.8299(2) 1.0439(4) 0.58360(12) 0.0479(6) Uani 1 1 d .
C6 C 0.8745(2) 0.8389(4) 0.55948(14) 0.0572(7) Uani 1 1 d .
H6 H 0.8990 0.7265 0.5964 0.069 Uiso 1 1 calc R
C5 C 0.8827(3) 0.8011(5) 0.47952(17) 0.0713(9) Uani 1 1 d .
H5 H 0.9121 0.6617 0.4624 0.086 Uiso 1 1 calc R
C4 C 0.8479(3) 0.9671(7) 0.42595(17) 0.0789(10) Uani 1 1 d .
H4 H 0.8529 0.9399 0.3722 0.095 Uiso 1 1 calc R
C3 C 0.8056(3) 1.1738(6) 0.45019(16) 0.0755(9) Uani 1 1 d .
H3 H 0.7837 1.2877 0.4132 0.091 Uiso 1 1 calc R
C2 C 0.7955(2) 1.2134(5) 0.52998(15) 0.0612(7) Uani 1 1 d .
H2 H 0.7659 1.3526 0.5469 0.073 Uiso 1 1 calc R
C7 C 0.7646(2) 0.9515(4) 0.71734(13) 0.0535(7) Uani 1 1 d .
C8 C 0.6719(2) 0.7995(4) 0.68246(13) 0.0479(6) Uani 1 1 d .
C9 C 0.5974(3) 0.8617(5) 0.61840(15) 0.0620(7) Uani 1 1 d .
H9 H 0.6075 1.0012 0.5923 0.074 Uiso 1 1 calc R
C10 C 0.5089(3) 0.7178(6) 0.59337(18) 0.0763(9) Uani 1 1 d .
H10 H 0.4590 0.7606 0.5503 0.092 Uiso 1 1 calc R
C11 C 0.4931(3) 0.5108(6) 0.63135(19) 0.0797(9) Uani 1 1 d .
H11 H 0.4328 0.4138 0.6141 0.096 Uiso 1 1 calc R
C12 C 0.5661(3) 0.4490(5) 0.69419(19) 0.0711(8) Uani 1 1 d .
H12 H 0.5559 0.3086 0.7197 0.085 Uiso 1 1 calc R
C13 C 0.6542(3) 0.5911(4) 0.72024(15) 0.0610(8) Uani 1 1 d .
H13 H 0.7028 0.5476 0.7638 0.073 Uiso 1 1 calc R
loop_
_atom_site_aniso_label
_atom_site_aniso_U_11
_atom_site_aniso_U_22
_atom_site_aniso_U_33
_atom_site_aniso_U_23
_atom_site_aniso_U_13
_atom_site_aniso_U_12
Cl1 0.0672(6) 0.0758(5) 0.0689(5) -0.0141(3) -0.0141(3) -0.0133(4)
O1 0.1037(19) 0.1034(16) 0.0410(10) 0.0008(9) -0.0096(10) -0.0161(12)
N1 0.0566(16) 0.0598(13) 0.0466(10) -0.0067(9) -0.0037(9) -0.0112(10)
C1 0.0432(17) 0.0543(15) 0.0450(12) -0.0025(11) -0.0025(10) -0.0113(12)
C6 0.055(2) 0.0584(16) 0.0581(14) 0.0004(12) 0.0037(12) -0.0067(14)
C5 0.068(2) 0.076(2) 0.0711(18) -0.0199(16) 0.0145(16) -0.0148(15)
C4 0.069(2) 0.115(3) 0.0521(15) -0.0118(18) 0.0027(15) -0.025(2)
C3 0.064(2) 0.103(2) 0.0572(16) 0.0254(16) -0.0095(14) -0.0163(18)
C2 0.055(2) 0.0651(17) 0.0625(16) 0.0115(13) -0.0035(13) -0.0026(13)
C7 0.0558(19) 0.0602(16) 0.0433(13) 0.0000(11) -0.0033(12) 0.0068(13)
C8 0.0474(18) 0.0547(15) 0.0420(12) -0.0020(11) 0.0065(11) 0.0034(12)
C9 0.057(2) 0.0710(17) 0.0566(14) 0.0099(13) -0.0014(13) -0.0080(15)
C10 0.057(2) 0.101(2) 0.0686(17) 0.0049(17) -0.0073(14) -0.0167(18)
C11 0.067(3) 0.084(2) 0.091(2) -0.0153(18) 0.0197(19) -0.0228(18)
C12 0.072(3) 0.0587(18) 0.085(2) 0.0068(15) 0.0243(18) 0.0022(16)
C13 0.064(2) 0.0610(18) 0.0596(14) 0.0056(13) 0.0127(13) 0.0063(15)
loop_
_atom_type_symbol
_atom_type_description
_atom_type_scat_dispersion_real
_atom_type_scat_dispersion_imag
_atom_type_scat_source
C C 0.0033 0.0016 'International Tables Vol C Tables 4.2.6.8 and 6.1.1.4'
H H 0.0000 0.0000 'International Tables Vol C Tables 4.2.6.8 and 6.1.1.4'
O O 0.0106 0.0060 'International Tables Vol C Tables 4.2.6.8 and 6.1.1.4'
N N 0.0061 0.0033 'International Tables Vol C Tables 4.2.6.8 and 6.1.1.4'
Cl Cl 0.1484 0.1585 'International Tables Vol C Tables 4.2.6.8 and 6.1.1.4'
loop_
_geom_angle_atom_site_label_1
_geom_angle_atom_site_label_2
_geom_angle_atom_site_label_3
_geom_angle
C7 N1 C1 126.46(19)
C7 N1 Cl1 116.38(16)
C1 N1 Cl1 114.22(15)
C6 C1 C2 121.1(2)
C6 C1 N1 119.9(2)
C2 C1 N1 119.0(2)
C1 C6 C5 119.2(3)
C1 C6 H6 120.4
C5 C6 H6 120.4
C4 C5 C6 120.1(3)
C4 C5 H5 120.0
C6 C5 H5 120.0
C5 C4 C3 120.7(3)
C5 C4 H4 119.7
C3 C4 H4 119.7
C4 C3 C2 119.9(3)
C4 C3 H3 120.0
C2 C3 H3 120.0
C1 C2 C3 119.0(3)
C1 C2 H2 120.5
C3 C2 H2 120.5
O1 C7 N1 121.0(3)
O1 C7 C8 121.3(2)
N1 C7 C8 117.59(19)
C9 C8 C13 118.5(3)
C9 C8 C7 123.8(2)
C13 C8 C7 117.5(2)
C10 C9 C8 120.1(3)
C10 C9 H9 120.0
C8 C9 H9 120.0
C9 C10 C11 120.6(3)
C9 C10 H10 119.7
C11 C10 H10 119.7
C12 C11 C10 119.5(3)
C12 C11 H11 120.2
C10 C11 H11 120.2
C11 C12 C13 120.6(3)
C11 C12 H12 119.7
C13 C12 H12 119.7
C12 C13 C8 120.7(3)
C12 C13 H13 119.7
C8 C13 H13 119.7
loop_
_geom_bond_atom_site_label_1
_geom_bond_atom_site_label_2
_geom_bond_distance
Cl1 N1 1.709(2)
O1 C7 1.215(3)
N1 C7 1.370(3)
N1 C1 1.440(3)
C1 C6 1.368(3)
C1 C2 1.372(3)
C6 C5 1.384(3)
C6 H6 0.9300
C5 C4 1.359(4)
C5 H5 0.9300
C4 C3 1.367(4)
C4 H4 0.9300
C3 C2 1.386(4)
C3 H3 0.9300
C2 H2 0.9300
C7 C8 1.483(4)
C8 C9 1.384(4)
C8 C13 1.385(3)
C9 C10 1.371(4)
C9 H9 0.9300
C10 C11 1.376(4)
C10 H10 0.9300
C11 C12 1.358(5)
C11 H11 0.9300
C12 C13 1.365(4)
C12 H12 0.9300
C13 H13 0.9300
loop_
_cod_related_entry_id
_cod_related_entry_code
_cod_related_entry_database
1 225117 ChemSpider
2 256664 PubChem
