#------------------------------------------------------------------------------
#$Date: 2018-09-27 07:13:35 +0300 (Thu, 27 Sep 2018) $
#$Revision: 211196 $
#$URL: file:///home/coder/svn-repositories/cod/cif/1/51/03/1510391.cif $
#------------------------------------------------------------------------------
#
# This file is available in the Crystallography Open Database (COD),
# http://www.crystallography.net/
#
# All data on this site have been placed in the public domain by the
# contributors.
#
data_1510391
loop_
_publ_author_name
'Seh, M.'
'Nowik, I.'
'Felner, I.'
_publ_section_title
;
 Magnetic properties and dysprosium-161 hyperfine interactions in Dy M2
 Si2 and Dy M2 Ge2 (M= 3d, 4d, 5d elements)
;
_journal_name_full
'Proc.-Int. Conf. Magn. Rare-Earths Actinides'
_journal_page_first              112
_journal_page_last               115
_journal_volume                  1983
_journal_year                    1983
_chemical_formula_sum            'Au2 Dy Si2'
_space_group_IT_number           139
_symmetry_space_group_name_Hall  '-I 4 2'
_symmetry_space_group_name_H-M   'I 4/m m m'
_cell_angle_alpha                90
_cell_angle_beta                 90
_cell_angle_gamma                90
_cell_formula_units_Z            2
_cell_length_a                   4.218
_cell_length_b                   4.218
_cell_length_c                   10.15
_cell_volume                     180.584
_citation_journal_id_ASTM        52TTAR
_cod_data_source_file            gold_478.cif
_cod_data_source_block           Au2Dy1Si2
_cod_original_formula_sum        'Au2 Dy1 Si2'
_cod_database_code               1510391
loop_
_symmetry_equiv_pos_as_xyz
x,y,z
-y,x,z
-x,-y,z
y,-x,z
x,-y,-z
y,x,-z
-x,y,-z
-y,-x,-z
-x,-y,-z
y,-x,-z
x,y,-z
-y,x,-z
-x,y,z
-y,-x,z
x,-y,z
y,x,z
x+1/2,y+1/2,z+1/2
-y+1/2,x+1/2,z+1/2
-x+1/2,-y+1/2,z+1/2
y+1/2,-x+1/2,z+1/2
x+1/2,-y+1/2,-z+1/2
y+1/2,x+1/2,-z+1/2
-x+1/2,y+1/2,-z+1/2
-y+1/2,-x+1/2,-z+1/2
-x+1/2,-y+1/2,-z+1/2
y+1/2,-x+1/2,-z+1/2
x+1/2,y+1/2,-z+1/2
-y+1/2,x+1/2,-z+1/2
-x+1/2,y+1/2,z+1/2
-y+1/2,-x+1/2,z+1/2
x+1/2,-y+1/2,z+1/2
y+1/2,x+1/2,z+1/2
loop_
_atom_site_label
_atom_site_type_symbol
_atom_site_fract_x
_atom_site_fract_y
_atom_site_fract_z
_atom_site_occupancy
_atom_site_U_iso_or_equiv
Si1 Si 0 0 0.39 1 0.0
Dy1 Dy 0 0 0 1 0.0
Au1 Au 0 0.5 0.25 1 0.0
