#------------------------------------------------------------------------------
#$Date: 2016-02-14 16:26:36 +0200 (Sun, 14 Feb 2016) $
#$Revision: 176435 $
#$URL: svn://www.crystallography.net/cod/cif/1/51/09/1510931.cif $
#------------------------------------------------------------------------------
#
# This file is available in the Crystallography Open Database (COD),
# http://www.crystallography.net/
#
# All data on this site have been placed in the public domain by the
# contributors.
#
data_1510931
loop_
_publ_author_name
'Rogl, P.'
_publ_section_title
;
 Ueber SE-Metall - Kobaltboride
;
_journal_name_full
;
Monatshefte fuer Chemie und verwandte Teile anderer Wissenschaften (109,1978-)
;
_journal_page_first              1623
_journal_page_last               1631
_journal_volume                  104
_journal_year                    1973
_chemical_formula_sum            'B2 Ce Co3'
_chemical_name_systematic        'Ce Co3 B2'
_space_group_IT_number           191
_symmetry_space_group_name_Hall  '-P 6 2'
_symmetry_space_group_name_H-M   'P 6/m m m'
_cell_angle_alpha                90
_cell_angle_beta                 90
_cell_angle_gamma                120
_cell_formula_units_Z            1
_cell_length_a                   5.061
_cell_length_b                   5.061
_cell_length_c                   3.038
_cell_volume                     67.389
_citation_journal_id_ASTM        MOCMB7
_cod_data_source_file            boron_46.cif
_cod_data_source_block           B2Ce1Co3
_cod_original_cell_volume        67.38932
_cod_original_formula_sum        'B2 Ce1 Co3'
_cod_database_code               1510931
loop_
_symmetry_equiv_pos_as_xyz
x,y,z
x-y,x,z
-y,x-y,z
-x,-y,z
-x+y,-x,z
y,-x+y,z
-y,-x,-z
x-y,-y,-z
x,x-y,-z
y,x,-z
-x+y,y,-z
-x,-x+y,-z
-x,-y,-z
-x+y,-x,-z
y,-x+y,-z
x,y,-z
x-y,x,-z
-y,x-y,-z
y,x,z
-x+y,y,z
-x,-x+y,z
-y,-x,z
x-y,-y,z
x,x-y,z
loop_
_atom_site_label
_atom_site_type_symbol
_atom_site_fract_x
_atom_site_fract_y
_atom_site_fract_z
_atom_site_occupancy
_atom_site_U_iso_or_equiv
Co1 Co 0.5 0 0.5 1 0.0
B1 B 0.3333 0.6667 0 1 0.0
Ce1 Ce 0 0 0 1 0.0
