#------------------------------------------------------------------------------
#$Date: 2016-02-14 16:26:36 +0200 (Sun, 14 Feb 2016) $
#$Revision: 176435 $
#$URL: svn://www.crystallography.net/cod/cif/1/51/12/1511299.cif $
#------------------------------------------------------------------------------
#
# This file is available in the Crystallography Open Database (COD),
# http://www.crystallography.net/
#
# All data on this site have been placed in the public domain by the
# contributors.
#
data_1511299
loop_
_publ_author_name
'Dhar, S.K.'
'Malik, S.K.'
'Vijayaraghavan, R.'
_publ_section_title
;
 Structural and magnetic investigations of some new boron containing rare
 earth intermetallic compounds
;
_journal_name_full               'Bulletin of Materials Science (Bangalore)'
_journal_page_first              263
_journal_page_last               272
_journal_volume                  6
_journal_year                    1984
_chemical_formula_sum            'B Pd3 Tb'
_chemical_name_systematic        'Pd3 Tb B'
_space_group_IT_number           221
_symmetry_space_group_name_Hall  '-P 4 2 3'
_symmetry_space_group_name_H-M   'P m -3 m'
_cell_angle_alpha                90
_cell_angle_beta                 90
_cell_angle_gamma                90
_cell_formula_units_Z            1
_cell_length_a                   4.138
_cell_length_b                   4.138
_cell_length_c                   4.138
_cell_volume                     70.855
_citation_journal_id_ASTM        BUMSDW
_cod_data_source_file            boron0-1_430.cif
_cod_data_source_block           B1Pd3Tb1
_cod_original_cell_volume        70.85516
_cod_original_formula_sum        'B1 Pd3 Tb1'
_cod_database_code               1511299
loop_
_symmetry_equiv_pos_as_xyz
x,y,z
-y,x,z
-x,-y,z
y,-x,z
x,-y,-z
y,x,-z
-x,y,-z
-y,-x,-z
z,x,y
-x,z,y
-z,-x,y
x,-z,y
z,-x,-y
x,z,-y
-z,x,-y
-x,-z,-y
y,z,x
y,-z,-x
z,y,-x
-y,z,-x
-z,-y,-x
-y,-z,x
z,-y,x
-z,y,x
-x,-y,-z
y,-x,-z
x,y,-z
-y,x,-z
-x,y,z
-y,-x,z
x,-y,z
y,x,z
-z,-x,-y
x,-z,-y
z,x,-y
-x,z,-y
-z,x,y
-x,-z,y
z,-x,y
x,z,y
-y,-z,-x
-y,z,x
-z,-y,x
y,-z,x
z,y,x
y,z,-x
-z,y,-x
z,-y,-x
loop_
_atom_site_label
_atom_site_type_symbol
_atom_site_fract_x
_atom_site_fract_y
_atom_site_fract_z
_atom_site_occupancy
_atom_site_U_iso_or_equiv
Tb1 Tb 0 0 0 1 0.0
B1 B 0.5 0.5 0.5 1 0.0
Pd1 Pd 0 0.5 0.5 1 0.0
