#------------------------------------------------------------------------------
#$Date: 2016-02-18 17:37:37 +0200 (Thu, 18 Feb 2016) $
#$Revision: 176729 $
#$URL: svn://www.crystallography.net/cod/cif/1/51/18/1511833.cif $
#------------------------------------------------------------------------------
#
# This file is available in the Crystallography Open Database (COD),
# http://www.crystallography.net/
#
# All data on this site have been placed in the public domain by the
# contributors.
#
data_1511833
loop_
_publ_author_name
'Cai, Weizhao'
'Marciniak, Jędrzej'
'Andrzejewski, Michał'
'Katrusiak, Andrzej'
_publ_section_title
;
 Pressure Effect ond,l-Mandelic Acid Racemate Crystallization
;
_journal_issue                   14
_journal_name_full               'The Journal of Physical Chemistry C'
_journal_page_first              7279
_journal_paper_doi               10.1021/jp401626a
_journal_volume                  117
_journal_year                    2013
_chemical_formula_moiety         'C8 H8 O3'
_chemical_formula_sum            'C8 H8 O3'
_chemical_formula_weight         152.14
_chemical_name_common            mandelic_acid
_chemical_name_systematic
; 
 ? 
;
_space_group_IT_number           61
_symmetry_cell_setting           orthorhombic
_symmetry_space_group_name_Hall  '-P 2ac 2ab'
_symmetry_space_group_name_H-M   'P b c a'
_atom_sites_solution_hydrogens   geom
_atom_sites_solution_primary     direct
_atom_sites_solution_secondary   difmap
_audit_creation_method           SHELXL-97
_cell_angle_alpha                90.00
_cell_angle_beta                 90.00
_cell_angle_gamma                90.00
_cell_formula_units_Z            8
_cell_length_a                   9.634(5)
_cell_length_b                   16.132(7)
_cell_length_c                   9.466(4)
_cell_measurement_pressure       480000
_cell_measurement_reflns_used    4711
_cell_measurement_temperature    296(2)
_cell_measurement_theta_max      26.89
_cell_measurement_theta_min      3.27
_cell_volume                     1471.2(12)
_computing_cell_refinement       'CrysAlis (Oxford Diffraction, 2004)'
_computing_data_collection       'CrysAlis (Oxford Diffraction, 2004)'
_computing_data_reduction        'CrysAlisRED (Oxford Diffraction, 2004)'
_computing_molecular_graphics    'Mercury (Macrae et al., 2008)'
_computing_publication_material  'SHELXL-97 (Sheldrick, 2008)'
_computing_structure_refinement  'SHELXL-97 (Sheldrick, 2008)'
_computing_structure_solution    'SHELXS-97 (Sheldrick, 2008)'
_diffrn_ambient_temperature      296(2)
_diffrn_measured_fraction_theta_full 0.324
_diffrn_measured_fraction_theta_max 0.324
_diffrn_measurement_device_type  'Kuma KM4CCD κ geometry'
_diffrn_measurement_method
;HP omega scans - for more details see:
A. Budzianowski, A. Katrusiak in High-Pressure Crystallography
(Eds.: A. Katrusiak, P. F. McMillan),
Dordrecht: Kluwer Acad. Publ., 2004 pp.157-168
;
_diffrn_radiation_monochromator  graphite
_diffrn_radiation_source         'fine-focus sealed tube'
_diffrn_radiation_type           MoK\a
_diffrn_radiation_wavelength     0.71073
_diffrn_reflns_av_R_equivalents  0.1296
_diffrn_reflns_av_sigmaI/netI    0.0798
_diffrn_reflns_limit_h_max       7
_diffrn_reflns_limit_h_min       -7
_diffrn_reflns_limit_k_max       20
_diffrn_reflns_limit_k_min       -20
_diffrn_reflns_limit_l_max       9
_diffrn_reflns_limit_l_min       -9
_diffrn_reflns_number            4711
_diffrn_reflns_theta_full        26.89
_diffrn_reflns_theta_max         26.89
_diffrn_reflns_theta_min         3.27
_exptl_absorpt_coefficient_mu    0.106
_exptl_absorpt_correction_T_max  0.927
_exptl_absorpt_correction_T_min  0.478
_exptl_absorpt_correction_type   analytical
_exptl_absorpt_process_details
;
Katrusiak, A. (2003). REDSHABS - Program for correcting
reflections intensities for DAC absorption, gasket shadowing
and sample crystal absorption. Adam Mickiewicz University, Poznań.
Katrusiak, A. (2004). Z. Kristallogr. 219, 461-467
;
_exptl_crystal_colour            colourless
_exptl_crystal_density_diffrn    1.374
_exptl_crystal_density_method    'not measured'
_exptl_crystal_description       plate-shaped
_exptl_crystal_F_000             640
_exptl_crystal_size_max          0.39
_exptl_crystal_size_mid          0.30
_exptl_crystal_size_min          0.15
_refine_diff_density_max         0.246
_refine_diff_density_min         -0.218
_refine_diff_density_rms         0.062
_refine_ls_extinction_method     none
_refine_ls_goodness_of_fit_ref   1.390
_refine_ls_hydrogen_treatment    constr
_refine_ls_matrix_type           full
_refine_ls_number_parameters     100
_refine_ls_number_reflns         512
_refine_ls_number_restraints     175
_refine_ls_restrained_S_all      1.211
_refine_ls_R_factor_all          0.2630
_refine_ls_R_factor_gt           0.2416
_refine_ls_shift/su_max          0.000
_refine_ls_shift/su_mean         0.000
_refine_ls_structure_factor_coef Fsqd
_refine_ls_weighting_details
'calc w=1/[σ²(Fo²)+(0.0196P)²+24.2602P] where P=(Fo²+2Fc²)/3'
_refine_ls_weighting_scheme      calc
_refine_ls_wR_factor_gt          0.3427
_refine_ls_wR_factor_ref         0.3543
_reflns_number_gt                460
_reflns_number_total             512
_reflns_threshold_expression     >2sigma(I)
_cod_data_source_file            jp401626a_si_002.cif
_cod_data_source_block           mandelic_acid_0.48GPa(CCDC923828)
_cod_depositor_comments
;
The following automatic conversions were performed:

'_symmetry_cell_setting' value 'Orthorhombic' changed to
'orthorhombic' according to
/home/saulius/struct/CIF-dictionaries/cif_core.dic dictionary named
'cif_core.dic' version 2.4.2 from 2011-04-26.

Automatic conversion script
Id: cif_fix_values 1891 2012-01-12 08:04:46Z andrius 
;
_cod_original_sg_symbol_H-M      ' P b c a'
_cod_database_code               1511833
loop_
_symmetry_equiv_pos_as_xyz
'x, y, z'
'-x+1/2, -y, z+1/2'
'-x, y+1/2, -z+1/2'
'x+1/2, -y+1/2, -z'
'-x, -y, -z'
'x-1/2, y, -z-1/2'
'x, -y-1/2, z-1/2'
'-x-1/2, y-1/2, z'
loop_
_atom_site_label
_atom_site_type_symbol
_atom_site_fract_x
_atom_site_fract_y
_atom_site_fract_z
_atom_site_U_iso_or_equiv
_atom_site_adp_type
_atom_site_occupancy
_atom_site_symmetry_multiplicity
_atom_site_calc_flag
_atom_site_refinement_flags
C1 C 0.268(3) 0.5331(10) 0.994(2) 0.042(4) Uani 1 1 d U
C2 C 0.292(2) 0.5691(9) 0.8580(18) 0.047(4) Uani 1 1 d DU
H2 H 0.2086 0.5596 0.8015 0.057 Uiso 1 1 calc R
C3 C 0.313(2) 0.6595(11) 0.8663(17) 0.057(4) Uani 1 1 d DU
C4 C 0.412(3) 0.6952(11) 0.947(2) 0.075(5) Uani 1 1 d DU
H4 H 0.4699 0.6612 0.9997 0.090 Uiso 1 1 calc R
C5 C 0.430(3) 0.7805(12) 0.954(2) 0.082(6) Uani 1 1 d DU
H5 H 0.4992 0.8030 1.0106 0.098 Uiso 1 1 calc R
C6 C 0.344(3) 0.8309(14) 0.877(2) 0.085(6) Uani 1 1 d DU
H6 H 0.3553 0.8881 0.8808 0.102 Uiso 1 1 calc R
C7 C 0.241(3) 0.7964(11) 0.792(2) 0.079(5) Uani 1 1 d DU
H7 H 0.1820 0.8293 0.7385 0.095 Uiso 1 1 calc R
C8 C 0.231(3) 0.7121(11) 0.7916(19) 0.072(5) Uani 1 1 d DU
H8 H 0.1618 0.6887 0.7354 0.087 Uiso 1 1 calc R
O1 O 0.1377(19) 0.5408(6) 1.0472(11) 0.052(4) Uani 1 1 d U
H1 H 0.1364 0.5222 1.1460 0.078 Uiso 1 1 calc RD
O2 O 0.3484(15) 0.4966(6) 1.0768(14) 0.057(4) Uani 1 1 d U
O3 O 0.4064(14) 0.5262(5) 0.7871(10) 0.039(3) Uani 1 1 d DU
H3 H 0.4801 0.5140 0.8559 0.058 Uiso 1 1 calc R
loop_
_atom_site_aniso_label
_atom_site_aniso_U_11
_atom_site_aniso_U_22
_atom_site_aniso_U_33
_atom_site_aniso_U_23
_atom_site_aniso_U_13
_atom_site_aniso_U_12
C1 0.042(5) 0.042(4) 0.042(4) -0.001(3) 0.000(3) 0.001(3)
C2 0.047(9) 0.056(5) 0.039(6) 0.001(5) -0.002(6) 0.001(6)
C3 0.059(9) 0.058(5) 0.055(8) 0.006(5) 0.004(6) 0.002(5)
C4 0.074(10) 0.073(6) 0.076(9) -0.013(7) -0.007(7) -0.004(7)
C5 0.081(10) 0.080(7) 0.084(9) -0.004(7) -0.007(7) -0.008(7)
C6 0.086(6) 0.084(6) 0.086(6) 0.000(3) 0.000(3) -0.001(3)
C7 0.080(10) 0.073(6) 0.084(9) 0.013(7) -0.005(7) 0.009(7)
C8 0.075(10) 0.068(6) 0.073(9) 0.011(7) -0.007(7) 0.006(7)
O1 0.053(7) 0.051(5) 0.052(7) -0.009(5) 0.013(5) 0.004(6)
O2 0.055(8) 0.063(6) 0.052(6) 0.017(5) -0.004(6) -0.002(6)
O3 0.030(9) 0.055(5) 0.031(6) -0.002(5) -0.014(4) -0.006(5)
loop_
_atom_type_symbol
_atom_type_description
_atom_type_scat_dispersion_real
_atom_type_scat_dispersion_imag
_atom_type_scat_source
C C 0.0033 0.0016 'International Tables Vol C Tables 4.2.6.8 and 6.1.1.4'
H H 0.0000 0.0000 'International Tables Vol C Tables 4.2.6.8 and 6.1.1.4'
O O 0.0106 0.0060 'International Tables Vol C Tables 4.2.6.8 and 6.1.1.4'
loop_
_geom_angle_atom_site_label_1
_geom_angle_atom_site_label_2
_geom_angle_atom_site_label_3
_geom_angle
O2 C1 O1 112.7(19)
O2 C1 C2 131(2)
O1 C1 C2 116(2)
O3 C2 C1 110.0(15)
O3 C2 C3 113.2(12)
C1 C2 C3 112.0(13)
C4 C3 C8 116.1(18)
C4 C3 C2 123(2)
C8 C3 C2 121(2)
C3 C4 C5 123(2)
C6 C5 C4 119(3)
C7 C6 C5 120(2)
C6 C7 C8 117(2)
C3 C8 C7 125(2)
loop_
_geom_bond_atom_site_label_1
_geom_bond_atom_site_label_2
_geom_bond_distance
C1 O2 1.24(3)
C1 O1 1.36(3)
C1 C2 1.44(2)
C2 O3 1.46(2)
C2 C3 1.47(2)
C3 C4 1.35(3)
C3 C8 1.36(3)
C4 C5 1.39(3)
C5 C6 1.37(3)
C6 C7 1.39(3)
C7 C8 1.36(2)
loop_
_geom_torsion_atom_site_label_1
_geom_torsion_atom_site_label_2
_geom_torsion_atom_site_label_3
_geom_torsion_atom_site_label_4
_geom_torsion
O2 C1 C2 O3 28(3)
O1 C1 C2 O3 -153.9(16)
O2 C1 C2 C3 -99(2)
O1 C1 C2 C3 79(2)
O3 C2 C3 C4 -68.3(16)
C1 C2 C3 C4 56.7(19)
O3 C2 C3 C8 111.7(16)
C1 C2 C3 C8 -123.3(19)
C8 C3 C4 C5 0.0(3)
C2 C3 C4 C5 180.0(3)
C3 C4 C5 C6 0.1(3)
C4 C5 C6 C7 -0.2(6)
C5 C6 C7 C8 0.2(8)
C4 C3 C8 C7 0.0(7)
C2 C3 C8 C7 -180.0(5)
C6 C7 C8 C3 -0.1(9)
