#------------------------------------------------------------------------------
#$Date: 2016-02-18 17:37:37 +0200 (Thu, 18 Feb 2016) $
#$Revision: 176729 $
#$URL: svn://www.crystallography.net/cod/cif/1/51/18/1511834.cif $
#------------------------------------------------------------------------------
#
# This file is available in the Crystallography Open Database (COD),
# http://www.crystallography.net/
#
# All data on this site have been placed in the public domain by the
# contributors.
#
data_1511834
loop_
_publ_author_name
'Cai, Weizhao'
'Marciniak, Jędrzej'
'Andrzejewski, Michał'
'Katrusiak, Andrzej'
_publ_section_title
;
 Pressure Effect ond,l-Mandelic Acid Racemate Crystallization
;
_journal_issue                   14
_journal_name_full               'The Journal of Physical Chemistry C'
_journal_page_first              7279
_journal_paper_doi               10.1021/jp401626a
_journal_volume                  117
_journal_year                    2013
_chemical_formula_moiety         'C8 H8 O3'
_chemical_formula_sum            'C8 H8 O3'
_chemical_formula_weight         152.14
_chemical_name_common            mandelic_acid
_chemical_name_systematic
; 
 ? 
;
_space_group_IT_number           61
_symmetry_cell_setting           orthorhombic
_symmetry_space_group_name_Hall  '-P 2ac 2ab'
_symmetry_space_group_name_H-M   'P b c a'
_atom_sites_solution_hydrogens   geom
_atom_sites_solution_primary     direct
_atom_sites_solution_secondary   difmap
_audit_creation_method           SHELXL-97
_cell_angle_alpha                90.00
_cell_angle_beta                 90.00
_cell_angle_gamma                90.00
_cell_formula_units_Z            8
_cell_length_a                   9.637(2)
_cell_length_b                   16.135(8)
_cell_length_c                   9.365(2)
_cell_measurement_pressure       650000
_cell_measurement_reflns_used    5357
_cell_measurement_temperature    296(2)
_cell_measurement_theta_max      28.03
_cell_measurement_theta_min      3.29
_cell_volume                     1456.2(8)
_computing_cell_refinement       'CrysAlis (Oxford Diffraction, 2004)'
_computing_data_collection       'CrysAlis (Oxford Diffraction, 2004)'
_computing_data_reduction        'CrysAlisRED (Oxford Diffraction, 2004)'
_computing_molecular_graphics    'Mercury (Macrae et al., 2008)'
_computing_publication_material  'SHELXL-97 (Sheldrick, 2008)'
_computing_structure_refinement  'SHELXL-97 (Sheldrick, 2008)'
_computing_structure_solution    'SHELXS-97 (Sheldrick, 2008)'
_diffrn_ambient_temperature      296(2)
_diffrn_measured_fraction_theta_full 0.255
_diffrn_measured_fraction_theta_max 0.255
_diffrn_measurement_device_type  'Oxford Diffraction Xcalibur Eos'
_diffrn_measurement_method
;HP omega scans - for more details see:
A. Budzianowski, A. Katrusiak in High-Pressure Crystallography
(Eds.: A. Katrusiak, P. F. McMillan),
Dordrecht: Kluwer Acad. Publ., 2004 pp.157-168
;
_diffrn_radiation_monochromator  graphite
_diffrn_radiation_source         'fine-focus sealed tube'
_diffrn_radiation_type           MoK\a
_diffrn_radiation_wavelength     0.71073
_diffrn_reflns_av_R_equivalents  0.1932
_diffrn_reflns_av_sigmaI/netI    0.0969
_diffrn_reflns_limit_h_max       12
_diffrn_reflns_limit_h_min       -12
_diffrn_reflns_limit_k_max       4
_diffrn_reflns_limit_k_min       -4
_diffrn_reflns_limit_l_max       12
_diffrn_reflns_limit_l_min       -12
_diffrn_reflns_number            5357
_diffrn_reflns_theta_full        28.03
_diffrn_reflns_theta_max         28.03
_diffrn_reflns_theta_min         3.29
_exptl_absorpt_coefficient_mu    0.107
_exptl_absorpt_correction_T_max  0.937
_exptl_absorpt_correction_T_min  0.512
_exptl_absorpt_correction_type   analytical
_exptl_absorpt_process_details
;
Katrusiak, A. (2003). REDSHABS - Program for correcting
reflections intensities for DAC absorption, gasket shadowing
and sample crystal absorption. Adam Mickiewicz University, Poznań.
Katrusiak, A. (2004). Z. Kristallogr. 219, 461-467
;
_exptl_crystal_colour            colourless
_exptl_crystal_density_diffrn    1.388
_exptl_crystal_density_method    'not measured'
_exptl_crystal_description       plate-shaped
_exptl_crystal_F_000             640
_exptl_crystal_size_max          0.44
_exptl_crystal_size_mid          0.42
_exptl_crystal_size_min          0.33
_refine_diff_density_max         0.128
_refine_diff_density_min         -0.126
_refine_diff_density_rms         0.034
_refine_ls_extinction_method     none
_refine_ls_goodness_of_fit_ref   1.403
_refine_ls_hydrogen_treatment    constr
_refine_ls_matrix_type           full
_refine_ls_number_parameters     100
_refine_ls_number_reflns         451
_refine_ls_number_restraints     85
_refine_ls_restrained_S_all      1.369
_refine_ls_R_factor_all          0.2116
_refine_ls_R_factor_gt           0.1374
_refine_ls_shift/su_max          0.000
_refine_ls_shift/su_mean         0.000
_refine_ls_structure_factor_coef Fsqd
_refine_ls_weighting_details
'calc w=1/[σ²(Fo²)+(0.0753P)²+3.9848P] where P=(Fo²+2Fc²)/3'
_refine_ls_weighting_scheme      calc
_refine_ls_wR_factor_gt          0.2624
_refine_ls_wR_factor_ref         0.2908
_reflns_number_gt                333
_reflns_number_total             451
_reflns_threshold_expression     >2sigma(I)
_cod_data_source_file            jp401626a_si_002.cif
_cod_data_source_block           mandelic_acid_0.65GPa(CCDC923829)
_cod_depositor_comments
;
The following automatic conversions were performed:

'_symmetry_cell_setting' value 'Orthorhombic' changed to
'orthorhombic' according to
/home/saulius/struct/CIF-dictionaries/cif_core.dic dictionary named
'cif_core.dic' version 2.4.2 from 2011-04-26.

Automatic conversion script
Id: cif_fix_values 1891 2012-01-12 08:04:46Z andrius 
;
_cod_original_cell_volume        1456.1(8)
_cod_original_sg_symbol_H-M      ' P b c a'
_cod_database_code               1511834
loop_
_symmetry_equiv_pos_as_xyz
'x, y, z'
'-x+1/2, -y, z+1/2'
'-x, y+1/2, -z+1/2'
'x+1/2, -y+1/2, -z'
'-x, -y, -z'
'x-1/2, y, -z-1/2'
'x, -y-1/2, z-1/2'
'-x-1/2, y-1/2, z'
loop_
_atom_site_label
_atom_site_type_symbol
_atom_site_fract_x
_atom_site_fract_y
_atom_site_fract_z
_atom_site_U_iso_or_equiv
_atom_site_adp_type
_atom_site_occupancy
_atom_site_symmetry_multiplicity
_atom_site_calc_flag
_atom_site_refinement_flags
C1 C 0.2671(10) 0.531(2) 1.0006(12) 0.042(5) Uani 1 1 d U
C2 C 0.2933(13) 0.560(3) 0.8539(13) 0.053(5) Uani 1 1 d U
H2 H 0.2113 0.5471 0.7960 0.064 Uiso 1 1 calc RD
C3 C 0.3092(12) 0.662(2) 0.8630(12) 0.039(6) Uani 1 1 d DU
C4 C 0.4176(16) 0.693(3) 0.9514(15) 0.082(8) Uani 1 1 d DU
H4 H 0.4767 0.6588 1.0040 0.098 Uiso 1 1 calc R
C5 C 0.4271(19) 0.789(4) 0.9509(18) 0.101(10) Uani 1 1 d DU
H5 H 0.4957 0.8131 1.0065 0.121 Uiso 1 1 calc R
C6 C 0.348(2) 0.835(3) 0.8804(18) 0.112(8) Uani 1 1 d DU
H6 H 0.3608 0.8926 0.8854 0.134 Uiso 1 1 calc R
C7 C 0.250(2) 0.805(4) 0.8006(19) 0.132(12) Uani 1 1 d DU
H7 H 0.1930 0.8413 0.7498 0.159 Uiso 1 1 calc R
C8 C 0.2267(15) 0.715(2) 0.7890(13) 0.075(7) Uani 1 1 d DU
H8 H 0.1558 0.6953 0.7312 0.090 Uiso 1 1 calc R
O1 O 0.1361(6) 0.5360(11) 1.0425(6) 0.046(2) Uani 1 1 d U
H1 H 0.1285 0.5182 1.1426 0.069 Uiso 1 1 calc RD
O2 O 0.3537(7) 0.4973(14) 1.0701(8) 0.062(5) Uani 1 1 d U
O3 O 0.4075(6) 0.5243(11) 0.7883(6) 0.042(5) Uani 1 1 d DU
H3 H 0.4793 0.5127 0.8602 0.064 Uiso 1 1 calc R
loop_
_atom_site_aniso_label
_atom_site_aniso_U_11
_atom_site_aniso_U_22
_atom_site_aniso_U_33
_atom_site_aniso_U_23
_atom_site_aniso_U_13
_atom_site_aniso_U_12
C1 0.036(5) 0.042(13) 0.047(5) -0.004(9) 0.004(4) -0.004(8)
C2 0.053(5) 0.053(5) 0.053(5) 0.0000(11) 0.0001(11) -0.0001(11)
C3 0.038(5) 0.040(14) 0.039(5) -0.008(9) 0.007(5) 0.013(9)
C4 0.080(9) 0.081(15) 0.084(9) 0.004(10) 0.000(6) -0.001(10)
C5 0.096(10) 0.101(16) 0.105(11) 0.001(10) -0.002(7) 0.000(10)
C6 0.109(9) 0.111(15) 0.114(10) -0.002(10) 0.003(8) 0.002(10)
C7 0.133(13) 0.132(17) 0.133(14) -0.001(11) -0.006(9) -0.001(11)
C8 0.073(8) 0.076(14) 0.076(8) 0.013(10) -0.009(6) -0.002(10)
O1 0.046(2) 0.046(3) 0.046(2) 0.0001(11) 0.0003(10) -0.0002(11)
O2 0.050(4) 0.065(13) 0.072(4) 0.016(8) -0.010(4) 0.013(7)
O3 0.045(4) 0.040(13) 0.042(3) -0.003(7) -0.001(3) 0.005(6)
loop_
_atom_type_symbol
_atom_type_description
_atom_type_scat_dispersion_real
_atom_type_scat_dispersion_imag
_atom_type_scat_source
C C 0.0033 0.0016 'International Tables Vol C Tables 4.2.6.8 and 6.1.1.4'
H H 0.0000 0.0000 'International Tables Vol C Tables 4.2.6.8 and 6.1.1.4'
O O 0.0106 0.0060 'International Tables Vol C Tables 4.2.6.8 and 6.1.1.4'
loop_
_geom_angle_atom_site_label_1
_geom_angle_atom_site_label_2
_geom_angle_atom_site_label_3
_geom_angle
O2 C1 O1 122.5(13)
O2 C1 C2 122.4(12)
O1 C1 C2 114.7(13)
O3 C2 C1 115(2)
O3 C2 C3 111.1(18)
C1 C2 C3 107(2)
O3 C2 H2 108.1
C1 C2 H2 108.1
C3 C2 H2 108.1
C4 C3 C8 120(3)
C4 C3 C2 117(3)
C8 C3 C2 123.5(18)
C3 C4 C5 113(3)
C3 C4 H4 123.4
C5 C4 H4 123.4
C6 C5 C4 124(3)
C6 C5 H5 117.8
C4 C5 H5 117.8
C7 C6 C5 121(6)
C7 C6 H6 119.5
C5 C6 H6 119.5
C6 C7 C8 121(4)
C6 C7 H7 119.3
C8 C7 H7 119.3
C3 C8 C7 120(2)
C3 C8 H8 120.0
C7 C8 H8 120.0
C1 O1 H1 109.5
C2 O3 H3 109.5
loop_
_geom_bond_atom_site_label_1
_geom_bond_atom_site_label_2
_geom_bond_distance
C1 O2 1.187(19)
C1 O1 1.326(11)
C1 C2 1.47(2)
C2 O3 1.38(2)
C2 C3 1.65(5)
C2 H2 0.9800
C3 C4 1.42(3)
C3 C8 1.367(13)
C4 C5 1.55(8)
C4 H4 0.9300
C5 C6 1.26(5)
C5 H5 0.9300
C6 C7 1.30(4)
C6 H6 0.9300
C7 C8 1.47(8)
C7 H7 0.9300
C8 H8 0.9300
O1 H1 0.9830
O3 H3 0.9830
loop_
_geom_torsion_atom_site_label_1
_geom_torsion_atom_site_label_2
_geom_torsion_atom_site_label_3
_geom_torsion_atom_site_label_4
_geom_torsion
O2 C1 C2 O3 19(4)
O1 C1 C2 O3 -154(2)
O2 C1 C2 C3 -105(3)
O1 C1 C2 C3 83(2)
O3 C2 C3 C4 -65.8(11)
C1 C2 C3 C4 59.8(12)
O3 C2 C3 C8 112.8(10)
C1 C2 C3 C8 -121.6(10)
C8 C3 C4 C5 0.0(3)
C2 C3 C4 C5 178.6(9)
C3 C4 C5 C6 -0.1(3)
C4 C5 C6 C7 0.2(6)
C5 C6 C7 C8 -0.2(8)
C4 C3 C8 C7 0.0(6)
C2 C3 C8 C7 -178.6(10)
C6 C7 C8 C3 0.1(8)
