#------------------------------------------------------------------------------
#$Date: 2016-02-18 17:37:37 +0200 (Thu, 18 Feb 2016) $
#$Revision: 176729 $
#$URL: svn://www.crystallography.net/cod/cif/1/51/35/1513577.cif $
#------------------------------------------------------------------------------
#
# This file is available in the Crystallography Open Database (COD),
# http://www.crystallography.net/
#
# All data on this site have been placed in the public domain by the
# contributors.
#
data_1513577
loop_
_publ_author_name
'Mukherjee, Arijit'
'Desiraju, Gautam R.'
_publ_section_title
;
 Halogen bonds in some dihalogenated phenols: applications to crystal
 engineering
;
_journal_issue                   1
_journal_name_full               IUCrJ
_journal_page_first              49
_journal_page_last               60
_journal_paper_doi               10.1107/S2052252513025657
_journal_volume                  1
_journal_year                    2014
_chemical_formula_moiety         'C6 H4 Cl2 O'
_chemical_formula_sum            'C6 H4 Cl2 O'
_chemical_formula_weight         162.99
_chemical_name_common            3,4-dichlorophenol
_space_group_IT_number           88
_symmetry_cell_setting           tetragonal
_symmetry_space_group_name_Hall  '-I 4ad'
_symmetry_space_group_name_H-M   'I 41/a :2'
_atom_sites_solution_hydrogens   geom
_atom_sites_solution_primary     direct
_atom_sites_solution_secondary   difmap
_audit_creation_method           SHELXL-97
_audit_update_record
;
2013-09-23 # Formatted by IUCr publCIF

;
_cell_angle_alpha                90.00
_cell_angle_beta                 90.00
_cell_angle_gamma                90.00
_cell_formula_units_Z            16
_cell_length_a                   26.127(9)
_cell_length_b                   26.127(9)
_cell_length_c                   3.7926(9)
_cell_measurement_reflns_used    7940
_cell_measurement_temperature    150(2)
_cell_measurement_theta_max      27.5
_cell_measurement_theta_min      3.1
_cell_volume                     2588.9(14)
_computing_cell_refinement       CrystalClear
_computing_data_collection       'CrystalClear (Rigaku, 2009)'
_computing_data_reduction        CrystalClear
_computing_structure_refinement  'SHELXL-97 (Sheldrick, 2008)'
_computing_structure_solution    'SHELXL-97 (Sheldrick, 2008)'
_diffrn_ambient_temperature      150(2)
_diffrn_detector                 CCD
_diffrn_detector_area_resol_mean 13.6612
_diffrn_measured_fraction_theta_full 0.997
_diffrn_measured_fraction_theta_max 0.997
_diffrn_measurement_device
;
XtaLABmini: Fixed Chi 2 circle
;
_diffrn_measurement_device_type
;
Rigaku Mercury375R (2x2 bin mode)
;
_diffrn_measurement_specimen_support Fiber
_diffrn_radiation_monochromator  'Graphite Monochromator'
_diffrn_radiation_source         'fine-focus sealed tube'
_diffrn_radiation_type           MoK\a
_diffrn_radiation_wavelength     0.71073
_diffrn_reflns_av_R_equivalents  0.0881
_diffrn_reflns_av_sigmaI/netI    0.0512
_diffrn_reflns_limit_h_max       33
_diffrn_reflns_limit_h_min       -33
_diffrn_reflns_limit_k_max       33
_diffrn_reflns_limit_k_min       -33
_diffrn_reflns_limit_l_max       4
_diffrn_reflns_limit_l_min       -4
_diffrn_reflns_number            9554
_diffrn_reflns_theta_full        27.48
_diffrn_reflns_theta_max         27.48
_diffrn_reflns_theta_min         3.12
_exptl_absorpt_coefficient_mu    0.902
_exptl_absorpt_correction_T_max  1.000
_exptl_absorpt_correction_T_min  0.587
_exptl_absorpt_correction_type   multi-scan
_exptl_absorpt_process_details   'Jacobson, R. (1998) Private communication'
_exptl_crystal_colour            colourless
_exptl_crystal_density_diffrn    1.673
_exptl_crystal_density_method    'not measured'
_exptl_crystal_description       needle
_exptl_crystal_F_000             1312
_exptl_crystal_size_max          0.4
_exptl_crystal_size_mid          0.1
_exptl_crystal_size_min          0.1
_refine_diff_density_max         0.242
_refine_diff_density_min         -0.322
_refine_diff_density_rms         0.066
_refine_ls_extinction_method     none
_refine_ls_goodness_of_fit_ref   1.076
_refine_ls_hydrogen_treatment    mixed
_refine_ls_matrix_type           full
_refine_ls_number_parameters     86
_refine_ls_number_reflns         1453
_refine_ls_number_restraints     0
_refine_ls_restrained_S_all      1.076
_refine_ls_R_factor_all          0.0544
_refine_ls_R_factor_gt           0.0409
_refine_ls_shift/su_max          0.001
_refine_ls_shift/su_mean         0.000
_refine_ls_structure_factor_coef Fsqd
_refine_ls_weighting_details
'calc w=1/[σ²(Fo²)+(0.0392P)²+0.3254P] where P=(Fo²+2Fc²)/3'
_refine_ls_weighting_scheme      calc
_refine_ls_wR_factor_gt          0.0896
_refine_ls_wR_factor_ref         0.0956
_reflns_number_gt                1178
_reflns_number_total             1453
_reflns_threshold_expression     I>2σ(I)
_cod_data_source_file            bi5001sup1.cif
_cod_data_source_block           1_150K
_cod_original_sg_symbol_H-M      I41/a
_cod_database_code               1513577
_cod_database_fobs_code          1513577
#BEGIN Tags that were not found in dictionaries:
_publcif_datablock.id            {f77d1dfe-f5be-40b4-8791-9259d0c800a1}
#END Tags that were not found in dictionaries
loop_
_symmetry_equiv_pos_as_xyz
'x, y, z'
'-x+1/2, -y, z+1/2'
'-y+3/4, x+1/4, z+1/4'
'y+3/4, -x+3/4, z+3/4'
'x+1/2, y+1/2, z+1/2'
'-x+1, -y+1/2, z+1'
'-y+5/4, x+3/4, z+3/4'
'y+5/4, -x+5/4, z+5/4'
'-x, -y, -z'
'x-1/2, y, -z-1/2'
'y-3/4, -x-1/4, -z-1/4'
'-y-3/4, x-3/4, -z-3/4'
'-x+1/2, -y+1/2, -z+1/2'
'x, y+1/2, -z'
'y-1/4, -x+1/4, -z+1/4'
'-y-1/4, x-1/4, -z-1/4'
loop_
_atom_site_label
_atom_site_type_symbol
_atom_site_fract_x
_atom_site_fract_y
_atom_site_fract_z
_atom_site_U_iso_or_equiv
_atom_site_adp_type
_atom_site_occupancy
_atom_site_symmetry_multiplicity
_atom_site_calc_flag
_atom_site_refinement_flags
C1 C 0.82926(8) 0.91631(9) 0.4564(6) 0.0227(5) Uani 1 1 d .
C2 C 0.87165(9) 0.94241(9) 0.3354(6) 0.0238(5) Uani 1 1 d .
H2 H 0.8724 0.9780 0.3401 0.029 Uiso 1 1 calc R
C3 C 0.91322(8) 0.91507(9) 0.2065(6) 0.0233(5) Uani 1 1 d .
C4 C 0.91206(9) 0.86212(9) 0.1919(6) 0.0235(5) Uani 1 1 d .
C5 C 0.86880(9) 0.83660(9) 0.3061(6) 0.0267(5) Uani 1 1 d .
H5 H 0.8676 0.8011 0.2939 0.032 Uiso 1 1 calc R
C6 C 0.82728(9) 0.86323(9) 0.4382(6) 0.0244(5) Uani 1 1 d .
H6 H 0.7983 0.8458 0.5141 0.029 Uiso 1 1 calc R
O1 O 0.78801(6) 0.94248(7) 0.5938(4) 0.0284(4) Uani 1 1 d .
Cl1 Cl 0.96620(2) 0.94888(2) 0.06083(17) 0.0330(2) Uani 1 1 d .
Cl2 Cl 0.96406(2) 0.82814(2) 0.03726(16) 0.0313(2) Uani 1 1 d .
H1O H 0.7959(12) 0.9737(12) 0.655(8) 0.052(9) Uiso 1 1 d .
loop_
_atom_site_aniso_label
_atom_site_aniso_U_11
_atom_site_aniso_U_22
_atom_site_aniso_U_33
_atom_site_aniso_U_23
_atom_site_aniso_U_13
_atom_site_aniso_U_12
C1 0.0209(11) 0.0273(12) 0.0199(11) -0.0014(10) -0.0036(9) 0.0036(9)
C2 0.0272(12) 0.0199(11) 0.0242(12) 0.0004(9) -0.0049(10) -0.0012(9)
C3 0.0218(11) 0.0291(12) 0.0190(11) 0.0032(10) -0.0028(9) -0.0041(10)
C4 0.0227(11) 0.0281(12) 0.0198(12) -0.0013(10) -0.0038(9) 0.0038(9)
C5 0.0300(13) 0.0205(11) 0.0296(13) -0.0007(10) -0.0071(11) -0.0005(9)
C6 0.0216(11) 0.0270(12) 0.0247(12) 0.0036(10) -0.0020(10) -0.0038(9)
O1 0.0225(9) 0.0280(10) 0.0348(10) -0.0054(8) -0.0004(7) 0.0000(7)
Cl1 0.0275(3) 0.0325(3) 0.0390(4) 0.0038(3) 0.0043(3) -0.0075(2)
Cl2 0.0261(3) 0.0320(3) 0.0357(4) -0.0061(3) 0.0009(3) 0.0034(2)
loop_
_atom_type_symbol
_atom_type_description
_atom_type_scat_dispersion_real
_atom_type_scat_dispersion_imag
_atom_type_scat_source
C C 0.0033 0.0016 'International Tables Vol C Tables 4.2.6.8 and 6.1.1.4'
H H 0.0000 0.0000 'International Tables Vol C Tables 4.2.6.8 and 6.1.1.4'
O O 0.0106 0.0060 'International Tables Vol C Tables 4.2.6.8 and 6.1.1.4'
Cl Cl 0.1484 0.1585 'International Tables Vol C Tables 4.2.6.8 and 6.1.1.4'
loop_
_geom_angle_atom_site_label_1
_geom_angle_atom_site_label_2
_geom_angle_atom_site_label_3
_geom_angle
O1 C1 C2 120.5(2)
O1 C1 C6 119.0(2)
C2 C1 C6 120.5(2)
C1 C2 C3 119.4(2)
C4 C3 C2 120.7(2)
C4 C3 Cl1 120.95(18)
C2 C3 Cl1 118.35(18)
C5 C4 C3 119.2(2)
C5 C4 Cl2 120.15(18)
C3 C4 Cl2 120.67(18)
C4 C5 C6 120.8(2)
C5 C6 C1 119.4(2)
loop_
_geom_bond_atom_site_label_1
_geom_bond_atom_site_label_2
_geom_bond_distance
C1 O1 1.379(3)
C1 C2 1.379(3)
C1 C6 1.389(3)
C2 C3 1.389(3)
C3 C4 1.385(3)
C3 Cl1 1.732(2)
C4 C5 1.382(3)
C4 Cl2 1.726(2)
C5 C6 1.383(3)
