#------------------------------------------------------------------------------
#$Date: 2016-02-18 17:37:37 +0200 (Thu, 18 Feb 2016) $
#$Revision: 176729 $
#$URL: svn://www.crystallography.net/cod/cif/1/51/79/1517998.cif $
#------------------------------------------------------------------------------
#
# This file is available in the Crystallography Open Database (COD),
# http://www.crystallography.net/
#
# All data on this site have been placed in the public domain by the
# contributors.
#
data_1517998
loop_
_publ_author_name
'Bruce-Smith, Ian F.'
'Zakharov, Boris A.'
'Stare, Jernej'
'Boldyreva, Elena V.'
'Pulham, Colin R.'
_publ_section_title
;
 Structural Properties of Nickel Dimethylglyoxime at High Pressure:
 Single-Crystal X-ray Diffraction and DFT Studies
;
_journal_issue                   42
_journal_name_full               'The Journal of Physical Chemistry C'
_journal_page_first              24705
_journal_paper_doi               10.1021/jp508939g
_journal_volume                  118
_journal_year                    2014
_chemical_formula_moiety         'C8 H14 N4 Ni O4'
_chemical_formula_sum            'C8 H14 N4 Ni O4'
_chemical_formula_weight         288.94
_chemical_name_common            'Nickel Dimethylglyoxime'
_chemical_name_systematic
; 
Nickel Dimethylglyoxime
;
_space_group_IT_number           72
_symmetry_cell_setting           orthorhombic
_symmetry_space_group_name_Hall  '-I 2 2c'
_symmetry_space_group_name_H-M   'I b a m'
_atom_sites_solution_hydrogens   geom
_atom_sites_solution_primary     direct
_atom_sites_solution_secondary   difmap
_audit_creation_method           SHELXL-97
_cell_angle_alpha                90.00
_cell_angle_beta                 90.00
_cell_angle_gamma                90.00
_cell_formula_units_Z            4
_cell_length_a                   16.4739(16)
_cell_length_b                   10.2024(14)
_cell_length_c                   6.2972(4)
_cell_measurement_reflns_used    848
_cell_measurement_temperature    293(2)
_cell_measurement_theta_max      26.7820
_cell_measurement_theta_min      4.2020
_cell_volume                     1058.39(19)
_computing_cell_refinement       'CrysAlisPro (Oxford Diffraction, 2010)'
_computing_data_collection       'CrysAlisPro (Oxford Diffraction, 2010)'
_computing_data_reduction        'CrysAlisPro (Oxford Diffraction, 2010)'
_computing_molecular_graphics    'Mercury (Macrae et al., 2006)'
_computing_structure_refinement  'SHELXL-97 (Sheldrick, 1997)'
_computing_structure_solution    'SHELXS-97 (Sheldrick, 1990)'
_diffrn_ambient_pressure         600000
_diffrn_ambient_temperature      293(2)
_diffrn_detector_area_resol_mean 10.3457
_diffrn_measured_fraction_theta_full 0.636
_diffrn_measured_fraction_theta_max 0.636
_diffrn_measurement_device_type  'Xcalibur, Ruby, Gemini ultra'
_diffrn_measurement_method       'rotation method'
_diffrn_radiation_monochromator  graphite
_diffrn_radiation_source         'Enhance (Mo) X-ray Source'
_diffrn_radiation_type           MoK\a
_diffrn_radiation_wavelength     0.71073
_diffrn_reflns_av_R_equivalents  0.0978
_diffrn_reflns_av_sigmaI/netI    0.0675
_diffrn_reflns_limit_h_max       19
_diffrn_reflns_limit_h_min       -19
_diffrn_reflns_limit_k_max       10
_diffrn_reflns_limit_k_min       -10
_diffrn_reflns_limit_l_max       8
_diffrn_reflns_limit_l_min       -8
_diffrn_reflns_number            3067
_diffrn_reflns_theta_full        28.01
_diffrn_reflns_theta_max         28.01
_diffrn_reflns_theta_min         2.47
_diffrn_source_current           30
_diffrn_source_voltage           50
_exptl_absorpt_coefficient_mu    1.844
_exptl_absorpt_correction_T_max  0.465
_exptl_absorpt_correction_T_min  0.374
_exptl_absorpt_correction_type   gaussian
_exptl_absorpt_process_details   'Absorb-7 (Angel, 2013)'
_exptl_crystal_colour            'Red to purple'
_exptl_crystal_density_diffrn    1.813
_exptl_crystal_density_method    'not measured'
_exptl_crystal_description       Needles
_exptl_crystal_F_000             600
_exptl_crystal_size_max          0.140
_exptl_crystal_size_mid          0.055
_exptl_crystal_size_min          0.044
_refine_diff_density_max         0.298
_refine_diff_density_min         -0.268
_refine_diff_density_rms         0.070
_refine_ls_extinction_method     none
_refine_ls_goodness_of_fit_ref   1.093
_refine_ls_hydrogen_treatment    mixed
_refine_ls_matrix_type           full
_refine_ls_number_parameters     55
_refine_ls_number_reflns         450
_refine_ls_number_restraints     0
_refine_ls_restrained_S_all      1.093
_refine_ls_R_factor_all          0.0779
_refine_ls_R_factor_gt           0.0445
_refine_ls_shift/su_max          0.000
_refine_ls_shift/su_mean         0.000
_refine_ls_structure_factor_coef Fsqd
_refine_ls_weighting_details
'calc w=1/[σ²(Fo²)+(0.0203P)²+1.2284P] where P=(Fo²+2Fc²)/3'
_refine_ls_weighting_scheme      calc
_refine_ls_wR_factor_gt          0.0747
_refine_ls_wR_factor_ref         0.0843
_reflns_number_gt                321
_reflns_number_total             450
_reflns_threshold_expression     >2sigma(I)
_iucr_refine_instructions_details
;
TITL
CELL  0.71073 16.47394 10.20244  6.29725 90.00000 90.00000 90.00000
ZERR 4  0.00161  0.00141  0.00035  0.00000  0.00000  0.00000
LATT 2
SYMM -X, -Y, Z
SYMM X, -Y, -Z+ 0.50000
SYMM -X, Y, -Z+ 0.50000
SFAC C H N O NI 
UNIT 32 56 16 16 4 
PLAN 30
FMAP 2 
L.S. 100
EQIV $1 -X, -Y+1, -Z+1
HTAB O1 O2_$1
BOND
BOND $H
CONF
ACTA
FVAR  1.03858 
WGHT  0.02030   1.22840 
NI1   5 0.000000 0.500000 0.500000  10.250000 0.028790 0.025230 =
        0.024950 0.000000 0.000000 -0.001400 
O1    4 -0.052541 0.232932 0.500000  10.500000 0.046060 0.017560 =
        0.044960 0.000000 0.000000 -0.008800 
H5    2 -0.091197 0.274932 0.500000  10.500000 -1.200000 
O2    4 0.160003 0.601101 0.500000  10.500000 0.038150 0.025600 =
        0.046080 0.000000 0.000000 -0.008300 
N1    3 0.009457 0.318973 0.500000  10.500000 0.039080 0.020140 =
        0.027210 0.000000 0.000000 -0.005100 
N2    3 0.112766 0.491786 0.500000  10.500000 0.043040 0.010160 =
        0.026020 0.000000 0.000000 -0.006600 
C1    1 0.083465 0.270635 0.500000  10.500000 0.042090 0.020840 =
        0.030260 0.000000 0.000000 0.003810 
C2    1 0.144484 0.376973 0.500000  10.500000 0.045060 0.021250 =
        0.020850 0.000000 0.000000 0.002630 
C3    1 0.101830 0.133991 0.500000  10.500000 0.056180 0.029070 =
        0.054990 0.000000 0.000000 0.003500 
AFIX 33
H3A   2 0.079021 0.093903 0.375656  10.500000 -1.500000 
H3B   2 0.079187 0.093962 0.624601  10.500000 -1.500000 
H3C   2 0.159641 0.122154 0.499743  10.500000 -1.500000 
AFIX 0
C4    1 0.233322 0.354078 0.500000  10.500000 0.035810 0.040950 =
        0.057390 0.000000 0.000000 0.004200 
AFIX 33
H4A   2 0.256820 0.392804 0.624599  10.500000 -1.500000 
H4B   2 0.256846 0.393070 0.375653  10.500000 -1.500000 
H4C   2 0.243844 0.261530 0.499748  10.500000 -1.500000 
HKLF 4
REM
REM R1    0.0445 FOR    321 FO > 4SIG(FO)  AND  0.0779 FOR ALL    450 DATA
REM     55 PARAMETERS REFINED USING      0 RESTRAINTS
REM HIGHEST DIFFERENCE PEAK  0.297,  DEEPEST HOLE -0.267,  1-SIGMA LEVEL  0.070
END
;
_cod_data_source_file            jp508939g_si_001.cif
_cod_data_source_block           0.6GPa
_cod_depositor_comments
;
The following automatic conversions were performed:

'_symmetry_cell_setting' value 'Orthorhombic' changed to
'orthorhombic' according to
/home/saulius/struct/COD-crude-data--automatic-downloads/rss-feeds/ACS/lib/dictionaries/cif_core.dic
dictionary named 'cif_core.dic' version 2.4.2 from
2011-04-26.

'_exptl_absorpt_correction_type' value 'Gaussian'
changed to 'gaussian' according to
/home/saulius/struct/COD-crude-data--automatic-downloads/rss-feeds/ACS/lib/dictionaries/cif_core.dic
dictionary named 'cif_core.dic' version 2.4.2 from 2011-04-26.

Automatic conversion script
Id: cif_fix_values 2827 2014-09-09 07:05:25Z andrius 

 Adding full bibliography for 1517996--1518005.cif.
;
_cod_original_cell_volume        1058.41(19)
_cod_original_sg_symbol_H-M      Ibam
_cod_database_code               1517998
loop_
_symmetry_equiv_pos_as_xyz
'x, y, z'
'-x, -y, z'
'x, -y, -z+1/2'
'-x, y, -z+1/2'
'x+1/2, y+1/2, z+1/2'
'-x+1/2, -y+1/2, z+1/2'
'x+1/2, -y+1/2, -z+1'
'-x+1/2, y+1/2, -z+1'
'-x, -y, -z'
'x, y, -z'
'-x, y, z-1/2'
'x, -y, z-1/2'
'-x+1/2, -y+1/2, -z+1/2'
'x+1/2, y+1/2, -z+1/2'
'-x+1/2, y+1/2, z'
'x+1/2, -y+1/2, z'
loop_
_atom_site_label
_atom_site_type_symbol
_atom_site_fract_x
_atom_site_fract_y
_atom_site_fract_z
_atom_site_U_iso_or_equiv
_atom_site_adp_type
_atom_site_occupancy
_atom_site_symmetry_multiplicity
_atom_site_calc_flag
_atom_site_refinement_flags
Ni1 Ni 0.0000 0.5000 0.5000 0.0263(4) Uani 1 4 d S
O1 O -0.0525(3) 0.2329(6) 0.5000 0.0362(13) Uani 1 2 d S
H5 H -0.091(4) 0.275(9) 0.5000 0.043 Uiso 1 2 d S
O2 O 0.1600(3) 0.6011(5) 0.5000 0.0366(13) Uani 1 2 d S
N1 N 0.0095(3) 0.3190(6) 0.5000 0.0288(14) Uani 1 2 d S
N2 N 0.1128(3) 0.4918(7) 0.5000 0.0264(13) Uani 1 2 d S
C1 C 0.0835(4) 0.2706(8) 0.5000 0.0310(18) Uani 1 2 d S
C2 C 0.1445(4) 0.3770(8) 0.5000 0.0290(19) Uani 1 2 d S
C3 C 0.1018(4) 0.1340(8) 0.5000 0.047(2) Uani 1 2 d S
H3A H 0.0790 0.0939 0.3757 0.070 Uiso 0.50 1 calc PR
H3B H 0.0792 0.0940 0.6246 0.070 Uiso 0.50 1 calc PR
H3C H 0.1596 0.1222 0.4997 0.070 Uiso 1 2 calc SR
C4 C 0.2333(3) 0.3541(7) 0.5000 0.045(2) Uani 1 2 d S
H4A H 0.2568 0.3928 0.6246 0.067 Uiso 0.50 1 calc PR
H4B H 0.2568 0.3930 0.3757 0.067 Uiso 0.50 1 calc PR
H4C H 0.2438 0.2615 0.4998 0.067 Uiso 1 2 calc SR
loop_
_atom_site_aniso_label
_atom_site_aniso_U_11
_atom_site_aniso_U_22
_atom_site_aniso_U_33
_atom_site_aniso_U_23
_atom_site_aniso_U_13
_atom_site_aniso_U_12
Ni1 0.0288(7) 0.0252(10) 0.0249(5) 0.000 0.000 -0.0014(5)
O1 0.046(4) 0.017(5) 0.045(2) 0.000 0.000 -0.009(2)
O2 0.038(3) 0.026(5) 0.046(2) 0.000 0.000 -0.008(2)
N1 0.039(4) 0.020(6) 0.027(2) 0.000 0.000 -0.005(2)
N2 0.043(4) 0.010(6) 0.0260(19) 0.000 0.000 -0.007(3)
C1 0.042(5) 0.021(7) 0.030(3) 0.000 0.000 0.004(3)
C2 0.045(5) 0.021(8) 0.021(3) 0.000 0.000 0.003(3)
C3 0.056(5) 0.029(8) 0.055(4) 0.000 0.000 0.003(3)
C4 0.036(5) 0.041(7) 0.057(4) 0.000 0.000 0.004(3)
loop_
_atom_type_symbol
_atom_type_description
_atom_type_scat_dispersion_real
_atom_type_scat_dispersion_imag
_atom_type_scat_source
C C 0.0033 0.0016 'International Tables Vol C Tables 4.2.6.8 and 6.1.1.4'
H H 0.0000 0.0000 'International Tables Vol C Tables 4.2.6.8 and 6.1.1.4'
N N 0.0061 0.0033 'International Tables Vol C Tables 4.2.6.8 and 6.1.1.4'
O O 0.0106 0.0060 'International Tables Vol C Tables 4.2.6.8 and 6.1.1.4'
Ni Ni 0.3393 1.1124 'International Tables Vol C Tables 4.2.6.8 and 6.1.1.4'
loop_
_geom_angle_atom_site_label_1
_geom_angle_atom_site_label_2
_geom_angle_atom_site_label_3
_geom_angle
_geom_angle_site_symmetry_1
_geom_angle_site_symmetry_3
N1 Ni1 N1 180.000(1) . 9_566
N1 Ni1 N2 82.6(2) . .
N1 Ni1 N2 97.4(2) 9_566 .
N1 Ni1 N2 97.4(2) . 9_566
N1 Ni1 N2 82.6(2) 9_566 9_566
N2 Ni1 N2 180.0 . 9_566
N1 O1 H5 105(7) . .
C1 N1 O1 117.3(7) . .
C1 N1 Ni1 116.9(4) . .
O1 N1 Ni1 125.9(5) . .
C2 N2 O2 121.1(7) . .
C2 N2 Ni1 116.6(5) . .
O2 N2 Ni1 122.3(5) . .
N1 C1 C3 124.3(6) . .
N1 C1 C2 110.8(7) . .
C3 C1 C2 124.9(7) . .
N2 C2 C1 113.1(7) . .
N2 C2 C4 123.1(7) . .
C1 C2 C4 123.7(7) . .
C1 C3 H3A 109.5 . .
C1 C3 H3B 109.5 . .
H3A C3 H3B 109.5 . .
C1 C3 H3C 109.5 . .
H3A C3 H3C 109.5 . .
H3B C3 H3C 109.5 . .
C2 C4 H4A 109.5 . .
C2 C4 H4B 109.5 . .
H4A C4 H4B 109.5 . .
C2 C4 H4C 109.5 . .
H4A C4 H4C 109.5 . .
H4B C4 H4C 109.5 . .
loop_
_geom_bond_atom_site_label_1
_geom_bond_atom_site_label_2
_geom_bond_distance
_geom_bond_site_symmetry_2
Ni1 N1 1.853(6) .
Ni1 N1 1.853(6) 9_566
Ni1 N2 1.860(5) .
Ni1 N2 1.860(5) 9_566
O1 N1 1.347(7) .
O1 H5 0.77(6) .
O2 N2 1.360(7) .
N1 C1 1.315(8) .
N2 C2 1.283(9) .
C1 C3 1.426(10) .
C1 C2 1.479(10) .
C2 C4 1.482(9) .
C3 H3A 0.9600 .
C3 H3B 0.9600 .
C3 H3C 0.9600 .
C4 H4A 0.9600 .
C4 H4B 0.9600 .
C4 H4C 0.9600 .
loop_
_geom_hbond_atom_site_label_D
_geom_hbond_atom_site_label_H
_geom_hbond_atom_site_label_A
_geom_hbond_distance_DH
_geom_hbond_distance_HA
_geom_hbond_distance_DA
_geom_hbond_angle_DHA
_geom_hbond_site_symmetry_A
O1 H5 O2 0.77(6) 1.70(7) 2.450(7) 166(10) 9_566
