#------------------------------------------------------------------------------
#$Date: 2016-02-18 17:37:37 +0200 (Thu, 18 Feb 2016) $
#$Revision: 176729 $
#$URL: svn://www.crystallography.net/cod/cif/1/51/84/1518436.cif $
#------------------------------------------------------------------------------
#
# This file is available in the Crystallography Open Database (COD),
# http://www.crystallography.net/
#
# All data on this site have been placed in the public domain by the
# contributors.
#
data_1518436
loop_
_publ_author_name
'Patyk, Ewa'
'Katrusiak, Andrzej'
_publ_section_title
;
 Transformable H-bonds and conformation in compressed glucose
;
_journal_issue                   3
_journal_name_full               'Chem. Sci.'
_journal_page_first              1991
_journal_paper_doi               10.1039/C4SC03588G
_journal_volume                  6
_journal_year                    2015
_chemical_absolute_configuration rm
_chemical_formula_moiety         'C6 H12 O6'
_chemical_formula_sum            'C6 H12 O6'
_chemical_formula_weight         180.16
_chemical_melting_point          419
_chemical_name_common            'α-D-glucose, Phase I'
_chemical_name_systematic
; 
 α-D-glucopyranose, Phase I   
;
_space_group_IT_number           19
_symmetry_cell_setting           orthorhombic
_symmetry_space_group_name_Hall  'P 2ac 2ab'
_symmetry_space_group_name_H-M   'P 21 21 21'
_atom_sites_solution_hydrogens   geom
_atom_sites_solution_primary     direct
_atom_sites_solution_secondary   difmap
_audit_creation_method           SHELXL-97
_audit_update_record
;
2014-11-13 deposited with the CCDC.
2014-12-15 downloaded from the CCDC.
;
_cell_angle_alpha                90.00
_cell_angle_beta                 90.00
_cell_angle_gamma                90.00
_cell_formula_units_Z            4
_cell_length_a                   10.181(2)
_cell_length_b                   14.808(3)
_cell_length_c                   4.6930(9)
_cell_measurement_reflns_used    2766
_cell_measurement_temperature    295(2)
_cell_measurement_theta_max      27.75
_cell_measurement_theta_min      2.43
_cell_volume                     707.5(2)
_computing_cell_refinement       'CrysAlisRED (Oxford Diffraction, 2004)'
_computing_data_collection       'CrysAlisCCD (Oxford Diffraction, 2004)'
_computing_data_reduction
'CrysAlisRED (Oxford Diffraction, 2004); REDSHABS (Katrusiak, A.  2003)'
_computing_molecular_graphics    'SHELXTL (Sheldrick, 1990)'
_computing_publication_material  'SHELXL--97 (Sheldrick, 1997)'
_computing_structure_refinement  'SHELXL--97 (Sheldrick, 1997)'
_computing_structure_solution    'SHELXS--97 (Sheldrick, 1997)'
_diffrn_ambient_environment      'diamond-anvil cell'
_diffrn_ambient_pressure         1800000
_diffrn_ambient_temperature      295(2)
_diffrn_measured_fraction_theta_full 0.297
_diffrn_measured_fraction_theta_max 0.297
_diffrn_measurement_device_type  'KM-4 CCD'
_diffrn_measurement_method       'φ- and ω-scans'
_diffrn_radiation_monochromator  graphite
_diffrn_radiation_source         'fine-focus sealed tube'
_diffrn_radiation_type           MoK\a
_diffrn_radiation_wavelength     0.71073
_diffrn_reflns_av_R_equivalents  0.0926
_diffrn_reflns_av_sigmaI/netI    0.0785
_diffrn_reflns_limit_h_max       12
_diffrn_reflns_limit_h_min       -13
_diffrn_reflns_limit_k_max       14
_diffrn_reflns_limit_k_min       -14
_diffrn_reflns_limit_l_max       4
_diffrn_reflns_limit_l_min       -4
_diffrn_reflns_number            1973
_diffrn_reflns_theta_full        27.75
_diffrn_reflns_theta_max         27.75
_diffrn_reflns_theta_min         2.43
_diffrn_standards_decay_%        0
_diffrn_standards_interval_count 0
_diffrn_standards_number         0
_exptl_absorpt_coefficient_mu    0.153
_exptl_absorpt_correction_T_max  0.91
_exptl_absorpt_correction_T_min  0.45
_exptl_absorpt_correction_type   numerical
_exptl_absorpt_process_details
; 
 Correction for absorption of the diamond-anvil cell and the sample 
 were made using program REDSHABS (Katrusiak, A. (2003) REDSHABS. Adam
 Mickiewicz University Poznań; Katrusiak, A. (2004) Z. Kristallogr.
 219, 461-467). 
;
_exptl_crystal_colour            colourless
_exptl_crystal_density_diffrn    1.691
_exptl_crystal_density_method    'not measured'
_exptl_crystal_description       plate
_exptl_crystal_F_000             384
_exptl_crystal_size_max          0.33
_exptl_crystal_size_mid          0.25
_exptl_crystal_size_min          0.20
_refine_diff_density_max         0.268
_refine_diff_density_min         -0.209
_refine_diff_density_rms         0.062
_refine_ls_abs_structure_details 'Flack H D (1983), Acta Cryst. A39, 876-881'
_refine_ls_abs_structure_Flack   -5(5)
_refine_ls_extinction_method     none
_refine_ls_goodness_of_fit_ref   1.000
_refine_ls_hydrogen_treatment    constr
_refine_ls_matrix_type           full
_refine_ls_number_parameters     49
_refine_ls_number_reflns         494
_refine_ls_number_restraints     0
_refine_ls_restrained_S_all      1.000
_refine_ls_R_factor_all          0.0689
_refine_ls_R_factor_gt           0.0612
_refine_ls_shift/su_max          0.000
_refine_ls_shift/su_mean         0.000
_refine_ls_structure_factor_coef Fsqd
_refine_ls_weighting_details
'calc w=1/[σ²(Fo²)+(0.0894P)²+0.0000P] where P=(Fo²+2Fc²)/3'
_refine_ls_weighting_scheme      calc
_refine_ls_wR_factor_gt          0.1396
_refine_ls_wR_factor_ref         0.1428
_reflns_number_gt                407
_reflns_number_total             494
_reflns_threshold_expression     >2sigma(I)
_cod_data_source_file            c4sc03588g4.cif
_cod_data_source_block           glu5_1.80GPa
_cod_depositor_comments
'Adding full bibliography for 1518432--1518446.cif.'
_cod_database_code               1518436
loop_
_symmetry_equiv_pos_as_xyz
'x, y, z'
'-x+1/2, -y, z+1/2'
'-x, y+1/2, -z+1/2'
'x+1/2, -y+1/2, -z'
loop_
_atom_site_label
_atom_site_type_symbol
_atom_site_fract_x
_atom_site_fract_y
_atom_site_fract_z
_atom_site_U_iso_or_equiv
_atom_site_adp_type
_atom_site_occupancy
_atom_site_symmetry_multiplicity
_atom_site_calc_flag
_atom_site_refinement_flags
C1 C 0.1712(7) 0.3932(6) 0.4531(19) 0.0269(19) Uiso 1 1 d .
H1 H 0.2615 0.3789 0.5098 0.032 Uiso 1 1 calc R
C2 C 0.0805(6) 0.3206(6) 0.563(2) 0.030(2) Uiso 1 1 d .
H2 H 0.0964 0.3164 0.7681 0.036 Uiso 1 1 calc R
C3 C -0.0615(6) 0.3440(6) 0.5284(18) 0.026(2) Uiso 1 1 d .
H3 H -0.0852 0.3408 0.3262 0.031 Uiso 1 1 calc R
C4 C -0.0893(5) 0.4382(5) 0.639(2) 0.0162(17) Uiso 1 1 d .
H4 H -0.0750 0.4402 0.8454 0.019 Uiso 1 1 calc R
C5 C 0.0025(6) 0.5069(6) 0.4886(19) 0.0199(19) Uiso 1 1 d .
H5 H -0.0105 0.5053 0.2817 0.024 Uiso 1 1 calc R
C6 C -0.0209(6) 0.6024(6) 0.604(2) 0.027(2) Uiso 1 1 d .
H6 H -0.1134 0.6176 0.5946 0.032 Uiso 1 1 calc R
H7 H 0.0074 0.6064 0.8014 0.032 Uiso 1 1 calc R
O1 O 0.1626(4) 0.3926(4) 0.1541(13) 0.0308(15) Uiso 1 1 d .
H8 H 0.1807 0.4429 0.0924 0.046 Uiso 1 1 calc R
O2 O 0.1151(4) 0.2350(4) 0.4462(12) 0.0331(16) Uiso 1 1 d .
H9 H 0.0599 0.2197 0.3286 0.050 Uiso 1 1 calc R
O3 O -0.1353(4) 0.2795(4) 0.6818(13) 0.0306(14) Uiso 1 1 d .
H10 H -0.2137 0.2913 0.6680 0.046 Uiso 1 1 calc R
O4 O -0.2213(4) 0.4578(4) 0.5770(14) 0.0271(14) Uiso 1 1 d .
H11 H -0.2416 0.5060 0.6508 0.041 Uiso 1 1 calc R
O5 O 0.1364(4) 0.4804(3) 0.5618(11) 0.0185(13) Uiso 1 1 d .
O6 O 0.0553(4) 0.6630(4) 0.4276(13) 0.0349(15) Uiso 1 1 d .
H12 H 0.0437 0.7151 0.4805 0.052 Uiso 1 1 calc R
loop_
_atom_type_symbol
_atom_type_description
_atom_type_scat_dispersion_real
_atom_type_scat_dispersion_imag
_atom_type_scat_source
C C 0.0033 0.0016 'International Tables Vol C Tables 4.2.6.8 and 6.1.1.4'
H H 0.0000 0.0000 'International Tables Vol C Tables 4.2.6.8 and 6.1.1.4'
O O 0.0106 0.0060 'International Tables Vol C Tables 4.2.6.8 and 6.1.1.4'
loop_
_geom_angle_atom_site_label_1
_geom_angle_atom_site_label_2
_geom_angle_atom_site_label_3
_geom_angle
O1 C1 O5 110.2(6)
O1 C1 C2 107.3(7)
O5 C1 C2 111.7(6)
O2 C2 C1 110.6(7)
O2 C2 C3 113.9(6)
C1 C2 C3 113.0(7)
O3 C3 C2 107.6(6)
O3 C3 C4 110.4(7)
C2 C3 C4 110.9(6)
O4 C4 C3 107.3(6)
O4 C4 C5 110.3(6)
C3 C4 C5 109.6(6)
O5 C5 C6 108.1(6)
O5 C5 C4 106.2(5)
C6 C5 C4 110.5(6)
O6 C6 C5 106.6(6)
C1 O5 C5 113.0(5)
loop_
_geom_bond_atom_site_label_1
_geom_bond_atom_site_label_2
_geom_bond_distance
C1 O1 1.406(8)
C1 O5 1.433(9)
C1 C2 1.507(12)
C2 O2 1.425(10)
C2 C3 1.495(10)
C3 O3 1.413(9)
C3 C4 1.514(11)
C4 O4 1.406(7)
C4 C5 1.552(10)
C5 O5 1.459(7)
C5 C6 1.533(11)
C6 O6 1.448(10)
loop_
_geom_torsion_atom_site_label_1
_geom_torsion_atom_site_label_2
_geom_torsion_atom_site_label_3
_geom_torsion_atom_site_label_4
_geom_torsion
O1 C1 C2 O2 57.8(7)
O5 C1 C2 O2 178.6(6)
O1 C1 C2 C3 -71.2(8)
O5 C1 C2 C3 49.6(9)
O2 C2 C3 O3 62.9(10)
C1 C2 C3 O3 -169.8(8)
O2 C2 C3 C4 -176.2(7)
C1 C2 C3 C4 -48.9(9)
O3 C3 C4 O4 -65.8(9)
C2 C3 C4 O4 175.0(7)
O3 C3 C4 C5 174.5(5)
C2 C3 C4 C5 55.3(9)
O4 C4 C5 O5 -179.2(7)
C3 C4 C5 O5 -61.3(7)
O4 C4 C5 C6 63.9(8)
C3 C4 C5 C6 -178.2(6)
O5 C5 C6 O6 71.6(7)
C4 C5 C6 O6 -172.6(6)
O1 C1 O5 C5 60.4(7)
C2 C1 O5 C5 -58.7(9)
C6 C5 O5 C1 -177.5(5)
C4 C5 O5 C1 63.9(8)
