#------------------------------------------------------------------------------
#$Date: 2016-02-18 17:37:37 +0200 (Thu, 18 Feb 2016) $
#$Revision: 176729 $
#$URL: svn://www.crystallography.net/cod/cif/1/51/84/1518437.cif $
#------------------------------------------------------------------------------
#
# This file is available in the Crystallography Open Database (COD),
# http://www.crystallography.net/
#
# All data on this site have been placed in the public domain by the
# contributors.
#
data_1518437
loop_
_publ_author_name
'Patyk, Ewa'
'Katrusiak, Andrzej'
_publ_section_title
;
 Transformable H-bonds and conformation in compressed glucose
;
_journal_issue                   3
_journal_name_full               'Chem. Sci.'
_journal_page_first              1991
_journal_paper_doi               10.1039/C4SC03588G
_journal_volume                  6
_journal_year                    2015
_chemical_absolute_configuration rm
_chemical_formula_moiety         'C6 H12 O6'
_chemical_formula_sum            'C6 H12 O6'
_chemical_formula_weight         180.16
_chemical_melting_point          419
_chemical_name_common            'α-D-glucose, Phase I'
_chemical_name_systematic
; 
 α-D-glucopyranose, Phase I   
;
_space_group_IT_number           19
_symmetry_cell_setting           orthorhombic
_symmetry_space_group_name_Hall  'P 2ac 2ab'
_symmetry_space_group_name_H-M   'P 21 21 21'
_atom_sites_solution_hydrogens   geom
_atom_sites_solution_primary     direct
_atom_sites_solution_secondary   difmap
_audit_creation_method           SHELXL-97
_audit_update_record
;
2014-11-13 deposited with the CCDC.
2014-12-15 downloaded from the CCDC.
;
_cell_angle_alpha                90.00
_cell_angle_beta                 90.00
_cell_angle_gamma                90.00
_cell_formula_units_Z            4
_cell_length_a                   10.110(2)
_cell_length_b                   14.808(3)
_cell_length_c                   4.5801(9)
_cell_measurement_reflns_used    2289
_cell_measurement_temperature    295(2)
_cell_measurement_theta_max      25.74
_cell_measurement_theta_min      4.60
_cell_volume                     685.7(2)
_computing_cell_refinement       'CrysAlisRED (Oxford Diffraction, 2004)'
_computing_data_collection       'CrysAlisCCD (Oxford Diffraction, 2004)'
_computing_data_reduction
'CrysAlisRED (Oxford Diffraction, 2004); REDSHABS (Katrusiak, A.  2003)'
_computing_molecular_graphics    'SHELXTL (Sheldrick, 1990)'
_computing_publication_material  'SHELXL--97 (Sheldrick, 1997)'
_computing_structure_refinement  'SHELXL--97 (Sheldrick, 1997)'
_computing_structure_solution    'SHELXS--97 (Sheldrick, 1997)'
_diffrn_ambient_environment      'diamond-anvil cell'
_diffrn_ambient_pressure         2600000
_diffrn_ambient_temperature      295(2)
_diffrn_measured_fraction_theta_full 0.235
_diffrn_measured_fraction_theta_max 0.235
_diffrn_measurement_device_type  'KM-4 CCD'
_diffrn_measurement_method       'φ- and ω-scans'
_diffrn_radiation_monochromator  graphite
_diffrn_radiation_source         'fine-focus sealed tube'
_diffrn_radiation_type           MoK\a
_diffrn_radiation_wavelength     0.71073
_diffrn_reflns_av_R_equivalents  0.1322
_diffrn_reflns_av_sigmaI/netI    0.0941
_diffrn_reflns_limit_h_max       2
_diffrn_reflns_limit_h_min       -2
_diffrn_reflns_limit_k_max       17
_diffrn_reflns_limit_k_min       -17
_diffrn_reflns_limit_l_max       5
_diffrn_reflns_limit_l_min       -5
_diffrn_reflns_number            1626
_diffrn_reflns_theta_full        25.74
_diffrn_reflns_theta_max         25.74
_diffrn_reflns_theta_min         4.60
_diffrn_standards_decay_%        0
_diffrn_standards_interval_count 0
_diffrn_standards_number         0
_exptl_absorpt_coefficient_mu    0.158
_exptl_absorpt_correction_T_max  0.88
_exptl_absorpt_correction_T_min  0.38
_exptl_absorpt_correction_type   numerical
_exptl_absorpt_process_details
; 
 Correction for absorption of the diamond-anvil cell and the sample 
 were made using program REDSHABS (Katrusiak, A. (2003) REDSHABS. Adam
 Mickiewicz University Poznań; Katrusiak, A. (2004) Z. Kristallogr.
 219, 461-467). 
;
_exptl_crystal_colour            colourless
_exptl_crystal_density_diffrn    1.745
_exptl_crystal_density_method    'not measured'
_exptl_crystal_description       plate
_exptl_crystal_F_000             384
_exptl_crystal_size_max          0.20
_exptl_crystal_size_mid          0.19
_exptl_crystal_size_min          0.16
_refine_diff_density_max         0.104
_refine_diff_density_min         -0.120
_refine_diff_density_rms         0.028
_refine_ls_abs_structure_details 'Flack H D (1983), Acta Cryst. A39, 876-881'
_refine_ls_abs_structure_Flack   -5(5)
_refine_ls_extinction_method     none
_refine_ls_goodness_of_fit_ref   1.012
_refine_ls_hydrogen_treatment    constr
_refine_ls_matrix_type           full
_refine_ls_number_parameters     49
_refine_ls_number_reflns         279
_refine_ls_number_restraints     0
_refine_ls_restrained_S_all      1.012
_refine_ls_R_factor_all          0.0595
_refine_ls_R_factor_gt           0.0393
_refine_ls_shift/su_max          0.000
_refine_ls_shift/su_mean         0.000
_refine_ls_structure_factor_coef Fsqd
_refine_ls_weighting_details
'calc w=1/[σ²(Fo²)+(0.0163P)²+0.0000P] where P=(Fo²+2Fc²)/3'
_refine_ls_weighting_scheme      calc
_refine_ls_wR_factor_gt          0.0688
_refine_ls_wR_factor_ref         0.0720
_reflns_number_gt                191
_reflns_number_total             279
_reflns_threshold_expression     >2sigma(I)
_cod_data_source_file            c4sc03588g4.cif
_cod_data_source_block           glu6_2.60GPa
_cod_depositor_comments
'Adding full bibliography for 1518432--1518446.cif.'
_cod_database_code               1518437
loop_
_symmetry_equiv_pos_as_xyz
'x, y, z'
'-x+1/2, -y, z+1/2'
'-x, y+1/2, -z+1/2'
'x+1/2, -y+1/2, -z'
loop_
_atom_site_label
_atom_site_type_symbol
_atom_site_fract_x
_atom_site_fract_y
_atom_site_fract_z
_atom_site_U_iso_or_equiv
_atom_site_adp_type
_atom_site_occupancy
_atom_site_symmetry_multiplicity
_atom_site_calc_flag
_atom_site_refinement_flags
C1 C 0.171(3) 0.3953(5) 0.4702(11) 0.028(2) Uiso 1 1 d .
H1 H 0.2588 0.3799 0.5461 0.034 Uiso 1 1 calc R
C2 C 0.070(3) 0.3205(5) 0.5652(16) 0.023(3) Uiso 1 1 d .
H2 H 0.0810 0.3163 0.7773 0.028 Uiso 1 1 calc R
C3 C -0.051(4) 0.3456(6) 0.5316(18) 0.037(3) Uiso 1 1 d .
H3 H -0.0718 0.3415 0.3228 0.045 Uiso 1 1 calc R
C4 C -0.094(4) 0.4369(6) 0.633(2) 0.038(3) Uiso 1 1 d .
H4 H -0.0809 0.4395 0.8449 0.045 Uiso 1 1 calc R
C5 C -0.004(3) 0.5080(4) 0.4937(17) 0.033(3) Uiso 1 1 d .
H5 H -0.0146 0.5069 0.2811 0.040 Uiso 1 1 calc R
C6 C -0.036(2) 0.5997(4) 0.6065(12) 0.029(2) Uiso 1 1 d .
H7 H -0.0188 0.6044 0.8143 0.035 Uiso 1 1 calc R
H6 H -0.1275 0.6155 0.5682 0.035 Uiso 1 1 calc R
O1 O 0.1746(19) 0.3938(3) 0.1597(9) 0.0382(15) Uiso 1 1 d .
H8 H 0.1928 0.4443 0.0985 0.057 Uiso 1 1 calc R
O2 O 0.118(2) 0.2352(3) 0.4570(8) 0.0439(15) Uiso 1 1 d .
H9 H 0.0668 0.2152 0.3350 0.066 Uiso 1 1 calc R
O3 O -0.139(2) 0.2766(3) 0.6893(8) 0.0503(18) Uiso 1 1 d .
H10 H -0.2165 0.2907 0.6705 0.075 Uiso 1 1 calc R
O4 O -0.220(2) 0.4546(4) 0.5783(12) 0.039(2) Uiso 1 1 d .
H11 H -0.2398 0.5030 0.6527 0.059 Uiso 1 1 calc R
O5 O 0.1349(19) 0.4795(3) 0.5728(9) 0.0268(16) Uiso 1 1 d .
O6 O 0.0608(15) 0.6591(3) 0.4262(8) 0.0422(16) Uiso 1 1 d .
H12 H 0.0520 0.7122 0.4739 0.063 Uiso 1 1 calc R
loop_
_atom_type_symbol
_atom_type_description
_atom_type_scat_dispersion_real
_atom_type_scat_dispersion_imag
_atom_type_scat_source
C C 0.0033 0.0016 'International Tables Vol C Tables 4.2.6.8 and 6.1.1.4'
H H 0.0000 0.0000 'International Tables Vol C Tables 4.2.6.8 and 6.1.1.4'
O O 0.0106 0.0060 'International Tables Vol C Tables 4.2.6.8 and 6.1.1.4'
loop_
_geom_angle_atom_site_label_1
_geom_angle_atom_site_label_2
_geom_angle_atom_site_label_3
_geom_angle
O5 C1 O1 111.1(7)
O5 C1 C2 111.8(15)
O1 C1 C2 106.5(11)
C3 C2 O2 122.2(18)
C3 C2 C1 112.6(12)
O2 C2 C1 107.5(15)
C2 C3 C4 120(2)
C2 C3 O3 107.4(11)
C4 C3 O3 107.0(18)
O4 C4 C3 113(2)
O4 C4 C5 110.8(12)
C3 C4 C5 109(2)
C6 C5 O5 112.0(14)
C6 C5 C4 110.7(15)
O5 C5 C4 105.0(15)
C5 C6 O6 101.2(11)
C1 O5 C5 114.6(12)
loop_
_geom_bond_atom_site_label_1
_geom_bond_atom_site_label_2
_geom_bond_distance
C1 O5 1.382(12)
C1 O1 1.423(6)
C1 C2 1.57(3)
C2 C3 1.29(6)
C2 O2 1.443(11)
C3 C4 1.492(15)
C3 O3 1.53(3)
C4 O4 1.32(5)
C4 C5 1.53(4)
C5 C6 1.488(9)
C5 O5 1.51(3)
C6 O6 1.554(18)
loop_
_geom_torsion_atom_site_label_1
_geom_torsion_atom_site_label_2
_geom_torsion_atom_site_label_3
_geom_torsion_atom_site_label_4
_geom_torsion
O5 C1 C2 C3 44.5(11)
O1 C1 C2 C3 -77.0(16)
O5 C1 C2 O2 -178.0(11)
O1 C1 C2 O2 60.5(16)
O2 C2 C3 C4 -176.4(7)
C1 C2 C3 C4 -46.1(14)
O2 C2 C3 O3 61.4(12)
C1 C2 C3 O3 -168.2(4)
C2 C3 C4 O4 178.4(16)
O3 C3 C4 O4 -59.3(16)
C2 C3 C4 C5 54(2)
O3 C3 C4 C5 176.8(19)
O4 C4 C5 C6 58.9(13)
C3 C4 C5 C6 -175.7(16)
O4 C4 C5 O5 -180.0(8)
C3 C4 C5 O5 -54.6(16)
O5 C5 C6 O6 65.8(12)
C4 C5 C6 O6 -177.3(19)
O1 C1 O5 C5 65(2)
C2 C1 O5 C5 -54.0(13)
C6 C5 O5 C1 -179.2(7)
C4 C5 O5 C1 60.6(10)
