#------------------------------------------------------------------------------
#$Date: 2016-02-18 17:37:37 +0200 (Thu, 18 Feb 2016) $
#$Revision: 176729 $
#$URL: svn://www.crystallography.net/cod/cif/1/51/84/1518440.cif $
#------------------------------------------------------------------------------
#
# This file is available in the Crystallography Open Database (COD),
# http://www.crystallography.net/
#
# All data on this site have been placed in the public domain by the
# contributors.
#
data_1518440
loop_
_publ_author_name
'Patyk, Ewa'
'Katrusiak, Andrzej'
_publ_section_title
;
 Transformable H-bonds and conformation in compressed glucose
;
_journal_issue                   3
_journal_name_full               'Chem. Sci.'
_journal_page_first              1991
_journal_paper_doi               10.1039/C4SC03588G
_journal_volume                  6
_journal_year                    2015
_chemical_absolute_configuration rm
_chemical_formula_moiety         'C6 H12 O6'
_chemical_formula_sum            'C6 H12 O6'
_chemical_formula_weight         180.16
_chemical_melting_point          419
_chemical_name_common            'α-D-glucose, Phase I'
_chemical_name_systematic
; 
 α-D-glucopyranose, Phase I   
;
_space_group_IT_number           19
_symmetry_cell_setting           orthorhombic
_symmetry_space_group_name_Hall  'P 2ac 2ab'
_symmetry_space_group_name_H-M   'P 21 21 21'
_atom_sites_solution_hydrogens   geom
_atom_sites_solution_primary     direct
_atom_sites_solution_secondary   difmap
_audit_creation_method           SHELXL-97
_audit_update_record
;
2014-11-17 deposited with the CCDC.
2014-12-15 downloaded from the CCDC.
;
_cell_angle_alpha                90.00
_cell_angle_beta                 90.00
_cell_angle_gamma                90.00
_cell_formula_units_Z            4
_cell_length_a                   10.040(2)
_cell_length_b                   14.796(3)
_cell_length_c                   4.3879(9)
_cell_measurement_reflns_used    1858
_cell_measurement_temperature    295(2)
_cell_measurement_theta_max      26.01
_cell_measurement_theta_min      4.85
_cell_volume                     651.8(2)
_computing_cell_refinement       'CrysAlisRED (Oxford Diffraction, 2004)'
_computing_data_collection       'CrysAlisCCD (Oxford Diffraction, 2004)'
_computing_data_reduction
'CrysAlisRED (Oxford Diffraction, 2004); REDSHABS (Katrusiak, A.  2003)'
_computing_molecular_graphics    'SHELXTL (Sheldrick, 1990)'
_computing_publication_material  'SHELXL--97 (Sheldrick, 1997)'
_computing_structure_refinement  'SHELXL--97 (Sheldrick, 1997)'
_computing_structure_solution    'SHELXS--97 (Sheldrick, 1997)'
_diffrn_ambient_environment      'diamond-anvil cell'
_diffrn_ambient_pressure         4200000
_diffrn_ambient_temperature      295(2)
_diffrn_measured_fraction_theta_full 0.143
_diffrn_measured_fraction_theta_max 0.143
_diffrn_measurement_device_type  'KM-4 CCD'
_diffrn_measurement_method       'φ- and ω-scans'
_diffrn_radiation_monochromator  graphite
_diffrn_radiation_source         'fine-focus sealed tube'
_diffrn_radiation_type           MoK\a
_diffrn_radiation_wavelength     0.71073
_diffrn_reflns_av_R_equivalents  0.1119
_diffrn_reflns_av_sigmaI/netI    0.1001
_diffrn_reflns_limit_h_max       1
_diffrn_reflns_limit_h_min       -1
_diffrn_reflns_limit_k_max       16
_diffrn_reflns_limit_k_min       -15
_diffrn_reflns_limit_l_max       5
_diffrn_reflns_limit_l_min       -5
_diffrn_reflns_number            1173
_diffrn_reflns_theta_full        26.01
_diffrn_reflns_theta_max         26.01
_diffrn_reflns_theta_min         4.85
_diffrn_standards_decay_%        0
_diffrn_standards_interval_count 0
_diffrn_standards_number         0
_exptl_absorpt_coefficient_mu    0.167
_exptl_absorpt_correction_T_max  0.86
_exptl_absorpt_correction_T_min  0.39
_exptl_absorpt_correction_type   numerical
_exptl_absorpt_process_details
; 
 Correction for absorption of the diamond-anvil cell and the sample 
 were made using program REDSHABS (Katrusiak, A. (2003) REDSHABS. Adam
 Mickiewicz University Poznań; Katrusiak, A. (2004) Z. Kristallogr.
 219, 461-467). 
;
_exptl_crystal_colour            colourless
_exptl_crystal_density_diffrn    1.836
_exptl_crystal_density_method    'not measured'
_exptl_crystal_description       plate
_exptl_crystal_F_000             384
_exptl_crystal_size_max          0.20
_exptl_crystal_size_mid          0.19
_exptl_crystal_size_min          0.16
_refine_diff_density_max         0.069
_refine_diff_density_min         -0.069
_refine_diff_density_rms         0.022
_refine_ls_abs_structure_details 'Flack H D (1983), Acta Cryst. A39, 876-881'
_refine_ls_abs_structure_Flack   3(10)
_refine_ls_extinction_method     none
_refine_ls_goodness_of_fit_ref   1.036
_refine_ls_hydrogen_treatment    constr
_refine_ls_matrix_type           full
_refine_ls_number_parameters     44
_refine_ls_number_reflns         153
_refine_ls_number_restraints     6
_refine_ls_restrained_S_all      1.021
_refine_ls_R_factor_all          0.0548
_refine_ls_R_factor_gt           0.0389
_refine_ls_shift/su_max          0.000
_refine_ls_shift/su_mean         0.000
_refine_ls_structure_factor_coef Fsqd
_refine_ls_weighting_details
'calc w=1/[σ²(Fo²)+(0.0222P)²+0.0000P] where P=(Fo²+2Fc²)/3'
_refine_ls_weighting_scheme      calc
_refine_ls_wR_factor_gt          0.0656
_refine_ls_wR_factor_ref         0.0677
_reflns_number_gt                116
_reflns_number_total             153
_reflns_threshold_expression     >2sigma(I)
_cod_data_source_file            c4sc03588g4.cif
_cod_data_source_block           glu9_4.20GPa
_cod_depositor_comments
'Adding full bibliography for 1518432--1518446.cif.'
_cod_database_code               1518440
loop_
_symmetry_equiv_pos_as_xyz
'x, y, z'
'-x+1/2, -y, z+1/2'
'-x, y+1/2, -z+1/2'
'x+1/2, -y+1/2, -z'
loop_
_atom_site_label
_atom_site_type_symbol
_atom_site_fract_x
_atom_site_fract_y
_atom_site_fract_z
_atom_site_U_iso_or_equiv
_atom_site_adp_type
_atom_site_occupancy
_atom_site_symmetry_multiplicity
_atom_site_calc_flag
_atom_site_refinement_flags
C1 C 0.180(3) 0.3917(7) 0.4988(19) 0.0246(16) Uiso 1 1 d D
H1 H 0.2691 0.3799 0.5807 0.030 Uiso 1 1 calc R
C2 C 0.090(3) 0.3167(7) 0.582(3) 0.0246(16) Uiso 1 1 d D
H2 H 0.1003 0.3134 0.8034 0.030 Uiso 1 1 calc R
C3 C -0.051(4) 0.3427(7) 0.546(2) 0.0246(16) Uiso 1 1 d D
H3 H -0.0701 0.3377 0.3280 0.030 Uiso 1 1 calc R
C4 C -0.087(3) 0.4338(7) 0.633(3) 0.0246(16) Uiso 1 1 d D
H4 H -0.0791 0.4380 0.8550 0.030 Uiso 1 1 calc R
C5 C 0.002(3) 0.5000(6) 0.503(3) 0.0246(16) Uiso 1 1 d D
H5 H -0.0032 0.4972 0.2799 0.030 Uiso 1 1 calc R
C6 C -0.018(5) 0.5944(5) 0.605(2) 0.0246(16) Uiso 1 1 d .
H7 H 0.0142 0.6005 0.8126 0.030 Uiso 1 1 calc R
H6 H -0.1124 0.6082 0.6047 0.030 Uiso 1 1 calc R
O1 O 0.184(3) 0.3891(5) 0.1737(14) 0.038(3) Uiso 1 1 d .
H8 H 0.2022 0.4395 0.1080 0.056 Uiso 1 1 calc R
O2 O 0.155(4) 0.2344(4) 0.4794(14) 0.037(3) Uiso 1 1 d .
H9 H 0.1076 0.2093 0.3521 0.055 Uiso 1 1 calc R
O3 O -0.138(3) 0.2736(4) 0.7015(12) 0.039(3) Uiso 1 1 d .
H10 H -0.2161 0.2874 0.6784 0.058 Uiso 1 1 calc R
O4 O -0.218(4) 0.4500(5) 0.5607(16) 0.041(3) Uiso 1 1 d .
H11 H -0.2415 0.4985 0.6339 0.061 Uiso 1 1 calc R
O5 O 0.134(3) 0.4791(4) 0.6005(14) 0.026(3) Uiso 1 1 d D
O6 O 0.050(3) 0.6573(3) 0.4162(13) 0.025(2) Uiso 1 1 d .
H12 H 0.0352 0.7088 0.4774 0.038 Uiso 1 1 calc R
loop_
_atom_type_symbol
_atom_type_description
_atom_type_scat_dispersion_real
_atom_type_scat_dispersion_imag
_atom_type_scat_source
C C 0.0033 0.0016 'International Tables Vol C Tables 4.2.6.8 and 6.1.1.4'
H H 0.0000 0.0000 'International Tables Vol C Tables 4.2.6.8 and 6.1.1.4'
O O 0.0106 0.0060 'International Tables Vol C Tables 4.2.6.8 and 6.1.1.4'
loop_
_geom_angle_atom_site_label_1
_geom_angle_atom_site_label_2
_geom_angle_atom_site_label_3
_geom_angle
O1 C1 C2 104.1(14)
O1 C1 O5 110.0(10)
C2 C1 O5 113.9(16)
O2 C2 C1 106(2)
O2 C2 C3 128.0(19)
C1 C2 C3 111.4(14)
O3 C3 C4 111.4(18)
O3 C3 C2 109.4(13)
C4 C3 C2 117(2)
C5 C4 C3 111.7(17)
C5 C4 O4 112.5(14)
C3 C4 O4 110(2)
C4 C5 O5 108.1(14)
C4 C5 C6 116.0(18)
O5 C5 C6 104(2)
C5 C6 O6 112.2(18)
C5 O5 C1 113.3(15)
loop_
_geom_bond_atom_site_label_1
_geom_bond_atom_site_label_2
_geom_bond_distance
C1 O1 1.428(10)
C1 C2 1.475(19)
C1 O5 1.442(14)
C2 O2 1.45(3)
C2 C3 1.47(2)
C3 O3 1.51(3)
C3 C4 1.449(6)
C4 C5 1.44(2)
C4 O4 1.37(5)
C5 O5 1.43(2)
C5 C6 1.480(12)
C6 O6 1.42(3)
loop_
_geom_torsion_atom_site_label_1
_geom_torsion_atom_site_label_2
_geom_torsion_atom_site_label_3
_geom_torsion_atom_site_label_4
_geom_torsion
O1 C1 C2 O2 63.6(19)
O5 C1 C2 O2 -176.6(14)
O1 C1 C2 C3 -80(2)
O5 C1 C2 C3 39.9(18)
O2 C2 C3 O3 59.8(19)
C1 C2 C3 O3 -166.6(7)
O2 C2 C3 C4 -172.1(11)
C1 C2 C3 C4 -38.5(16)
O3 C3 C4 C5 175.8(17)
C2 C3 C4 C5 49(2)
O3 C3 C4 O4 -58.4(19)
C2 C3 C4 O4 174.5(13)
C3 C4 C5 O5 -57.5(17)
O4 C4 C5 O5 177.9(11)
C3 C4 C5 C6 -173(2)
O4 C4 C5 C6 62(2)
C4 C5 C6 O6 -166(3)
O5 C5 C6 O6 76(3)
C4 C5 O5 C1 61.8(12)
C6 C5 O5 C1 -174.6(12)
O1 C1 O5 C5 62(2)
C2 C1 O5 C5 -54.1(13)
