#------------------------------------------------------------------------------
#$Date: 2017-01-27 16:16:14 +0200 (Fri, 27 Jan 2017) $
#$Revision: 191028 $
#$URL: file:///home/coder/svn-repositories/cod/cif/1/51/90/1519046.cif $
#------------------------------------------------------------------------------
#
# This file is available in the Crystallography Open Database (COD),
# http://www.crystallography.net/
#
# All data on this site have been placed in the public domain by the
# contributors.
#
data_1519046
loop_
_publ_author_name
'Robert L. LaDuca Jr.'
'Randy S. Rarig Jr.'
'Pamela J. Zapf'
'Jon Zubieta'
_publ_section_title
;
 Ag (I)-organodiimine coordination complex polymers: structural influences
 of ligand geometries and charge-compensating oxoanions
;
_journal_name_full               'Solid State Sciences'
_journal_page_first              39
_journal_page_last               45
_journal_volume                  2
_journal_year                    1998
_chemical_formula_sum            'C20 H28 Ag2 N4 O10 S'
_chemical_formula_weight         732.26
_space_group_IT_number           2
_symmetry_cell_setting           triclinic
_symmetry_Int_Tables_number      2
_symmetry_space_group_name_Hall  '-P 1'
_symmetry_space_group_name_H-M   'P -1'
_cell_angle_alpha                106.13(1)
_cell_angle_beta                 97.72(1)
_cell_angle_gamma                95.89(2)
_cell_formula_units_Z            2
_cell_length_a                   8.559(6)
_cell_length_b                   10.944(9)
_cell_length_c                   14.534(11)
_cell_volume                     1281.9(17)
_diffrn_ambient_temperature      150
_diffrn_radiation_probe          x-ray
_diffrn_radiation_type           MoK\a
_diffrn_radiation_wavelength     0.71073
_exptl_absorpt_coefficient_mu    1.670
_exptl_crystal_density_diffrn    1.897
_refine_ls_R_factor_gt           0.0250
_refine_ls_wR_factor_gt          0.0647
_cod_data_source_file            SSS-2000-2-39-45-2.cif
_cod_data_source_block           2
_cod_depositor_comments
;
 Changing atom parameters to '?' to indicate that atomic coordinates
 for this entry are unknown.

 Antanas Vaitkus,
 2017-01-27

No atomic coordinates provided in the paper,
deposited with the Cambridge Crystallographic Data Centre, 
as supplementary material No 139583.
;
_cod_original_cell_volume        1282(2)
_cod_database_code               1519046
loop_
_symmetry_equiv_pos_site_id
_symmetry_equiv_pos_as_xyz
1 x,y,z
2 -x,-y,-z
loop_
_atom_site_label
_atom_site_type_symbol
_atom_site_fract_x
_atom_site_fract_y
_atom_site_fract_z
_atom_site_U_iso_or_equiv
? ? ? ? ? ?
