#------------------------------------------------------------------------------
#$Date: 2016-12-06 16:28:16 +0200 (Tue, 06 Dec 2016) $
#$Revision: 188978 $
#$URL: file:///home/coder/svn-repositories/cod/cif/1/52/06/1520650.cif $
#------------------------------------------------------------------------------
#
# This file is available in the Crystallography Open Database (COD),
# http://www.crystallography.net/
#
# All data on this site have been placed in the public domain by the
# contributors.
#
data_1520650
loop_
_publ_author_name
'Hegab, Mohamed I.'
'Abdel-Megeid, Farouk M. E.'
'Gad, Farouk A.'
'Shiba, Sayed A.'
'Sotofte, Inger'
'Moller, Jorgen'
'Senning, Alexander'
_publ_section_title
;
 New Reactions with Thiosulfines/Dithiiranes: Cycloadditions Leading to
 Dispiro Derivatives of 1,2,4-Trithiolane.
;
_journal_name_full               'Acta Chemica Scandinavica'
_journal_page_first              133
_journal_page_last               140
_journal_paper_doi               10.3891/acta.chem.scand.53-0133
_journal_volume                  53
_journal_year                    1999
_chemical_formula_sum            'C28 H32 O2 S3'
_chemical_formula_weight         496.73
_space_group_IT_number           2
_symmetry_cell_setting           triclinic
_symmetry_Int_Tables_number      2
_symmetry_space_group_name_Hall  '-P 1'
_symmetry_space_group_name_H-M   'P -1'
_cell_angle_alpha                78.2660(1)
_cell_angle_beta                 80.5360(1)
_cell_angle_gamma                62.967(1)
_cell_formula_units_Z            2
_cell_length_a                   9.8988(3)
_cell_length_b                   10.1076(3)
_cell_length_c                   14.4903(4)
_cell_volume                     1260.10(6)
_diffrn_ambient_temperature      296
_diffrn_radiation_probe          x-ray
_diffrn_radiation_type           MoK\a
_diffrn_radiation_wavelength     0.71069
_refine_ls_number_reflns         5436
_refine_ls_R_factor_gt           0.0381
_refine_ls_wR_factor_gt          0.1013
_cod_data_source_file            Acta-Chem-Scand-1999-53-133-140-5.cif
_cod_data_source_block           5
_cod_depositor_comments
;
No atomic coordinates in the paper, a dummy atom was added

 The dummy atom was replaced by unknown values. This is the
 standard way of marking entries in the COD that do not contain
 coordinates.

 Antanas Vaitkus,
 2016-12-06
;
_cod_original_cell_volume        1260.16(6)
_cod_database_code               1520650
loop_
_symmetry_equiv_pos_site_id
_symmetry_equiv_pos_as_xyz
1 x,y,z
2 -x,-y,-z
loop_
_atom_site_label
_atom_site_type_symbol
_atom_site_fract_x
_atom_site_fract_y
_atom_site_fract_z
_atom_site_U_iso_or_equiv
_atom_site_calc_flag
? ? ? ? ? ? ?
