#------------------------------------------------------------------------------
#$Date: 2015-07-10 23:13:42 +0300 (Fri, 10 Jul 2015) $
#$Revision: 143307 $
#$URL: svn://www.crystallography.net/cod/cif/1/52/30/1523000.cif $
#------------------------------------------------------------------------------
#
# This file is available in the Crystallography Open Database (COD),
# http://www.crystallography.net/
#
# All data on this site have been placed in the public domain by the
# contributors.
#
data_1523000
loop_
_publ_author_name
'Tezuka, S.'
'Sakai, S.'
'Nakagawa, Y.'
_publ_section_title
;
 Ferromagnetism of Mn-Zn alloy
;
_journal_name_full               'Journal of the Physical Society of Japan'
_journal_page_first              931
_journal_page_last               931
_journal_volume                  15
_journal_year                    1960
_chemical_formula_sum            'Mn0.27 Zn0.73'
_chemical_name_systematic        '(Mn0.27 Zn0.73)'
_space_group_IT_number           194
_symmetry_space_group_name_Hall  '-P 6c 2c'
_symmetry_space_group_name_H-M   'P 63/m m c'
_cell_angle_alpha                90
_cell_angle_beta                 90
_cell_angle_gamma                120
_cell_formula_units_Z            2
_cell_length_a                   2.75
_cell_length_b                   2.75
_cell_length_c                   4.428
_cell_volume                     29.000
_citation_journal_id_ASTM        JUPSAU
_cod_data_source_file            Tezuka_JUPSAU_1960_1206.cif
_cod_data_source_block           Mn0.27Zn0.73
_cod_original_cell_volume        29.00038
_cod_database_code               1523000
loop_
_symmetry_equiv_pos_as_xyz
x,y,z
x-y,x,z+1/2
-y,x-y,z
-x,-y,z+1/2
-x+y,-x,z
y,-x+y,z+1/2
-y,-x,-z+1/2
x-y,-y,-z
x,x-y,-z+1/2
y,x,-z
-x+y,y,-z+1/2
-x,-x+y,-z
-x,-y,-z
-x+y,-x,-z-1/2
y,-x+y,-z
x,y,-z-1/2
x-y,x,-z
-y,x-y,-z-1/2
y,x,z-1/2
-x+y,y,z
-x,-x+y,z-1/2
-y,-x,z
x-y,-y,z-1/2
x,x-y,z
loop_
_atom_site_label
_atom_site_type_symbol
_atom_site_fract_x
_atom_site_fract_y
_atom_site_fract_z
_atom_site_occupancy
_atom_site_U_iso_or_equiv
Zn1 Zn 0.3333 0.6667 0.25 0.73 0.0
Mn1 Mn 0.3333 0.6667 0.25 0.27 0.0
