#------------------------------------------------------------------------------
#$Date: 2025-08-18 18:02:58 +0300 (Mon, 18 Aug 2025) $
#$Revision: 301777 $
#$URL: file:///home/coder/svn-repositories/cod/cif/1/52/31/1523130.cif $
#------------------------------------------------------------------------------
#
# This file is available in the Crystallography Open Database (COD),
# http://www.crystallography.net/
#
# All data on this site have been placed in the public domain by the
# contributors.
#
data_1523130
loop_
_publ_author_name
'Zalkin, A.'
'Ramsey, W.J.'
_publ_section_title
;
 Intermetallic compounds between lithium and lead. III. the beta'-beta
 transition in Li Pb
;
_journal_name_full               'Journal of Physical Chemistry'
_journal_page_first              1413
_journal_page_last               1415
_journal_volume                  61
_journal_year                    1957
_chemical_formula_sum            'Li Pb'
_space_group_IT_number           166
_symmetry_space_group_name_Hall  '-R 3 2"'
_symmetry_space_group_name_H-M   'R -3 m :H'
_cell_angle_alpha                90
_cell_angle_beta                 90
_cell_angle_gamma                120
_cell_formula_units_Z            3
_cell_length_a                   4.987
_cell_length_b                   4.987
_cell_length_c                   6.188
_cell_volume                     133.278
_citation_journal_id_ASTM        JPCHAX
_cod_data_source_file            Zalkin_JPCHAX_1957_986.cif
_cod_data_source_block           Li1Pb1
_cod_original_cell_volume        133.2784
_cod_original_formula_sum        'Li1 Pb1'
_cod_database_code               1523130
loop_
_symmetry_equiv_pos_as_xyz
x,y,z
-y,x-y,z
-x+y,-x,z
y,x,-z
-x,-x+y,-z
x-y,-y,-z
-x,-y,-z
y,-x+y,-z
x-y,x,-z
-y,-x,z
x,x-y,z
-x+y,y,z
x+2/3,y+1/3,z+1/3
-y+2/3,x-y+1/3,z+1/3
-x+y+2/3,-x+1/3,z+1/3
y+2/3,x+1/3,-z+1/3
-x+2/3,-x+y+1/3,-z+1/3
x-y+2/3,-y+1/3,-z+1/3
-x+2/3,-y+1/3,-z+1/3
y+2/3,-x+y+1/3,-z+1/3
x-y+2/3,x+1/3,-z+1/3
-y+2/3,-x+1/3,z+1/3
x+2/3,x-y+1/3,z+1/3
-x+y+2/3,y+1/3,z+1/3
x+1/3,y+2/3,z+2/3
-y+1/3,x-y+2/3,z+2/3
-x+y+1/3,-x+2/3,z+2/3
y+1/3,x+2/3,-z+2/3
-x+1/3,-x+y+2/3,-z+2/3
x-y+1/3,-y+2/3,-z+2/3
-x+1/3,-y+2/3,-z+2/3
y+1/3,-x+y+2/3,-z+2/3
x-y+1/3,x+2/3,-z+2/3
-y+1/3,-x+2/3,z+2/3
x+1/3,x-y+2/3,z+2/3
-x+y+1/3,y+2/3,z+2/3
loop_
_atom_site_label
_atom_site_type_symbol
_atom_site_fract_x
_atom_site_fract_y
_atom_site_fract_z
_atom_site_occupancy
_atom_site_U_iso_or_equiv
Pb1 Pb 0 0 0 1 0.0
Li1 Li 0 0 0.5 1 0.0
loop_
_cod_related_entry_id
_cod_related_entry_database
_cod_related_entry_code
1 PubChem 85667925
