#------------------------------------------------------------------------------
#$Date: 2016-09-16 14:55:27 +0300 (Fri, 16 Sep 2016) $
#$Revision: 186592 $
#$URL: file:///home/coder/svn-repositories/cod/cif/1/53/10/1531001.cif $
#------------------------------------------------------------------------------
#
# This file is available in the Crystallography Open Database (COD),
# http://www.crystallography.net/
#
# All data on this site have been placed in the public domain by the
# contributors.
#
data_1531001
loop_
_publ_author_name
'Winter, R.'
'Schindewolf, U.'
_publ_section_title
;
 Preparation and some properties of a new solid Sodium-ammonia compound Na
 (N H3)3
;
_journal_name_full
'Berichte der Bunsengesellschaft fuer Physikalische Chemie'
_journal_page_first              1093
_journal_page_last               1097
_journal_volume                  86
_journal_year                    1982
_chemical_formula_sum            'H9 N3 Na'
_chemical_name_systematic        'Na (N H3)3'
_space_group_IT_number           221
_symmetry_space_group_name_Hall  '-P 4 2 3'
_symmetry_space_group_name_H-M   'P m -3 m'
_cell_angle_alpha                90
_cell_angle_beta                 90
_cell_angle_gamma                90
_cell_formula_units_Z            1
_cell_length_a                   5.108
_cell_length_b                   5.108
_cell_length_c                   5.108
_cell_volume                     133.276
_citation_journal_id_ASTM        BBPCAX
_cod_data_source_file            Winter_BBPCAX_1982_901.cif
_cod_data_source_block           H9N3Na1
_cod_original_cell_volume        133.2762
_cod_original_formula_sum        'H9 N3 Na1'
_cod_database_code               1531001
loop_
_symmetry_equiv_pos_as_xyz
x,y,z
-y,x,z
-x,-y,z
y,-x,z
x,-y,-z
y,x,-z
-x,y,-z
-y,-x,-z
z,x,y
-x,z,y
-z,-x,y
x,-z,y
z,-x,-y
x,z,-y
-z,x,-y
-x,-z,-y
y,z,x
y,-z,-x
z,y,-x
-y,z,-x
-z,-y,-x
-y,-z,x
z,-y,x
-z,y,x
-x,-y,-z
y,-x,-z
x,y,-z
-y,x,-z
-x,y,z
-y,-x,z
x,-y,z
y,x,z
-z,-x,-y
x,-z,-y
z,x,-y
-x,z,-y
-z,x,y
-x,-z,y
z,-x,y
x,z,y
-y,-z,-x
-y,z,x
-z,-y,x
y,-z,x
z,y,x
y,z,-x
-z,y,-x
z,-y,-x
loop_
_atom_site_label
_atom_site_type_symbol
_atom_site_fract_x
_atom_site_fract_y
_atom_site_fract_z
_atom_site_occupancy
_atom_site_U_iso_or_equiv
_atom_site_attached_hydrogens
Na1 Na 0 0 0 1 0.0 0
N1 N-3 0.5 0.5 0 1 0.0 3
