#------------------------------------------------------------------------------
#$Date: 2018-09-27 07:13:35 +0300 (Thu, 27 Sep 2018) $
#$Revision: 211196 $
#$URL: file:///home/coder/svn-repositories/cod/cif/1/53/10/1531015.cif $
#------------------------------------------------------------------------------
#
# This file is available in the Crystallography Open Database (COD),
# http://www.crystallography.net/
#
# All data on this site have been placed in the public domain by the
# contributors.
#
data_1531015
loop_
_publ_author_name
'Zarechnyuk, O.S.'
'Kripyakevich, P.I.'
'Kolobnev, I.F.'
'Cherkashin, E.E.'
_publ_section_title
;
 The quaternary compound Ce3 Mn Cu8 Al24 and its crystal structure
;
_journal_name_full
'Izvestiya Akademii Nauk SSSR, Neorganicheskie Materialy'
_journal_page_first              182
_journal_page_last               183
_journal_volume                  3
_journal_year                    1967
_chemical_formula_sum            'Al24 Ce3 Cu8 Mn'
_space_group_IT_number           221
_symmetry_space_group_name_Hall  '-P 4 2 3'
_symmetry_space_group_name_H-M   'P m -3 m'
_cell_angle_alpha                90
_cell_angle_beta                 90
_cell_angle_gamma                90
_cell_formula_units_Z            1
_cell_length_a                   8.38
_cell_length_b                   8.38
_cell_length_c                   8.38
_cell_volume                     588.480
_citation_journal_id_ASTM        IVNMAW
_cod_data_source_file            Zarechnyuk_IVNMAW_1967_1917.cif
_cod_data_source_block           Al24Ce3Cu8Mn1
_cod_original_cell_volume        588.4805
_cod_original_formula_sum        'Al24 Ce3 Cu8 Mn1'
_cod_database_code               1531015
loop_
_symmetry_equiv_pos_as_xyz
x,y,z
-y,x,z
-x,-y,z
y,-x,z
x,-y,-z
y,x,-z
-x,y,-z
-y,-x,-z
z,x,y
-x,z,y
-z,-x,y
x,-z,y
z,-x,-y
x,z,-y
-z,x,-y
-x,-z,-y
y,z,x
y,-z,-x
z,y,-x
-y,z,-x
-z,-y,-x
-y,-z,x
z,-y,x
-z,y,x
-x,-y,-z
y,-x,-z
x,y,-z
-y,x,-z
-x,y,z
-y,-x,z
x,-y,z
y,x,z
-z,-x,-y
x,-z,-y
z,x,-y
-x,z,-y
-z,x,y
-x,-z,y
z,-x,y
x,z,y
-y,-z,-x
-y,z,x
-z,-y,x
y,-z,x
z,y,x
y,z,-x
-z,y,-x
z,-y,-x
loop_
_atom_site_label
_atom_site_type_symbol
_atom_site_fract_x
_atom_site_fract_y
_atom_site_fract_z
_atom_site_occupancy
_atom_site_U_iso_or_equiv
Ce1 Ce 0.5 0 0 1 0.0
Al2 Al 0.5 0.267 0.267 1 0.0
Al1 Al 0 0.345 0.345 1 0.0
Cu1 Cu 0.153 0.153 0.153 1 0.0
Mn1 Mn 0.5 0.5 0.5 1 0.0
