#------------------------------------------------------------------------------
#$Date: 2015-09-18 23:58:28 +0300 (Fri, 18 Sep 2015) $
#$Revision: 157885 $
#$URL: svn://www.crystallography.net/cod/cif/1/53/22/1532219.cif $
#------------------------------------------------------------------------------
#
# This file is available in the Crystallography Open Database (COD),
# http://www.crystallography.net/
#
# All data on this site have been placed in the public domain by the
# contributors.
#
data_1532219
loop_
_publ_author_name
'Seff, K.'
_publ_section_title
;
 The Crystal Structure of a Sulfur Sorption Complex of Zeolite 4A
;
_journal_name_full               'Journal of Physical Chemistry'
_journal_page_first              2601
_journal_page_last               2605
_journal_volume                  76
_journal_year                    1972
_chemical_formula_sum            'Al11 Na11 O48 S16 Si13'
_chemical_name_systematic        'Na11 Al11 Si13 O48 S16'
_space_group_IT_number           221
_symmetry_space_group_name_Hall  '-P 4 2 3'
_symmetry_space_group_name_H-M   'P m -3 m'
_cell_angle_alpha                90
_cell_angle_beta                 90
_cell_angle_gamma                90
_cell_formula_units_Z            1
_cell_length_a                   12.289
_cell_length_b                   12.289
_cell_length_c                   12.289
_cell_volume                     1855.879
_citation_journal_id_ASTM        JPCHAX
_cod_data_source_file            Seff_JPCHAX_1972_155.cif
_cod_data_source_block           Al11Na11O48S16Si13
_cod_database_code               1532219
loop_
_symmetry_equiv_pos_as_xyz
x,y,z
-y,x,z
-x,-y,z
y,-x,z
x,-y,-z
y,x,-z
-x,y,-z
-y,-x,-z
z,x,y
-x,z,y
-z,-x,y
x,-z,y
z,-x,-y
x,z,-y
-z,x,-y
-x,-z,-y
y,z,x
y,-z,-x
z,y,-x
-y,z,-x
-z,-y,-x
-y,-z,x
z,-y,x
-z,y,x
-x,-y,-z
y,-x,-z
x,y,-z
-y,x,-z
-x,y,z
-y,-x,z
x,-y,z
y,x,z
-z,-x,-y
x,-z,-y
z,x,-y
-x,z,-y
-z,x,y
-x,-z,y
z,-x,y
x,z,y
-y,-z,-x
-y,z,x
-z,-y,x
y,-z,x
z,y,x
y,z,-x
-z,y,-x
z,-y,-x
loop_
_atom_site_label
_atom_site_type_symbol
_atom_site_fract_x
_atom_site_fract_y
_atom_site_fract_z
_atom_site_occupancy
_atom_site_U_iso_or_equiv
Si1 Si+4 0 0.1824 0.3706 0.5417 0.0
O2 O-2 0 0.295 0.295 1 0.0
Al1 Al+3 0 0.1824 0.3706 0.4583 0.0
S1 S 0.293 0.358 0.358 0.3333 0.0
O1 O-2 0 0.219 0.5 1 0.0
Na2 Na+1 0 0.44 0.44 0.25 0.0
S2 S 0.246 0.307 0.5 0.3333 0.0
O3 O-2 0.112 0.112 0.339 1 0.0
Na1 Na+1 0.209 0.209 0.209 1 0.0
