#------------------------------------------------------------------------------
#$Date: 2016-02-13 21:28:24 +0200 (Sat, 13 Feb 2016) $
#$Revision: 176429 $
#$URL: svn://www.crystallography.net/cod/cif/1/53/51/1535166.cif $
#------------------------------------------------------------------------------
#
# This file is available in the Crystallography Open Database (COD),
# http://www.crystallography.net/
#
# All data on this site have been placed in the public domain by the
# contributors.
#
data_1535166
loop_
_publ_author_name
'Haupt, S.'
'Seppelt, K.'
_publ_section_title
;
 Solid state structures of As Cl5 and Sb Cl5
;
_journal_name_full
'Zeitschrift fuer Anorganische und Allgemeine Chemie'
_journal_page_first              729
_journal_page_last               734
_journal_volume                  628
_journal_year                    2002
_chemical_formula_sum            'Cl5 Sb'
_chemical_name_systematic        'Sb Cl5'
_space_group_IT_number           194
_symmetry_space_group_name_Hall  '-P 6c 2c'
_symmetry_space_group_name_H-M   'P 63/m m c'
_cell_angle_alpha                90
_cell_angle_beta                 90
_cell_angle_gamma                120
_cell_formula_units_Z            2
_cell_length_a                   7.4144
_cell_length_b                   7.4144
_cell_length_c                   7.9401
_cell_volume                     378.015
_citation_journal_id_ASTM        ZAACAB
_cod_data_source_file            Haupt_ZAACAB_2002_381.cif
_cod_data_source_block           Cl5Sb1
_cod_original_cell_volume        378.0147
_cod_original_formula_sum        'Cl5 Sb1'
_cod_database_code               1535166
loop_
_symmetry_equiv_pos_as_xyz
x,y,z
x-y,x,z+1/2
-y,x-y,z
-x,-y,z+1/2
-x+y,-x,z
y,-x+y,z+1/2
-y,-x,-z+1/2
x-y,-y,-z
x,x-y,-z+1/2
y,x,-z
-x+y,y,-z+1/2
-x,-x+y,-z
-x,-y,-z
-x+y,-x,-z-1/2
y,-x+y,-z
x,y,-z-1/2
x-y,x,-z
-y,x-y,-z-1/2
y,x,z-1/2
-x+y,y,z
-x,-x+y,z-1/2
-y,-x,z
x-y,-y,z-1/2
x,x-y,z
loop_
_atom_site_label
_atom_site_type_symbol
_atom_site_fract_x
_atom_site_fract_y
_atom_site_fract_z
_atom_site_occupancy
_atom_site_U_iso_or_equiv
Sb1 Sb+5 0.6667 0.3333 0.75 1 0.0
Cl2 Cl-1 0.84346 0.68692 0.75 1 0.0
Cl1 Cl-1 0.6667 0.3333 0.4561 1 0.0
