#------------------------------------------------------------------------------
#$Date: 2016-02-13 21:28:24 +0200 (Sat, 13 Feb 2016) $
#$Revision: 176429 $
#$URL: svn://www.crystallography.net/cod/cif/1/53/59/1535983.cif $
#------------------------------------------------------------------------------
#
# This file is available in the Crystallography Open Database (COD),
# http://www.crystallography.net/
#
# All data on this site have been placed in the public domain by the
# contributors.
#
data_1535983
loop_
_publ_author_name
'Velden, A.'
'Jansen, M.'
_publ_section_title
;
 Zur Kenntnis der inversen Perowskite M3 T O (M = Ca, Sr, Yb; T = Si, Ge,
 Sn, Pb)
;
_journal_name_full
'Zeitschrift fuer Anorganische und Allgemeine Chemie'
_journal_page_first              234
_journal_page_last               238
_journal_volume                  630
_journal_year                    2004
_chemical_formula_sum            'O Pb Yb3'
_chemical_name_systematic        'Yb3 Pb O'
_space_group_IT_number           221
_symmetry_space_group_name_Hall  '-P 4 2 3'
_symmetry_space_group_name_H-M   'P m -3 m'
_cell_angle_alpha                90
_cell_angle_beta                 90
_cell_angle_gamma                90
_cell_formula_units_Z            1
_cell_length_a                   4.85867
_cell_length_b                   4.85867
_cell_length_c                   4.85867
_cell_volume                     114.697
_citation_journal_id_ASTM        ZAACAB
_cod_data_source_file            Velden_ZAACAB_2004_1192.cif
_cod_data_source_block           O1Pb1Yb3
_cod_original_cell_volume        114.6971
_cod_original_formula_sum        'O1 Pb1 Yb3'
_cod_database_code               1535983
loop_
_symmetry_equiv_pos_as_xyz
x,y,z
-y,x,z
-x,-y,z
y,-x,z
x,-y,-z
y,x,-z
-x,y,-z
-y,-x,-z
z,x,y
-x,z,y
-z,-x,y
x,-z,y
z,-x,-y
x,z,-y
-z,x,-y
-x,-z,-y
y,z,x
y,-z,-x
z,y,-x
-y,z,-x
-z,-y,-x
-y,-z,x
z,-y,x
-z,y,x
-x,-y,-z
y,-x,-z
x,y,-z
-y,x,-z
-x,y,z
-y,-x,z
x,-y,z
y,x,z
-z,-x,-y
x,-z,-y
z,x,-y
-x,z,-y
-z,x,y
-x,-z,y
z,-x,y
x,z,y
-y,-z,-x
-y,z,x
-z,-y,x
y,-z,x
z,y,x
y,z,-x
-z,y,-x
z,-y,-x
loop_
_atom_site_label
_atom_site_type_symbol
_atom_site_fract_x
_atom_site_fract_y
_atom_site_fract_z
_atom_site_occupancy
_atom_site_U_iso_or_equiv
Pb1 Pb-4 0 0 0 1 0.0
O1 O-2 0.5 0.5 0.5 1 0.0
Yb1 Yb+2 0 0.5 0.5 1 0.0
