#------------------------------------------------------------------------------
#$Date: 2016-02-13 21:28:24 +0200 (Sat, 13 Feb 2016) $
#$Revision: 176429 $
#$URL: svn://www.crystallography.net/cod/cif/1/53/70/1537092.cif $
#------------------------------------------------------------------------------
#
# This file is available in the Crystallography Open Database (COD),
# http://www.crystallography.net/
#
# All data on this site have been placed in the public domain by the
# contributors.
#
data_1537092
loop_
_publ_author_name
'Franzen, H.F.'
'Leebrick, D.H.'
'Laabs, F.'
_publ_section_title
;
 Variation of lattice parameters in Ti S - V S solid solutions
;
_journal_name_full               'Journal of Solid State Chemistry'
_journal_page_first              307
_journal_page_last               310
_journal_volume                  13
_journal_year                    1975
_chemical_formula_sum            'S Ti0.75 V0.25'
_chemical_name_systematic        '(Ti0.75 V0.25) S'
_space_group_IT_number           194
_symmetry_space_group_name_Hall  '-P 6c 2c'
_symmetry_space_group_name_H-M   'P 63/m m c'
_cell_angle_alpha                90
_cell_angle_beta                 90
_cell_angle_gamma                120
_cell_formula_units_Z            2
_cell_length_a                   3.347
_cell_length_b                   3.347
_cell_length_c                   6.094
_cell_volume                     59.121
_citation_journal_id_ASTM        JSSCBI
_cod_data_source_file            Franzen_JSSCBI_1975_793.cif
_cod_data_source_block           S1Ti0.75V0.25
_cod_original_cell_volume        59.12137
_cod_original_formula_sum        'S1 Ti0.75 V0.25'
_cod_database_code               1537092
loop_
_symmetry_equiv_pos_as_xyz
x,y,z
x-y,x,z+1/2
-y,x-y,z
-x,-y,z+1/2
-x+y,-x,z
y,-x+y,z+1/2
-y,-x,-z+1/2
x-y,-y,-z
x,x-y,-z+1/2
y,x,-z
-x+y,y,-z+1/2
-x,-x+y,-z
-x,-y,-z
-x+y,-x,-z-1/2
y,-x+y,-z
x,y,-z-1/2
x-y,x,-z
-y,x-y,-z-1/2
y,x,z-1/2
-x+y,y,z
-x,-x+y,z-1/2
-y,-x,z
x-y,-y,z-1/2
x,x-y,z
loop_
_atom_site_label
_atom_site_type_symbol
_atom_site_fract_x
_atom_site_fract_y
_atom_site_fract_z
_atom_site_occupancy
_atom_site_U_iso_or_equiv
Ti1 Ti+2 0 0 0 0.75 0.0
S1 S-2 0.3333 0.6667 0.25 1 0.0
V1 V+2 0 0 0 0.25 0.0
