#------------------------------------------------------------------------------
#$Date: 2016-02-13 21:28:24 +0200 (Sat, 13 Feb 2016) $
#$Revision: 176429 $
#$URL: svn://www.crystallography.net/cod/cif/1/53/72/1537240.cif $
#------------------------------------------------------------------------------
#
# This file is available in the Crystallography Open Database (COD),
# http://www.crystallography.net/
#
# All data on this site have been placed in the public domain by the
# contributors.
#
data_1537240
loop_
_publ_author_name
'Gao Bo'
'Liu Shuxia'
'Cheng Haiyan'
'Zhang Chundan'
'Xie Linhua'
'Sun Chunyan'
'Yu Miao'
_publ_section_title
;
 Hydrothermal assembly of (3,6)-connected networks with classical mineral
 structures constructed from Anderson-type heteropolymolybdate and metal
 cations
;
_journal_name_full               'Journal of Solid State Chemistry'
_journal_page_first              1681
_journal_page_last               1689
_journal_volume                  179
_journal_year                    2006
_chemical_formula_sum            'Co2 H22 Mo6 N2 O31 Te'
_chemical_name_systematic        '(N H4)2 ((Co (H2 O)3)2 (Te Mo6 O24)) (H2 O)'
_space_group_IT_number           205
_symmetry_space_group_name_Hall  '-P 2ac 2ab 3'
_symmetry_space_group_name_H-M   'P a -3'
_cell_angle_alpha                90
_cell_angle_beta                 90
_cell_angle_gamma                90
_cell_formula_units_Z            4
_cell_length_a                   14.0513
_cell_length_b                   14.0513
_cell_length_c                   14.0513
_cell_volume                     2774.275
_citation_journal_id_ASTM        JSSCBI
_cod_data_source_file            GaoBo_JSSCBI_2006_1992.cif
_cod_data_source_block           H22Co2Mo6N2O31Te1
_cod_original_formula_sum        'H22 Co2 Mo6 N2 O31 Te1'
_cod_database_code               1537240
loop_
_symmetry_equiv_pos_as_xyz
x,y,z
-x+1/2,-y,z+1/2
x+1/2,-y+1/2,-z
-x,y+1/2,-z+1/2
z,x,y
-z+1/2,-x,y+1/2
z+1/2,-x+1/2,-y
-z,x+1/2,-y+1/2
y,z,x
y+1/2,-z+1/2,-x
-y,z+1/2,-x+1/2
-y+1/2,-z,x+1/2
-x,-y,-z
x-1/2,y,-z-1/2
-x-1/2,y-1/2,z
x,-y-1/2,z-1/2
-z,-x,-y
z-1/2,x,-y-1/2
-z-1/2,x-1/2,y
z,-x-1/2,y-1/2
-y,-z,-x
-y-1/2,z-1/2,x
y,-z-1/2,x-1/2
y-1/2,z,-x-1/2
loop_
_atom_site_label
_atom_site_type_symbol
_atom_site_fract_x
_atom_site_fract_y
_atom_site_fract_z
_atom_site_occupancy
_atom_site_U_iso_or_equiv
H4 H+1 0.92 0.58 0.42 1 0.0
Te1 Te+6 0 0.5 0 1 0.0
O2 O-2 0.153 0.6988 0.2047 1 0.0
N1 N-3 0.8849 0.6151 0.3849 1 0.0
O5 O-2 0.0908 0.8878 0.2489 1 0.0
Mo1 Mo+6 0.10163 0.58769 0.19151 1 0.0
Co1 Co+2 0.19888 0.80112 0.30112 1 0.0
O4 O-2 0.1122 0.5319 0.2989 1 0.0
O6 O-2 1 0.5 0.5 1 0.0
H1 H+1 0.052 0.911 0.288 1 0.0
H3 H+1 0.883 0.679 0.412 1 0.0
O1 O-2 -0.03071 0.6222 0.20499 1 0.0
H2 H+1 0.05 0.859 0.208 1 0.0
O3 O-2 0.04102 0.45501 0.1231 1 0.0
