#------------------------------------------------------------------------------
#$Date: 2016-02-13 21:28:24 +0200 (Sat, 13 Feb 2016) $
#$Revision: 176429 $
#$URL: svn://www.crystallography.net/cod/cif/1/53/77/1537760.cif $
#------------------------------------------------------------------------------
#
# This file is available in the Crystallography Open Database (COD),
# http://www.crystallography.net/
#
# All data on this site have been placed in the public domain by the
# contributors.
#
data_1537760
loop_
_publ_author_name
'Das, I.'
'Sampathkumaran, E.V.'
'Vijayaraghavan, R.'
_publ_section_title
;
 A phase transition in the pseudoternary solid solutions Y Cu2-x Nix Si2
;
_journal_name_full               'Journal of the Less-Common Metals'
_journal_page_first              L13
_journal_page_last               L15
_journal_volume                  171
_journal_year                    1991
_chemical_formula_sum            'Ni2 Si2 Y'
_chemical_name_systematic        'Ni2 Y Si2'
_space_group_IT_number           139
_symmetry_space_group_name_Hall  '-I 4 2'
_symmetry_space_group_name_H-M   'I 4/m m m'
_cell_angle_alpha                90
_cell_angle_beta                 90
_cell_angle_gamma                90
_cell_formula_units_Z            2
_cell_length_a                   3.959
_cell_length_b                   3.959
_cell_length_c                   9.55
_cell_volume                     149.684
_citation_journal_id_ASTM        JCOMAH
_cod_data_source_file            Das_JCOMAH_1991_1059.cif
_cod_data_source_block           Ni2Si2Y1
_cod_original_cell_volume        149.6837
_cod_original_formula_sum        'Ni2 Si2 Y1'
_cod_database_code               1537760
loop_
_symmetry_equiv_pos_as_xyz
x,y,z
-y,x,z
-x,-y,z
y,-x,z
x,-y,-z
y,x,-z
-x,y,-z
-y,-x,-z
-x,-y,-z
y,-x,-z
x,y,-z
-y,x,-z
-x,y,z
-y,-x,z
x,-y,z
y,x,z
x+1/2,y+1/2,z+1/2
-y+1/2,x+1/2,z+1/2
-x+1/2,-y+1/2,z+1/2
y+1/2,-x+1/2,z+1/2
x+1/2,-y+1/2,-z+1/2
y+1/2,x+1/2,-z+1/2
-x+1/2,y+1/2,-z+1/2
-y+1/2,-x+1/2,-z+1/2
-x+1/2,-y+1/2,-z+1/2
y+1/2,-x+1/2,-z+1/2
x+1/2,y+1/2,-z+1/2
-y+1/2,x+1/2,-z+1/2
-x+1/2,y+1/2,z+1/2
-y+1/2,-x+1/2,z+1/2
x+1/2,-y+1/2,z+1/2
y+1/2,x+1/2,z+1/2
loop_
_atom_site_label
_atom_site_type_symbol
_atom_site_fract_x
_atom_site_fract_y
_atom_site_fract_z
_atom_site_occupancy
_atom_site_U_iso_or_equiv
Si1 Si 0 0 0.37 1 0.0
Ni1 Ni 0 0.5 0.25 1 0.0
Y1 Y 0 0 0 1 0.0
