#------------------------------------------------------------------------------
#$Date: 2015-10-13 19:31:27 +0300 (Tue, 13 Oct 2015) $
#$Revision: 167468 $
#$URL: svn://www.crystallography.net/cod/cif/1/53/87/1538781.cif $
#------------------------------------------------------------------------------
#
# This file is available in the Crystallography Open Database (COD),
# http://www.crystallography.net/
#
# All data on this site have been placed in the public domain by the
# contributors.
#
data_1538781
loop_
_publ_author_name
'Nowotny, H.'
'Machenschalk, R.'
'Kieffer, R.'
'Benesovsky, F.'
_publ_section_title
;
 Untersuchungen an Silizidsystemen
;
_journal_name_full
;
Monatshefte fuer Chemie und verwandte Teile anderer Wissenschaften (109,1978-)
;
_journal_page_first              241
_journal_page_last               244
_journal_volume                  85
_journal_year                    1954
_chemical_formula_sum            'Mo3.6 Si2 V2.4'
_chemical_name_systematic        '(Mo9 Si5 V6)0.4'
_space_group_IT_number           223
_symmetry_space_group_name_Hall  '-P 4n 2 3'
_symmetry_space_group_name_H-M   'P m -3 n'
_cell_angle_alpha                90
_cell_angle_beta                 90
_cell_angle_gamma                90
_cell_formula_units_Z            1
_cell_length_a                   4.821
_cell_length_b                   4.821
_cell_length_c                   4.821
_cell_volume                     112.050
_citation_journal_id_ASTM        MOCMB7
_cod_data_source_file            Nowotny_MOCMB7_1954_732.cif
_cod_data_source_block           Mo3.6Si2V2.4
_cod_original_cell_volume        112.0499
_cod_database_code               1538781
loop_
_symmetry_equiv_pos_as_xyz
x,y,z
-y+1/2,x+1/2,z+1/2
-x,-y,z
y+1/2,-x+1/2,z+1/2
x,-y,-z
y+1/2,x+1/2,-z+1/2
-x,y,-z
-y+1/2,-x+1/2,-z+1/2
z,x,y
-x+1/2,z+1/2,y+1/2
-z,-x,y
x+1/2,-z+1/2,y+1/2
z,-x,-y
x+1/2,z+1/2,-y+1/2
-z,x,-y
-x+1/2,-z+1/2,-y+1/2
y,z,x
y,-z,-x
z+1/2,y+1/2,-x+1/2
-y,z,-x
-z+1/2,-y+1/2,-x+1/2
-y,-z,x
z+1/2,-y+1/2,x+1/2
-z+1/2,y+1/2,x+1/2
-x,-y,-z
y-1/2,-x-1/2,-z-1/2
x,y,-z
-y-1/2,x-1/2,-z-1/2
-x,y,z
-y-1/2,-x-1/2,z-1/2
x,-y,z
y-1/2,x-1/2,z-1/2
-z,-x,-y
x-1/2,-z-1/2,-y-1/2
z,x,-y
-x-1/2,z-1/2,-y-1/2
-z,x,y
-x-1/2,-z-1/2,y-1/2
z,-x,y
x-1/2,z-1/2,y-1/2
-y,-z,-x
-y,z,x
-z-1/2,-y-1/2,x-1/2
y,-z,x
z-1/2,y-1/2,x-1/2
y,z,-x
-z-1/2,y-1/2,-x-1/2
z-1/2,-y-1/2,-x-1/2
loop_
_atom_site_label
_atom_site_type_symbol
_atom_site_fract_x
_atom_site_fract_y
_atom_site_fract_z
_atom_site_occupancy
_atom_site_U_iso_or_equiv
Si1 Si 0 0 0 1 0.0
Mo1 Mo 0.25 0 0.5 0.6 0.0
V1 V 0.25 0 0.5 0.4 0.0
