#------------------------------------------------------------------------------
#$Date: 2016-02-13 21:28:24 +0200 (Sat, 13 Feb 2016) $
#$Revision: 176429 $
#$URL: svn://www.crystallography.net/cod/cif/1/53/89/1538967.cif $
#------------------------------------------------------------------------------
#
# This file is available in the Crystallography Open Database (COD),
# http://www.crystallography.net/
#
# All data on this site have been placed in the public domain by the
# contributors.
#
data_1538967
loop_
_publ_author_name
'Park, H.-H.'
'Pezat, M.'
'Darriet, B.'
_publ_section_title
;
 Deux nouveaux hydrures: Rb Ca H3 et Rb2 Ca H4
;
_journal_name_full
;
Comptes Rendus Hebdomadaires des Seances de l'Academie des Sciences, Serie 2 
(1984-1993)
;
_journal_page_first              963
_journal_page_last               965
_journal_volume                  306
_journal_year                    1988
_chemical_formula_sum            'Ca H3 Rb'
_chemical_name_systematic        'Rb Ca H3'
_space_group_IT_number           221
_symmetry_space_group_name_Hall  '-P 4 2 3'
_symmetry_space_group_name_H-M   'P m -3 m'
_cell_angle_alpha                90
_cell_angle_beta                 90
_cell_angle_gamma                90
_cell_formula_units_Z            1
_cell_length_a                   4.547
_cell_length_b                   4.547
_cell_length_c                   4.547
_cell_volume                     94.010
_citation_journal_id_ASTM        CRAMED
_cod_data_source_file            Park_CRAMED_1988_1918.cif
_cod_data_source_block           H3Ca1Rb1
_cod_original_cell_volume        94.01017
_cod_original_formula_sum        'H3 Ca1 Rb1'
_cod_database_code               1538967
loop_
_symmetry_equiv_pos_as_xyz
x,y,z
-y,x,z
-x,-y,z
y,-x,z
x,-y,-z
y,x,-z
-x,y,-z
-y,-x,-z
z,x,y
-x,z,y
-z,-x,y
x,-z,y
z,-x,-y
x,z,-y
-z,x,-y
-x,-z,-y
y,z,x
y,-z,-x
z,y,-x
-y,z,-x
-z,-y,-x
-y,-z,x
z,-y,x
-z,y,x
-x,-y,-z
y,-x,-z
x,y,-z
-y,x,-z
-x,y,z
-y,-x,z
x,-y,z
y,x,z
-z,-x,-y
x,-z,-y
z,x,-y
-x,z,-y
-z,x,y
-x,-z,y
z,-x,y
x,z,y
-y,-z,-x
-y,z,x
-z,-y,x
y,-z,x
z,y,x
y,z,-x
-z,y,-x
z,-y,-x
loop_
_atom_site_label
_atom_site_type_symbol
_atom_site_fract_x
_atom_site_fract_y
_atom_site_fract_z
_atom_site_occupancy
_atom_site_U_iso_or_equiv
Rb1 Rb+1 0 0 0 1 0.0
Ca1 Ca+2 0.5 0.5 0.5 1 0.0
H1 H-1 0 0.5 0.5 1 0.0
