#------------------------------------------------------------------------------
#$Date: 2018-09-27 07:13:35 +0300 (Thu, 27 Sep 2018) $
#$Revision: 211196 $
#$URL: file:///home/coder/svn-repositories/cod/cif/1/53/90/1539051.cif $
#------------------------------------------------------------------------------
#
# This file is available in the Crystallography Open Database (COD),
# http://www.crystallography.net/
#
# All data on this site have been placed in the public domain by the
# contributors.
#
data_1539051
loop_
_publ_author_name
'Rosler, U.'
'Schubert, K.'
_publ_section_title
;
 Kristallstruktur von Pt Pb4
;
_journal_name_full               Naturwissenschaften
_journal_page_first              331
_journal_page_last               331
_journal_volume                  38
_journal_year                    1951
_chemical_formula_sum            'Pb4 Pt'
_space_group_IT_number           125
_symmetry_space_group_name_Hall  'P 4 2 -1ab'
_symmetry_space_group_name_H-M   'P 4/n b m :1'
_cell_angle_alpha                90
_cell_angle_beta                 90
_cell_angle_gamma                90
_cell_formula_units_Z            2
_cell_length_a                   6.664
_cell_length_b                   6.664
_cell_length_c                   5.978
_cell_volume                     265.476
_citation_journal_id_ASTM        NATWAY
_cod_data_source_file            Rosler_NATWAY_1951_1320.cif
_cod_data_source_block           Pb4Pt1
_cod_original_cell_volume        265.4764
_cod_original_sg_symbol_Hall     '-P 4a 2b (x-1/4,y-1/4,z)'
_cod_original_formula_sum        'Pb4 Pt1'
_cod_database_code               1539051
loop_
_symmetry_equiv_pos_as_xyz
x,y,z
-y,x,z
-x,-y,z
y,-x,z
x,-y,-z
y,x,-z
-x,y,-z
-y,-x,-z
-x+1/2,-y+1/2,-z
y+1/2,-x+1/2,-z
x+1/2,y+1/2,-z
-y+1/2,x+1/2,-z
-x+1/2,y+1/2,z
-y+1/2,-x+1/2,z
x+1/2,-y+1/2,z
y+1/2,x+1/2,z
loop_
_atom_site_label
_atom_site_type_symbol
_atom_site_fract_x
_atom_site_fract_y
_atom_site_fract_z
_atom_site_occupancy
_atom_site_U_iso_or_equiv
Pb1 Pb 0.175 0.675 0.255 1 0.0
Pt1 Pt 0 0 0 1 0.0
