#------------------------------------------------------------------------------
#$Date: 2015-10-14 18:37:06 +0300 (Wed, 14 Oct 2015) $
#$Revision: 168865 $
#$URL: svn://www.crystallography.net/cod/cif/1/53/98/1539814.cif $
#------------------------------------------------------------------------------
#
# This file is available in the Crystallography Open Database (COD),
# http://www.crystallography.net/
#
# All data on this site have been placed in the public domain by the
# contributors.
#
data_1539814
loop_
_publ_author_name
'Evans, D.S.'
'Raynor, G.V.'
_publ_section_title
;
 Lattice spacings in thorium - yttrium alloys
;
_journal_name_full               'Journal of Nuclear Materials'
_journal_page_first              209
_journal_page_last               215
_journal_volume                  2
_journal_year                    1960
_chemical_formula_sum            'Th0.626 Y1.374'
_chemical_name_systematic        '(Th3 Y7)0.2'
_space_group_IT_number           194
_symmetry_space_group_name_Hall  '-P 6c 2c'
_symmetry_space_group_name_H-M   'P 63/m m c'
_cell_angle_alpha                90
_cell_angle_beta                 90
_cell_angle_gamma                120
_cell_formula_units_Z            1
_cell_length_a                   3.632
_cell_length_b                   3.632
_cell_length_c                   5.8014
_cell_volume                     66.276
_citation_journal_id_ASTM        JNUMAM
_cod_data_source_file            Evans_JNUMAM_1960_160.cif
_cod_data_source_block           Th0.626Y1.374
_cod_original_cell_volume        66.27583
_cod_database_code               1539814
loop_
_symmetry_equiv_pos_as_xyz
x,y,z
x-y,x,z+1/2
-y,x-y,z
-x,-y,z+1/2
-x+y,-x,z
y,-x+y,z+1/2
-y,-x,-z+1/2
x-y,-y,-z
x,x-y,-z+1/2
y,x,-z
-x+y,y,-z+1/2
-x,-x+y,-z
-x,-y,-z
-x+y,-x,-z-1/2
y,-x+y,-z
x,y,-z-1/2
x-y,x,-z
-y,x-y,-z-1/2
y,x,z-1/2
-x+y,y,z
-x,-x+y,z-1/2
-y,-x,z
x-y,-y,z-1/2
x,x-y,z
loop_
_atom_site_label
_atom_site_type_symbol
_atom_site_fract_x
_atom_site_fract_y
_atom_site_fract_z
_atom_site_occupancy
_atom_site_U_iso_or_equiv
Th1 Th 0.3333 0.6667 0.25 0.313 0.0
Y1 Y 0.3333 0.6667 0.25 0.687 0.0
