#------------------------------------------------------------------------------
#$Date: 2016-02-13 21:28:24 +0200 (Sat, 13 Feb 2016) $
#$Revision: 176429 $
#$URL: svn://www.crystallography.net/cod/cif/1/54/03/1540321.cif $
#------------------------------------------------------------------------------
#
# This file is available in the Crystallography Open Database (COD),
# http://www.crystallography.net/
#
# All data on this site have been placed in the public domain by the
# contributors.
#
data_1540321
loop_
_publ_author_name
'Kraemer, K.'
'Meyer, G.'
'Schulze, M.'
'Schleid, T.'
'Urland, W.'
_publ_section_title
;
 Three bromides of lanthanum: La Br2, La2 Br5, and La Br3
;
_journal_name_full
'Zeitschrift fuer Anorganische und Allgemeine Chemie'
_journal_page_first              61
_journal_page_last               70
_journal_volume                  575
_journal_year                    1989
_chemical_formula_sum            'Br2 La'
_chemical_name_systematic        'La Br2'
_space_group_IT_number           194
_symmetry_space_group_name_Hall  '-P 6c 2c'
_symmetry_space_group_name_H-M   'P 63/m m c'
_cell_angle_alpha                90
_cell_angle_beta                 90
_cell_angle_gamma                120
_cell_formula_units_Z            2
_cell_length_a                   4.0988
_cell_length_b                   4.0988
_cell_length_c                   13.9
_cell_volume                     202.236
_citation_journal_id_ASTM        ZAACAB
_cod_data_source_file            Kraemer_ZAACAB_1989_421.cif
_cod_data_source_block           Br2La1
_cod_original_cell_volume        202.2362
_cod_original_formula_sum        'Br2 La1'
_cod_database_code               1540321
loop_
_symmetry_equiv_pos_as_xyz
x,y,z
x-y,x,z+1/2
-y,x-y,z
-x,-y,z+1/2
-x+y,-x,z
y,-x+y,z+1/2
-y,-x,-z+1/2
x-y,-y,-z
x,x-y,-z+1/2
y,x,-z
-x+y,y,-z+1/2
-x,-x+y,-z
-x,-y,-z
-x+y,-x,-z-1/2
y,-x+y,-z
x,y,-z-1/2
x-y,x,-z
-y,x-y,-z-1/2
y,x,z-1/2
-x+y,y,z
-x,-x+y,z-1/2
-y,-x,z
x-y,-y,z-1/2
x,x-y,z
loop_
_atom_site_label
_atom_site_type_symbol
_atom_site_fract_x
_atom_site_fract_y
_atom_site_fract_z
_atom_site_occupancy
_atom_site_U_iso_or_equiv
La1 La+2 0 0 0.25 1 0.0
Br1 Br-1 0.3333 0.6667 0.3907 1 0.0
