#------------------------------------------------------------------------------
#$Date: 2018-09-27 07:13:35 +0300 (Thu, 27 Sep 2018) $
#$Revision: 211196 $
#$URL: file:///home/coder/svn-repositories/cod/cif/1/54/09/1540930.cif $
#------------------------------------------------------------------------------
#
# This file is available in the Crystallography Open Database (COD),
# http://www.crystallography.net/
#
# All data on this site have been placed in the public domain by the
# contributors.
#
data_1540930
loop_
_publ_author_name
'Schulz, K. J.'
'Musbah, O. A.'
'Chang, Y. A.'
_publ_section_title
;
 A Phase Investigation of the Rh-Ga-As System
;
_journal_issue                   1
_journal_name_full               'Journal of Phase Equilibria'
_journal_page_first              10
_journal_page_last               14
_journal_paper_doi               10.1007/BF02663665
_journal_volume                  12
_journal_year                    1991
_chemical_formula_sum            'Ga Rh'
_space_group_IT_number           221
_symmetry_space_group_name_Hall  '-P 4 2 3'
_symmetry_space_group_name_H-M   'P m -3 m'
_cell_angle_alpha                90
_cell_angle_beta                 90
_cell_angle_gamma                90
_cell_formula_units_Z            1
_cell_length_a                   3.0034
_cell_length_b                   3.0034
_cell_length_c                   3.0034
_cell_volume                     27.092
_citation_journal_id_ASTM        JPEQE6
_cod_data_source_file            Schulz_JPEQE6_1991_835.cif
_cod_data_source_block           Ga1Rh1
_cod_original_cell_volume        27.09191
_cod_original_formula_sum        'Ga1 Rh1'
_cod_database_code               1540930
loop_
_symmetry_equiv_pos_as_xyz
x,y,z
-y,x,z
-x,-y,z
y,-x,z
x,-y,-z
y,x,-z
-x,y,-z
-y,-x,-z
z,x,y
-x,z,y
-z,-x,y
x,-z,y
z,-x,-y
x,z,-y
-z,x,-y
-x,-z,-y
y,z,x
y,-z,-x
z,y,-x
-y,z,-x
-z,-y,-x
-y,-z,x
z,-y,x
-z,y,x
-x,-y,-z
y,-x,-z
x,y,-z
-y,x,-z
-x,y,z
-y,-x,z
x,-y,z
y,x,z
-z,-x,-y
x,-z,-y
z,x,-y
-x,z,-y
-z,x,y
-x,-z,y
z,-x,y
x,z,y
-y,-z,-x
-y,z,x
-z,-y,x
y,-z,x
z,y,x
y,z,-x
-z,y,-x
z,-y,-x
loop_
_atom_site_label
_atom_site_type_symbol
_atom_site_fract_x
_atom_site_fract_y
_atom_site_fract_z
_atom_site_occupancy
_atom_site_U_iso_or_equiv
Ga1 Ga 0 0 0 1 0.0
Rh1 Rh 0.5 0.5 0.5 1 0.0
