#------------------------------------------------------------------------------
#$Date: 2022-07-06 01:10:43 +0300 (Wed, 06 Jul 2022) $
#$Revision: 276577 $
#$URL: file:///home/coder/svn-repositories/cod/cif/1/56/72/1567231.cif $
#------------------------------------------------------------------------------
#
# This file is available in the Crystallography Open Database (COD),
# http://www.crystallography.net/
#
# All data on this site have been placed in the public domain by the
# contributors.
#
data_1567231
loop_
_publ_author_name
'Li, Shao-Chuan'
'Liu, Caiping'
'chen, qihui'
'Jiang, Feilong'
'Yuan, Daqiang'
'Sun, Qing-Fu'
'Hong, Maochun'
_publ_section_title
;
 Adaptive coordination assemblies based on a flexible
 tetraazacyclododecane ligand for promoting carbon dioxide fixation
;
_journal_name_full               'Chemical Science'
_journal_paper_doi               10.1039/D2SC03093D
_journal_year                    2022
_chemical_formula_moiety         'C7 H14 N3 O4, Cl'
_chemical_formula_sum            'C7 H14 Cl N3 O4'
_chemical_formula_weight         239.66
_chemical_name_common            'ala-gly-gly HCl'
_chemical_name_systematic
;
alanyl-glycyl-glycine hydrochloride
;
_space_group_IT_number           19
_space_group_name_Hall           'P 2ac 2ab'
_space_group_name_H-M_alt        'P 21 21 21'
_symmetry_cell_setting           orthorhombic
_symmetry_space_group_name_Hall  'P 2ac 2ab'
_symmetry_space_group_name_H-M   'P 21 21 21'
_atom_sites_solution_hydrogens   mixed
_atom_sites_solution_primary     direct
_atom_sites_solution_secondary   difmap
_audit_block_doi                 10.5517/cc754bv
_audit_creation_method           SHELXL-97
_audit_update_record
;
2003-06-23 deposited with the CCDC.	2022-07-04 downloaded from the CCDC.
;
_cell_angle_alpha                90.00
_cell_angle_beta                 90.00
_cell_angle_gamma                90.00
_cell_formula_units_Z            4
_cell_length_a                   5.2258(5)
_cell_length_b                   8.7007(9)
_cell_length_c                   22.970(2)
_cell_measurement_reflns_used    4816
_cell_measurement_temperature    100(2)
_cell_measurement_theta_max      27.32
_cell_measurement_theta_min      2.50
_cell_volume                     1044.40(17)
_computing_cell_refinement       'SAINT 6.22 (Bruker, 2001)'
_computing_data_collection       'SMART 5.625 (Bruker, 2001)'
_computing_data_reduction        'SAINT 6.22 (Bruker, 2001)'
_computing_molecular_graphics    'SHELXTL 6.12 (Bruker, 2001)'
_computing_publication_material  'SHELXTL 6.12 (Bruker, 2001)'
_computing_structure_refinement  'SHELXL-97 (Sheldrick, 1997)'
_computing_structure_solution    'SHELXS-90 (Sheldrick, 1990)'
_diffrn_ambient_temperature      100(2)
_diffrn_measured_fraction_theta_full 0.946
_diffrn_measured_fraction_theta_max 0.946
_diffrn_measurement_device_type  'Bruker SMART APEX'
_diffrn_measurement_method       ω-scans
_diffrn_radiation_monochromator  graphite
_diffrn_radiation_source         'fine-focus sealed tube'
_diffrn_radiation_type           MoK\a
_diffrn_radiation_wavelength     0.71073
_diffrn_reflns_av_R_equivalents  0.0380
_diffrn_reflns_av_sigmaI/netI    0.0372
_diffrn_reflns_limit_h_max       6
_diffrn_reflns_limit_h_min       -6
_diffrn_reflns_limit_k_max       11
_diffrn_reflns_limit_k_min       -11
_diffrn_reflns_limit_l_max       29
_diffrn_reflns_limit_l_min       -28
_diffrn_reflns_number            8593
_diffrn_reflns_theta_full        27.48
_diffrn_reflns_theta_max         27.48
_diffrn_reflns_theta_min         1.77
_diffrn_standards_decay_%        <0.1
_diffrn_standards_interval_count 0
_diffrn_standards_interval_time  0
_diffrn_standards_number         0
_exptl_absorpt_coefficient_mu    0.366
_exptl_absorpt_correction_T_max  0.980
_exptl_absorpt_correction_T_min  0.951
_exptl_absorpt_correction_type   multi-scan
_exptl_absorpt_process_details
;
Sheldrick, G. M.; SADABS (1996).
;
_exptl_crystal_colour            colorless
_exptl_crystal_density_diffrn    1.524
_exptl_crystal_density_meas      ?
_exptl_crystal_density_method    'not measured'
_exptl_crystal_description       block
_exptl_crystal_F_000             504
_exptl_crystal_size_max          0.12
_exptl_crystal_size_mid          0.09
_exptl_crystal_size_min          0.05
_refine_diff_density_max         0.416
_refine_diff_density_min         -0.289
_refine_diff_density_rms         0.077
_refine_ls_abs_structure_details ad
_refine_ls_abs_structure_Flack   0.05(9)
_refine_ls_extinction_method     none
_refine_ls_goodness_of_fit_ref   1.05
_refine_ls_hydrogen_treatment    mixed
_refine_ls_matrix_type           full
_refine_ls_number_parameters     165
_refine_ls_number_reflns         2214
_refine_ls_number_restraints     0
_refine_ls_restrained_S_all      1.05
_refine_ls_R_factor_all          0.053
_refine_ls_R_factor_gt           0.048
_refine_ls_shift/su_max          0.021
_refine_ls_shift/su_mean         0.003
_refine_ls_structure_factor_coef Fsqd
_refine_ls_weighting_details
'calc w=1/[σ²(Fo²)+(0.0539P)²+0.9950P] where P=(Fo²+2Fc²)/3'
_refine_ls_weighting_scheme      calc
_refine_ls_wR_factor_gt          0.106
_refine_ls_wR_factor_ref         0.109
_reflns_number_gt                2065
_reflns_number_total             2214
_reflns_threshold_expression     >2sigma(I)
_cod_data_source_file            d2sc03093d2.cif
_cod_data_source_block           compound_1
_cod_depositor_comments
;
The following automatic conversions were performed:

data item '_symmetry_cell_setting' value 'Orthorhombic' was changed
to 'orthorhombic' in accordance with the
/home/data/users/saulius/crontab/automatic-downloads/rss-feeds/RSC/lib/dictionaries/cif_core.dic
dictionary named 'cif_core.dic' version 2.4.2 last updated on
2011-04-26.

data item '_exptl_crystal_density_meas' value 'not measured' was
changed to '?' -- the value is perceived as not measured.

Automatic conversion script
Id: cif_fix_values 7556 2019-12-06 15:28:31Z antanas 
;
_cod_original_cell_volume        1044.42(18)
_cod_original_sg_symbol_Hall     ' P 2ac 2ab '
_cod_original_sg_symbol_H-M      P2(1)2(1)2(1)
_cod_database_code               1567231
loop_
_symmetry_equiv_pos_as_xyz
'x, y, z'
'-x+1/2, -y, z+1/2'
'-x, y+1/2, -z+1/2'
'x+1/2, -y+1/2, -z'
loop_
_atom_site_label
_atom_site_type_symbol
_atom_site_fract_x
_atom_site_fract_y
_atom_site_fract_z
_atom_site_U_iso_or_equiv
_atom_site_adp_type
_atom_site_occupancy
_atom_site_symmetry_multiplicity
_atom_site_calc_flag
_atom_site_refinement_flags
_atom_site_disorder_assembly
_atom_site_disorder_group
O1 O 0.6354(4) 0.2185(2) 0.04697(9) 0.0129(4) Uani 1 1 d . . .
O2 O 0.8267(4) 0.0131(3) 0.21160(9) 0.0125(5) Uani 1 1 d . . .
O3 O 0.6092(5) -0.2594(3) 0.32138(9) 0.0168(5) Uani 1 1 d . . .
O4 O 0.8237(4) -0.3303(3) 0.24111(10) 0.0147(5) Uani 1 1 d . . .
H4O H 0.923(10) -0.382(6) 0.268(2) 0.022(16) Uiso 1 1 d . . .
N1 N 0.8832(6) 0.4909(3) 0.02787(12) 0.0112(5) Uani 1 1 d . . .
H1NC H 0.983(8) 0.576(5) 0.0258(16) 0.015(10) Uiso 1 1 d . . .
H1NB H 0.917(9) 0.438(5) -0.0021(17) 0.021(11) Uiso 1 1 d . . .
H1NA H 0.718(9) 0.525(5) 0.0307(18) 0.025(11) Uiso 1 1 d . . .
N2 N 0.9685(5) 0.1235(3) 0.10041(11) 0.0102(6) Uani 1 1 d . . .
H2N H 1.113(8) 0.149(4) 0.1190(16) 0.020(10) Uiso 1 1 d . . .
N3 N 0.5483(5) -0.1490(3) 0.17117(12) 0.0117(6) Uani 1 1 d . . .
H3N H 0.500(7) -0.197(4) 0.1396(16) 0.012(9) Uiso 1 1 d . . .
C1 C 0.8402(6) 0.2354(3) 0.07299(13) 0.0091(6) Uani 1 1 d . . .
C2 C 0.9669(6) 0.3926(4) 0.07771(14) 0.0095(6) Uani 1 1 d . . .
H2 H 1.138(7) 0.385(3) 0.0728(13) 0.016(7) Uiso 1 1 d . . .
C3 C 0.8968(7) 0.4721(4) 0.13423(13) 0.0130(6) Uani 1 1 d . . .
H3C H 0.9732 0.5749 0.1350 0.020 Uiso 1 1 calc R . .
H3B H 0.9615 0.4118 0.1671 0.020 Uiso 1 1 calc R . .
H3A H 0.7102 0.4808 0.1371 0.020 Uiso 1 1 calc R . .
C4 C 0.8645(7) -0.0304(3) 0.10781(13) 0.0120(6) Uani 1 1 d . . .
H4B H 1.0033 -0.1067 0.1027 0.014 Uiso 1 1 calc R . .
H4A H 0.7342 -0.0496 0.0774 0.014 Uiso 1 1 calc R . .
C5 C 0.7433(6) -0.0517(3) 0.16751(13) 0.0102(6) Uani 1 1 d . . .
C6 C 0.4426(5) -0.1887(4) 0.22775(13) 0.0132(6) Uani 1 1 d . . .
H6B H 0.2982 -0.2608 0.2220 0.016 Uiso 1 1 calc R . .
H6A H 0.3736 -0.0945 0.2461 0.016 Uiso 1 1 calc R . .
C7 C 0.6342(7) -0.2616(3) 0.26888(13) 0.0117(6) Uani 1 1 d . . .
Cl1 Cl 0.37687(14) 0.68926(8) 0.05423(3) 0.01184(18) Uani 1 1 d . . .
loop_
_atom_site_aniso_label
_atom_site_aniso_U_11
_atom_site_aniso_U_22
_atom_site_aniso_U_33
_atom_site_aniso_U_23
_atom_site_aniso_U_13
_atom_site_aniso_U_12
O1 0.0143(10) 0.0133(10) 0.0113(10) -0.0011(8) -0.0028(10) -0.0009(9)
O2 0.0104(11) 0.0144(11) 0.0128(10) -0.0013(9) 0.0003(9) -0.0037(9)
O3 0.0140(11) 0.0238(12) 0.0128(11) -0.0003(9) -0.0006(10) 0.0026(11)
O4 0.0125(11) 0.0172(12) 0.0145(11) 0.0009(10) 0.0000(9) 0.0043(9)
N1 0.0100(13) 0.0107(13) 0.0130(13) -0.0006(10) 0.0032(12) -0.0006(13)
N2 0.0102(13) 0.0102(13) 0.0101(13) 0.0019(10) -0.0032(10) -0.0025(10)
N3 0.0119(13) 0.0115(13) 0.0115(13) 0.0030(11) -0.0035(10) -0.0009(10)
C1 0.0101(15) 0.0109(14) 0.0063(12) -0.0012(11) 0.0038(12) -0.0017(12)
C2 0.0048(13) 0.0121(15) 0.0117(15) 0.0028(12) -0.0004(12) -0.0024(12)
C3 0.0151(16) 0.0127(14) 0.0113(14) -0.0011(12) 0.0009(14) -0.0019(14)
C4 0.0149(15) 0.0092(14) 0.0118(14) 0.0018(11) -0.0005(14) 0.0014(14)
C5 0.0120(15) 0.0075(14) 0.0110(15) -0.0010(12) -0.0018(12) 0.0037(12)
C6 0.0075(14) 0.0174(16) 0.0146(15) 0.0011(13) -0.0009(11) -0.0022(13)
C7 0.0119(14) 0.0089(13) 0.0143(14) 0.0001(11) 0.0008(13) -0.0053(13)
Cl1 0.0089(3) 0.0134(3) 0.0133(3) 0.0006(3) -0.0014(3) -0.0014(3)
loop_
_atom_type_symbol
_atom_type_description
_atom_type_scat_dispersion_real
_atom_type_scat_dispersion_imag
_atom_type_scat_source
C C 0.0033 0.0016 'International Tables Vol C Tables 4.2.6.8 and 6.1.1.4'
H H 0.0000 0.0000 'International Tables Vol C Tables 4.2.6.8 and 6.1.1.4'
N N 0.0061 0.0033 'International Tables Vol C Tables 4.2.6.8 and 6.1.1.4'
O O 0.0106 0.0060 'International Tables Vol C Tables 4.2.6.8 and 6.1.1.4'
Cl Cl 0.1484 0.1585 'International Tables Vol C Tables 4.2.6.8 and 6.1.1.4'
loop_
_citation_id
_citation_doi
_citation_year
1 10.1021/ja0370342 2004
loop_
_geom_angle_atom_site_label_1
_geom_angle_atom_site_label_2
_geom_angle_atom_site_label_3
_geom_angle
_geom_angle_site_symmetry_1
_geom_angle_site_symmetry_3
_geom_angle_publ_flag
C7 O4 H4O 109(3) . . no
C2 N1 H1NC 110(2) . . no
C2 N1 H1NB 105(3) . . no
H1NC N1 H1NB 106(4) . . no
C2 N1 H1NA 114(3) . . no
H1NC N1 H1NA 107(4) . . no
H1NB N1 H1NA 115(4) . . no
C1 N2 C4 122.5(3) . . no
C1 N2 H2N 118(3) . . no
C4 N2 H2N 119(2) . . no
C5 N3 C6 120.0(3) . . no
C5 N3 H3N 118(2) . . no
C6 N3 H3N 121(2) . . no
O1 C1 N2 125.1(3) . . no
O1 C1 C2 121.2(3) . . no
N2 C1 C2 113.7(3) . . no
N1 C2 C3 108.9(3) . . no
N1 C2 C1 109.4(3) . . no
C3 C2 C1 111.4(2) . . no
N1 C2 H2 103.5(19) . . no
C3 C2 H2 112.2(19) . . no
C1 C2 H2 111(2) . . no
C2 C3 H3C 109.5 . . no
C2 C3 H3B 109.5 . . no
H3C C3 H3B 109.5 . . no
C2 C3 H3A 109.5 . . no
H3C C3 H3A 109.5 . . no
H3B C3 H3A 109.5 . . no
N2 C4 C5 111.9(3) . . no
N2 C4 H4B 109.2 . . no
C5 C4 H4B 109.2 . . no
N2 C4 H4A 109.2 . . no
C5 C4 H4A 109.2 . . no
H4B C4 H4A 107.9 . . no
O2 C5 N3 120.6(3) . . no
O2 C5 C4 122.3(3) . . no
N3 C5 C4 117.0(3) . . no
N3 C6 C7 114.0(2) . . no
N3 C6 H6B 108.8 . . no
C7 C6 H6B 108.8 . . no
N3 C6 H6A 108.8 . . no
C7 C6 H6A 108.8 . . no
H6B C6 H6A 107.7 . . no
O3 C7 O4 124.6(3) . . no
O3 C7 C6 122.8(3) . . no
O4 C7 C6 112.5(3) . . no
loop_
_geom_bond_atom_site_label_1
_geom_bond_atom_site_label_2
_geom_bond_distance
_geom_bond_site_symmetry_2
_geom_bond_publ_flag
O1 C1 1.235(4) . no
O2 C5 1.238(4) . no
O3 C7 1.213(4) . no
O4 C7 1.321(4) . no
O4 H4O 0.92(5) . no
N1 C2 1.495(4) . no
N1 H1NC 0.90(4) . no
N1 H1NB 0.85(4) . no
N1 H1NA 0.91(5) . no
N2 C1 1.340(4) . no
N2 C4 1.455(4) . no
N2 H2N 0.89(4) . no
N3 C5 1.328(4) . no
N3 C6 1.454(4) . no
N3 H3N 0.88(4) . no
C1 C2 1.524(4) . no
C2 C3 1.516(4) . no
C2 H2 0.90(3) . no
C3 H3C 0.9800 . no
C3 H3B 0.9800 . no
C3 H3A 0.9800 . no
C4 C5 1.522(4) . no
C4 H4B 0.9900 . no
C4 H4A 0.9900 . no
C6 C7 1.515(4) . no
C6 H6B 0.9900 . no
C6 H6A 0.9900 . no
loop_
_geom_torsion_atom_site_label_1
_geom_torsion_atom_site_label_2
_geom_torsion_atom_site_label_3
_geom_torsion_atom_site_label_4
_geom_torsion
_geom_torsion_site_symmetry_1
_geom_torsion_site_symmetry_2
_geom_torsion_site_symmetry_3
_geom_torsion_site_symmetry_4
_geom_torsion_publ_flag
C4 N2 C1 O1 -6.7(5) . . . . no
C4 N2 C1 C2 171.6(3) . . . . no
O1 C1 C2 N1 -25.5(4) . . . . no
N2 C1 C2 N1 156.0(3) . . . . no
O1 C1 C2 C3 95.1(3) . . . . no
N2 C1 C2 C3 -83.4(3) . . . . no
C1 N2 C4 C5 -97.7(3) . . . . no
C6 N3 C5 O2 -4.6(4) . . . . no
C6 N3 C5 C4 172.8(3) . . . . no
N2 C4 C5 O2 -33.3(4) . . . . no
N2 C4 C5 N3 149.3(3) . . . . no
C5 N3 C6 C7 -59.2(4) . . . . no
N3 C6 C7 O3 156.7(3) . . . . no
N3 C6 C7 O4 -25.1(4) . . . . no
