#------------------------------------------------------------------------------
#$Date: 2017-01-11 15:51:15 +0200 (Wed, 11 Jan 2017) $
#$Revision: 190398 $
#$URL: file:///home/coder/svn-repositories/cod/cif/2/00/95/2009599.cif $
#------------------------------------------------------------------------------
#
# This file is available in the Crystallography Open Database (COD),
# http://www.crystallography.net/. The original data for this entry
# were provided by IUCr Journals, http://journals.iucr.org/.
#
# The file may be used within the scientific community so long as
# proper attribution is given to the journal article from which the
# data were obtained.
#
data_2009599
loop_
_publ_author_name
'Pokkuluri, Phani Raj'
'Scheffer, John R.'
'Trotter, James'
'Yap, Melvin'
_publ_section_title
;
 An ethenonaphthalene and one of its photolysis products
;
_journal_issue                   4
_journal_name_full               'Acta Crystallographica Section C'
_journal_page_first              578
_journal_page_last               581
_journal_paper_doi               10.1107/S0108270193010819
_journal_volume                  50
_journal_year                    1994
_chemical_formula_moiety         'C21 H16 O3'
_chemical_formula_sum            'C21 H16 O3'
_chemical_formula_weight         316.36
_chemical_melting_point          435.5(5)
_chemical_name_systematic
;
Methyl 6c-benzoyl-2a,2b,6b,6c-tetrahydrobenzo[a]cyclopropa[cd]
pentalene-6b-carboxylate
OR
Methyl 1-benzoylbenzo[f]tricyclo[3.3.0.0^2,8^]octa-3,6-dien-
5-carboxylate
OR
Methyl 3-benzoyltetracyclo[6.4.0.0^2,4^.0^3,7^]dodeca-
1(8),5,9,11-tetraen-7-carboxylate
;
_space_group_IT_number           61
_symmetry_cell_setting           orthorhombic
_symmetry_space_group_name_Hall  '-P 2ac 2ab'
_symmetry_space_group_name_H-M   'P b c a'
_cell_angle_alpha                90
_cell_angle_beta                 90
_cell_angle_gamma                90
_cell_formula_units_Z            8
_cell_length_a                   33.023(2)
_cell_length_b                   11.2100(10)
_cell_length_c                   8.637(2)
_cell_measurement_reflns_used    23
_cell_measurement_temperature    294
_cell_measurement_theta_max      56.5
_cell_measurement_theta_min      48.4
_cell_volume                     3197.3(8)
_computing_cell_refinement       TEXRAY
_computing_data_collection
'TEXRAY (TEXSAN; Molecular Structure Corporation, 1985)'
_computing_data_reduction        TEXSAN
_computing_molecular_graphics    TEXSAN
_computing_structure_refinement  TEXSAN
_computing_structure_solution    TEXSAN
_diffrn_ambient_temperature      294
_diffrn_measurement_device       'Rigaku AFC-6'
_diffrn_radiation_monochromator  graphite
_diffrn_radiation_source         xray_tube
_diffrn_radiation_type           CuK\a
_diffrn_radiation_wavelength     1.5418
_diffrn_reflns_limit_h_max       42
_diffrn_reflns_limit_h_min       0
_diffrn_reflns_limit_k_max       14
_diffrn_reflns_limit_k_min       0
_diffrn_reflns_limit_l_max       0
_diffrn_reflns_limit_l_min       -11
_diffrn_reflns_number            3730
_diffrn_reflns_theta_max         77.5
_diffrn_standards_decay_%        0
_diffrn_standards_interval_count 150
_diffrn_standards_number         3
_exptl_absorpt_coefficient_mu    0.66
_exptl_absorpt_correction_T_max  1.00
_exptl_absorpt_correction_T_min  0.92
_exptl_absorpt_correction_type   '\y scans (TEXSAN)'
_exptl_crystal_colour            colourless
_exptl_crystal_density_diffrn    1.314
_exptl_crystal_description       prism
_exptl_crystal_F_000             1328
_exptl_crystal_size_max          0.5
_exptl_crystal_size_mid          0.4
_exptl_crystal_size_min          0.3
_refine_diff_density_max         0.24
_refine_diff_density_min         -0.18
_refine_ls_extinction_coef       0.37E-5
_refine_ls_extinction_method     'Zachariasen (1963)'
_refine_ls_goodness_of_fit_obs   2.0
_refine_ls_hydrogen_treatment    refall
_refine_ls_matrix_type           full
_refine_ls_number_constraints    0
_refine_ls_number_parameters     282
_refine_ls_number_reflns         2661
_refine_ls_number_restraints     0
_refine_ls_R_factor_all          0.054
_refine_ls_R_factor_obs          0.042
_refine_ls_shift/esd_max         0.01
_refine_ls_structure_factor_coef F
_refine_ls_weighting_details     'w = 1/σ²(F)'
_refine_ls_weighting_scheme      calc
_refine_ls_wR_factor_all         0.064
_refine_ls_wR_factor_obs         0.063
_reflns_number_observed          2261
_reflns_number_total             3730
_reflns_observed_criterion       I>3\s(I)
_cod_data_source_file            cd1059.cif
_cod_data_source_block           13
_cod_depositor_comments
;
 Adding the _atom_type_symbol data item to the _atom_type loop.
 The values of the _atom_type_symbol data item were inferred from
 the _atom_site_type_symbol and _atom_site_label data items.

 Antanas Vaitkus,
 2017-01-11

The following automatic conversions were performed:

'_chemical_melting_point' value '435-436K' was changed to '435.5(5)'
- the average value was taken and precision was estimated.

Automatic conversion script
Id: cif_fix_values 1646 2011-03-28 12:23:43Z adriana 

The following automatic conversions were performed:

'_chemical_melting_point' value '435-436K' was changed to '435.5(5)'
- the average value was taken and precision was estimated.

Automatic conversion script
Id: cif_fix_values 1715 2011-07-08 13:25:40Z adriana 

The following automatic conversions were performed:

'_refine_ls_weighting_scheme' value '1/\s^2^(F)' was changed to
'calc'. New tag '_refine_ls_weighting_details' was created. The value
of the new tag was set to 'w = 1/\s^2^(F)'.

Automatic conversion script
Id: cif_fix_values 3143 2015-03-26 13:38:13Z robertas 
;
_cod_original_cell_volume        3197.0(10)
_cod_database_code               2009599
loop_
_symmetry_equiv_pos_as_xyz
x,y,z
-x,-y,-z
1/2+x,1/2-y,-z
1/2-x,1/2+y,z
-x,1/2+y,1/2-z
x,1/2-y,1/2+z
1/2-x,-y,1/2+z
1/2+x,y,1/2-z
loop_
_atom_site_label
_atom_site_fract_x
_atom_site_fract_y
_atom_site_fract_z
_atom_site_U_iso_or_equiv
C1 0.90428(5) -0.12700(10) 0.6771(2) 0.0420(10)
C2 0.88165(5) -0.1128(2) 0.5516(2) 0.0470(10)
C3 0.85968(5) 0.00210(10) 0.5543(2) 0.0430(10)
C4 0.88239(4) 0.12310(10) 0.5727(2) 0.0370(10)
C4a 0.92703(4) 0.12690(10) 0.5871(2) 0.0350(10)
C5 0.95485(5) 0.19300(10) 0.5024(2) 0.0440(10)
C6 0.99560(5) 0.1887(2) 0.5456(2) 0.0520(10)
C7 1.00810(5) 0.1173(2) 0.6664(2) 0.0510(10)
C8 0.98039(4) 0.04770(10) 0.7496(2) 0.0430(10)
C8a 0.93987(4) 0.05590(10) 0.7093(2) 0.0330(10)
C9 0.90394(4) -0.01430(10) 0.7745(2) 0.0320(10)
C10 0.86672(4) 0.05670(10) 0.7122(2) 0.0330(10)
C11 0.90724(4) -0.03070(10) 0.9473(2) 0.0340(10)
C12 0.83250(4) 0.10320(10) 0.8077(2) 0.0360(10)
C13 0.89584(9) 0.0642(2) 1.1882(2) 0.0630(10)
C14 0.81256(4) 0.02230(10) 0.9214(2) 0.0390(10)
C15 0.79151(6) 0.0726(2) 1.0440(2) 0.0570(10)
C16 0.77260(7) 0.0003(2) 1.1515(3) 0.0790(10)
C17 0.77399(7) -0.1227(2) 1.1353(3) 0.0760(10)
C18 0.79435(6) -0.1730(4) 1.0132(3) 0.0650(10)
C19 0.81418(5) -0.1014(2) 0.9072(2) 0.0470(10)
O1 0.89607(3) 0.06810(10) 1.02130(10) 0.0400(10)
O2 0.91990(5) -0.11880(10) 1.00980(10) 0.0600(10)
O3 0.82042(4) 0.20460(10) 0.7900(2) 0.0580(10)
H(1) 0.9254(6) -0.194(2) 0.703(3) 5.0(5)
H(2) 0.8808(7) -0.171(2) 0.474(2) 5.4(5)
H(3) 0.8339(7) 0.017(2) 0.504(3) 5.5(5)
H(4) 0.8668(6) 0.194(2) 0.528(2) 3.9(4)
H(5) 0.9458(6) 0.243(2) 0.413(2) 4.8(4)
H(6) 1.0169(6) 0.239(2) 0.484(3) 5.7(5)
H(7) 1.0391(6) 0.119(2) 0.685(2) 5.0(5)
H(8) 0.9894(6) -0.007(2) 0.833(3) 4.3(4)
H(13C) 0.8870(10) -0.004(3) 1.224(4) 7.9(8)
H(13A) 0.8784(8) 0.141(2) 1.229(3) 6.0(5)
H(13B) 0.9180(10) 0.072(3) 1.232(4) 8.3(8)
H(15) 0.7894(7) 0.163(2) 1.060(3) 6.3(6)
H(16) 0.7590(10) 0.040(3) 1.248(5) 9.6(8)
H(17) 0.7610(8) -0.177(3) 1.206(4) 8.7(7)
H(18) 0.7953(7) -0.265(2) 1.008(3) 6.8(6)
H(19) 0.8301(6) -0.139(2) 0.814(3) 4.5(4)
loop_
_atom_type_symbol
_atom_type_scat_source
C 'TEXSAN package'
H 'TEXSAN package'
O 'TEXSAN package'
loop_
_geom_angle_atom_site_label_1
_geom_angle_atom_site_label_2
_geom_angle_atom_site_label_3
_geom_angle
_geom_angle_publ_flag
C2 C1 C9 110.40(10) no
C1 C2 C3 111.60(10) no
C2 C3 C4 121.60(10) no
C2 C3 C10 107.00(10) no
C4 C3 C10 58.80(10) no
C3 C4 C4a 120.80(10) no
C3 C4 C10 59.10(10) no
C4a C4 C10 106.80(10) no
C4 C4a C5 129.00(10) no
C4 C4a C8a 110.60(10) no
C5 C4a C8a 120.30(10) no
C4a C5 C6 118.5(2) no
C5 C6 C7 120.7(2) no
C6 C7 C8 121.1(2) no
C7 C8 C8a 117.7(2) no
C4a C8a C8 121.60(10) no
C4a C8a C9 109.70(10) no
C8 C8a C9 128.50(10) no
C1 C9 C8a 102.60(10) no
C1 C9 C10 103.90(10) no
C1 C9 C11 116.50(10) no
C8a C9 C10 102.80(10) no
C8a C9 C11 111.80(10) no
C10 C9 C11 117.40(10) no
C3 C10 C4 62.10(10) no
C3 C10 C9 103.00(10) no
C3 C10 C12 121.50(10) no
C4 C10 C9 104.90(10) no
C4 C10 C12 121.90(10) no
C9 C10 C12 125.70(10) no
C9 C11 O1 110.70(10) no
C9 C11 O2 124.80(10) no
O1 C11 O2 124.40(10) no
C10 C12 C14 119.10(10) no
C10 C12 O3 120.40(10) no
C14 C12 O3 120.50(10) no
C12 C14 C15 118.50(10) no
C12 C14 C19 122.00(10) no
C15 C14 C19 119.4(2) no
C14 C15 C16 120.1(2) no
C15 C16 C17 120.1(2) no
C16 C17 C18 120.2(2) no
C17 C18 C19 120.1(2) no
C14 C19 C18 120.1(2) no
C11 O1 C13 117.20(10) no
loop_
_geom_bond_atom_site_label_1
_geom_bond_atom_site_label_2
_geom_bond_distance
_geom_bond_publ_flag
C1 C2 1.326(3) no
C1 C9 1.518(2) no
C2 C3 1.478(3) no
C3 C4 1.559(2) no
C3 C10 1.513(2) no
C4 C4a 1.480(2) no
C4 C10 1.508(2) no
C4a C5 1.389(2) no
C4a C8a 1.388(2) no
C5 C6 1.398(2) no
C6 C7 1.378(3) no
C7 C8 1.401(2) no
C8 C8a 1.386(2) no
C8a C9 1.531(2) no
C9 C10 1.561(2) no
C9 C11 1.508(2) no
C10 C12 1.493(2) no
C12 C14 1.490(2) no
C14 C15 1.387(2) no
C14 C19 1.393(2) no
C15 C16 1.382(3) no
C16 C17 1.386(4) no
C17 C18 1.372(3) no
C18 C19 1.383(2) no
C11 O1 1.331(2) no
C11 O2 1.200(2) no
C13 O1 1.442(2) no
C12 O3 1.214(2) no
