#------------------------------------------------------------------------------
#$Date: 2016-02-14 16:26:36 +0200 (Sun, 14 Feb 2016) $
#$Revision: 176435 $
#$URL: svn://www.crystallography.net/cod/cif/2/10/15/2101563.cif $
#------------------------------------------------------------------------------
#
# This file is available in the Crystallography Open Database (COD),
# http://www.crystallography.net/. The original data for this entry
# were provided by IUCr Journals, http://journals.iucr.org/.
#
# The file may be used within the scientific community so long as
# proper attribution is given to the journal article from which the
# data were obtained.
#
data_2101563
loop_
_publ_author_name
'Antolić, A.'
'Kojić-Prodić, B.'
'Tomić, S.'
'Nigović, B.'
'Magnus, V.'
'Cohen, J. D.'
_publ_section_title
;
 Structural studies on monofluorinated derivatives of the phytohormone
 indole-3-acetic acid (auxin)
;
_journal_issue                   4
_journal_name_full               'Acta Crystallographica Section B'
_journal_page_first              651
_journal_page_last               661
_journal_paper_doi               10.1107/S0108768195016302
_journal_volume                  52
_journal_year                    1996
_chemical_formula_sum            'C10 H8 F N O2'
_chemical_formula_weight         193.18
_symmetry_cell_setting           monoclinic
_symmetry_space_group_name_Hall  '-P 2yab'
_symmetry_space_group_name_H-M   'P 1 21/a 1'
_atom_type_scat_source           'SHELX76 (Sheldrick, 1976)'
_cell_angle_alpha                90.0
_cell_angle_beta                 93.750(10)
_cell_angle_gamma                90.0
_cell_formula_units_Z            4
_cell_length_a                   9.3600(10)
_cell_length_b                   5.167(4)
_cell_length_c                   17.751(4)
_cell_measurement_reflns_used    15
_cell_measurement_temperature    100
_cell_measurement_theta_max      25
_cell_measurement_theta_min      18
_cell_volume                     856.7(7)
_diffrn_measurement_device       'Enraf-Nonius CAD-4'
_diffrn_measurement_method       ω-2θ
_diffrn_radiation_type           MoK\a
_diffrn_radiation_wavelength     0.71073
_diffrn_reflns_av_R_equivalents  0.0371
_diffrn_reflns_limit_h_max       11
_diffrn_reflns_limit_h_min       0
_diffrn_reflns_limit_k_max       0
_diffrn_reflns_limit_k_min       -6
_diffrn_reflns_limit_l_max       22
_diffrn_reflns_limit_l_min       -22
_diffrn_reflns_number            2082
_diffrn_reflns_theta_max         26.32
_diffrn_standards_decay_%        <1
_diffrn_standards_interval_count 100
_diffrn_standards_number         2
_exptl_absorpt_coefficient_mu    0.11
_exptl_absorpt_correction_type   none
_exptl_crystal_colour            colourless
_exptl_crystal_density_diffrn    1.498
_exptl_crystal_description       prismatic
_exptl_crystal_size_max          0.36
_exptl_crystal_size_mid          0.27
_exptl_crystal_size_min          0.10
_refine_diff_density_max         0.23
_refine_diff_density_min         -0.30
_refine_ls_extinction_method     none
_refine_ls_goodness_of_fit_obs   0.80
_refine_ls_hydrogen_treatment    refall
_refine_ls_number_parameters     159
_refine_ls_number_reflns         1032
_refine_ls_R_factor_obs          0.048
_refine_ls_shift/esd_max         0.001
_refine_ls_structure_factor_coef F
_refine_ls_weighting_details
'w = k/[σ²(Fₒ) + gFₒ²] where g = 0.001346'
_refine_ls_weighting_scheme      calc
_refine_ls_wR_factor_obs         0.048
_reflns_number_observed          1032
_reflns_number_total             1379
_reflns_observed_criterion       I>2\s(I)
_cod_data_source_file            se0185.cif
_cod_data_source_block           se0185c
_cod_depositor_comments
;
The following automatic conversions were performed:

'_refine_ls_weighting_scheme' value 'w = k/[\s^2^(F~o~) + gF~o~^2^]
where g = 0.001346' was changed to 'calc'. New tag
'_refine_ls_weighting_details' was created. The value of the new tag
was set to 'w = k/[\s^2^(F~o~) + gF~o~^2^] where g = 0.001346'.

Automatic conversion script
Id: cif_fix_values 3143 2015-03-26 13:38:13Z robertas 
;
_cod_original_cell_volume        856.7(8)
_cod_original_formula_sum        'C10 H8 F1 N1 O2'
_cod_database_code               2101563
loop_
_atom_site_label
_atom_site_fract_x
_atom_site_fract_y
_atom_site_fract_z
_atom_site_U_iso_or_equiv
F .6457(2) .8955(4) .98060(10) .0330(7)
O1 .6043(2) 1.3028(4) .51850(10) .0235(7)
O2 .5978(2) .9195(4) .57550(10) .0220(7)
N1 .9071(3) .7498(6) .7590(2) .0196(8)
C2 .9005(3) .8768(6) .6906(2) .0173(9)
C3 .8040(3) 1.0729(6) .6910(2) .0171(9)
C4 .6465(3) 1.2224(6) .8004(2) .0184(9)
C5 .6141(3) 1.1622(7) .8727(2) .0230(10)
C6 .6820(3) .9541(6) .9094(2) .0220(10)
C7 .7833(3) .8026(6) .8782(2) .0210(10)
C8 .7615(3) 1.2454(7) .6261(2) .0200(10)
C9 .6469(3) 1.1377(6) .5715(2) .0173(9)
C31 .7470(3) 1.0704(6) .7642(2) .0151(8)
C71 .8136(3) .8648(6) .8054(2) .0167(9)
H1 .964(4) .604(7) .779(2) .020(10)
H2 .957(4) .816(7) .648(2) .024(9)
H5 .550(4) 1.267(9) .898(3) .050(10)
H7 .828(3) .641(6) .909(2) .003(7)
H9 .601(4) 1.359(7) .772(2) .025(9)
H11 .541(4) 1.213(8) .484(2) .040(10)
H81 .730(3) 1.414(7) .645(2) .015(8)
H82 .841(4) 1.282(7) .596(2) .027(9)
loop_
_geom_angle_atom_site_label_1
_geom_angle_atom_site_label_2
_geom_angle_atom_site_label_3
_geom_angle
_geom_angle_publ_flag
C2 N1 C71 109.2(3) yes
N1 C2 C3 110.0(9) yes
C2 C3 C8 125.9(3) yes
C2 C3 C31 106.5(3) yes
C31 C3 C8 127.5(3) yes
C3 C31 C4 134.8(3) yes
C3 C31 C71 107.3(3) yes
C4 C31 C71 117.9(3) yes
C31 C4 C5 119.6(3) yes
C4 C5 C6 119.4(3) yes
C5 C6 C7 124.0(3) yes
C6 C7 C71 115.8(3) yes
C31 C71 C7 123.4(3) yes
N1 C71 C7 129.7(3) yes
N1 C71 C31 107.0(3) yes
C3 C8 C9 114.8(3) yes
C8 C9 O1 113.1(3) yes
C8 C9 O2 124.0(3) yes
O1 C9 O2 122.9(3) yes
C5 C6 F 118.2(3) yes
C7 C6 F 117.9(3) yes
loop_
_geom_bond_atom_site_label_1
_geom_bond_atom_site_label_2
_geom_bond_distance
_geom_bond_publ_flag
N1 C2 1.378(5) yes
N1 C71 1.375(4) yes
C2 C3 1.358(4) yes
C3 C31 1.437(5) yes
C4 C31 1.412(4) yes
C4 C5 1.374(5) yes
C5 C6 1.389(5) yes
C6 C7 1.374(4) yes
C7 C71 1.379(5) yes
C31 C71 1.412(5) yes
C3 C8 1.490(5) yes
C8 C9 1.505(5) yes
O1 C9 1.313(4) yes
O2 C9 1.221(4) yes
F C6 1.364(4) yes
