#------------------------------------------------------------------------------
#$Date: 2016-02-14 16:26:36 +0200 (Sun, 14 Feb 2016) $
#$Revision: 176435 $
#$URL: svn://www.crystallography.net/cod/cif/2/10/37/2103759.cif $
#------------------------------------------------------------------------------
#
# This file is available in the Crystallography Open Database (COD),
# http://www.crystallography.net/. The original data for this entry
# were provided by IUCr Journals, http://journals.iucr.org/.
#
# The file may be used within the scientific community so long as
# proper attribution is given to the journal article from which the
# data were obtained.
#
data_2103759
loop_
_publ_author_name
'Friedrich, Alexandra'
'Kunz, Martin'
'Suard, Emmanuelle'
_publ_section_title
;
 Temperature-dependent neutron powder diffraction study of the
 Ba(OD)₂ polymorphs: a new low-temperature phase
;
_journal_issue                   6
_journal_name_full               'Acta Crystallographica Section B'
_journal_page_first              747
_journal_page_last               758
_journal_paper_doi               10.1107/S0108768101013647
_journal_volume                  57
_journal_year                    2001
_chemical_formula_iupac          'Ba (O D)2'
_chemical_formula_moiety         'Ba, 2(O D)'
_chemical_formula_structural     'Ba (O D)2'
_chemical_formula_sum            'Ba D2 O2'
_chemical_formula_weight         3467.319
_chemical_name_systematic
;
deuterated barium hydroxide
;
_space_group_IT_number           14
_symmetry_cell_setting           monoclinic
_symmetry_space_group_name_Hall  '-P 2yn'
_symmetry_space_group_name_H-M   'P 1 21/n 1'
_cell_angle_alpha                90.0
_cell_angle_beta                 91.3334(15)
_cell_angle_gamma                90.0
_cell_formula_units_Z            20
_cell_length_a                   7.08251(17)
_cell_length_b                   10.8701(3)
_cell_length_c                   16.4349(4)
_cell_measurement_temperature    10
_cell_volume                     1264.94(6)
_computing_cell_refinement       'GSAS (Larson and Von Dreele, 1994)'
_computing_data_reduction        GSAS
_computing_molecular_graphics
'Crystal Maker, version 4.0.1 (Palmer, D.C., 1994-99)'
_computing_publication_material  GSAS
_computing_structure_refinement  GSAS
_diffrn_measurement_device_type  'diffractometer D 2B, ILL'
_diffrn_radiation_probe          neutron
_diffrn_radiation_source         'high-flux isotope reactor'
_diffrn_radiation_type           neutron
_diffrn_radiation_wavelength     1.59432
_refine_ls_extinction_method     none
_refine_ls_goodness_of_fit_all   1.38
_refine_ls_number_parameters     1
_refine_ls_shift/esd_max         .01327
_refine_ls_shift/esd_mean        .01327
_refine_ls_structure_factor_coef rietveld
_reflns_number_gt                2464
_cod_data_source_file            os0074.cif
_cod_data_source_block           a10
_cod_original_cell_volume        1264.94(5)
_cod_original_sg_symbol_H-M      'P 21/n'
_cod_original_formula_sum        'D2 O2 Ba1'
_cod_database_code               2103759
loop_
_symmetry_equiv_pos_as_xyz
+x,+y,+z
-x+1/2,+y+1/2,-z+1/2
-x,-y,-z
+x+1/2,-y+1/2,+z+1/2
loop_
_atom_site_label
_atom_site_fract_x
_atom_site_fract_y
_atom_site_fract_z
_atom_site_U_iso_or_equiv
_atom_site_thermal_displace_type
_atom_site_occupancy
Ba1 .4333(9) .3245(6) .2463(4) .00505 Uiso 1.0
Ba2 .9095(9) .4744(6) .3745(4) .00146 Uiso 1.0
Ba3 .4322(9) .3292(7) .4879(4) .00108 Uiso 1.0
O1 .3744(8) .0754(5) .2484(4) .00549 Uiso 1.0
O2 .8147(8) .3241(5) .2483(4) .00764 Uiso 1.0
O3 .5075(8) .5092(6) .3587(3) .00048 Uiso 1.0
O4 .1586(9) .2910(7) .3727(4) .00343 Uiso 1.0
O5 .6580(8) .2260(6) .3925(4) .00399 Uiso 1.0
O6 .2902(8) .0579(6) .4765(4) .00117 Uiso 1.0
D1 .2584(10) .0645(6) .2200(4) .02488 Uiso 1.0
D2 .9405(9) .2877(6) .2562(4) .02828 Uiso 1.0
D3 .5451(10) .5851(7) .3330(4) .02731 Uiso 1.0
D4 .1842(9) .2075(7) .3581(4) .02172 Uiso 1.0
D5 .7360(8) .2406(6) .3435(4) .01863 Uiso 1.0
D6 .2173(9) .0461(6) .4278(4) .02051 Uiso 1.0
Ba2A .4220(10) .0198(6) .6247(4) .00315 Uiso 1.0
Ba3A .9258(10) .1709(7) .5070(4) .00063 Uiso 1.0
O3A .0316(9) .0028(7) .6311(4) .00795 Uiso 1.0
O4A .6671(8) .2075(6) .6172(4) .00442 Uiso 1.0
O5A .1652(8) .2885(7) .6059(4) .00609 Uiso 1.0
O6A .7935(9) .4499(6) .5233(4) .00353 Uiso 1.0
D3A .0109(10) .9358(7) .6643(4) .02283 Uiso 1.0
D4A .6539(10) .2875(7) .6367(4) .0278 Uiso 1.0
D5A .2394(9) .2567(6) .6523(4) .01951 Uiso 1.0
D6A .7205(8) .4482(6) .5723(4) .02206 Uiso 1.0
loop_
_atom_type_symbol
_atom_type_description
_atom_type_scat_source
Ba Ba 'Koster & Yelon (1982), Neutron Diffraction Newsletter'
O O 'Koster & Yelon (1982), Neutron Diffraction Newsletter'
D D 'Koster & Yelon (1982), Neutron Diffraction Newsletter'
