#------------------------------------------------------------------------------
#$Date: 2017-10-13 08:28:26 +0300 (Fri, 13 Oct 2017) $
#$Revision: 201972 $
#$URL: file:///home/coder/svn-repositories/cod/cif/2/10/46/2104643.cif $
#------------------------------------------------------------------------------
#
# This file is available in the Crystallography Open Database (COD),
# http://www.crystallography.net/. The original data for this entry
# were provided by IUCr Journals, http://journals.iucr.org/.
#
# The file may be used within the scientific community so long as
# proper attribution is given to the journal article from which the
# data were obtained.
#
data_2104643
loop_
_publ_author_name
'Johnstone, Russell D. L.'
'Lennie, Alistair R.'
'Parsons, Simon'
'Pidcock, Elna'
'Warren, John E.'
_publ_section_title
;
 Comparison of the effects of pressure on three layered hydrates: a
 partially successful attempt to predict a high-pressure phase
 transition
;
_journal_issue                   6
_journal_name_full               'Acta Crystallographica Section B'
_journal_page_first              731
_journal_page_last               748
_journal_paper_doi               10.1107/S0108768109039469
_journal_volume                  65
_journal_year                    2009
_chemical_formula_moiety         'C5 H13 N1 O3'
_chemical_formula_sum            'C5 H13 N O3'
_chemical_formula_weight         135.16
_chemical_name_common            'Betaine monohydrate'
_space_group_IT_number           61
_symmetry_cell_setting           orthorhombic
_symmetry_space_group_name_Hall  '-P 2ac 2ab'
_symmetry_space_group_name_H-M   'P b c a'
_atom_sites_solution_hydrogens   geom
_atom_sites_solution_primary     direct
_cell_angle_alpha                90
_cell_angle_beta                 90
_cell_angle_gamma                90
_cell_formula_units_Z            8
_cell_length_a                   8.9440(5)
_cell_length_b                   10.9336(14)
_cell_length_c                   12.1698(6)
_cell_measurement_reflns_used    821
_cell_measurement_temperature    293
_cell_measurement_theta_max      17
_cell_measurement_theta_min      3
_cell_volume                     1190.09(18)
_computing_cell_refinement       'Apex2 (Bruker AXS, 2006)'
_computing_data_collection       'Apex2 (Bruker AXS, 2006)'
_computing_data_reduction        'Apex2 (Bruker AXS, 2006)'
_computing_molecular_graphics    'CAMERON (Watkin et al., 1996)'
_computing_publication_material  'CRYSTALS (Betteridge et al., 2003)'
_computing_structure_refinement  'CRYSTALS (Betteridge et al., 2003)'
_computing_structure_solution    'SIR92 (Altomare et al., 1994)'
_diffrn_ambient_temperature      293
_diffrn_measured_fraction_theta_full 0.593
_diffrn_measured_fraction_theta_max 0.545
_diffrn_measurement_device       'Bruker Kappa Apex2'
_diffrn_measurement_device_type  Area
_diffrn_measurement_method       ω
_diffrn_radiation_monochromator  silicon
_diffrn_radiation_type           synchrotron
_diffrn_radiation_wavelength     0.47620
_diffrn_reflns_av_R_equivalents  0.0814
_diffrn_reflns_limit_h_max       11
_diffrn_reflns_limit_h_min       0
_diffrn_reflns_limit_k_max       9
_diffrn_reflns_limit_k_min       0
_diffrn_reflns_limit_l_max       15
_diffrn_reflns_limit_l_min       0
_diffrn_reflns_number            5266
_diffrn_reflns_reduction_process
;
 Merged with SORTAV
 R.H. Blessing, (1987) Cryst. Rev. 1, 3-58
;
_diffrn_reflns_theta_full        13.353
_diffrn_reflns_theta_max         17.342
_diffrn_reflns_theta_min         2.268
_diffrn_standards_number         0
_exptl_absorpt_coefficient_mu    0.123
_exptl_absorpt_correction_T_max  0.99
_exptl_absorpt_correction_T_min  0.81
_exptl_absorpt_correction_type   multi-scan
_exptl_absorpt_process_details   'SADABS (Siemens, 1996)'
_exptl_crystal_colour            colourless
_exptl_crystal_density_diffrn    1.509
_exptl_crystal_density_method    'not measured'
_exptl_crystal_description       block
_exptl_crystal_F_000             592
_exptl_crystal_size_max          0.20
_exptl_crystal_size_mid          0.20
_exptl_crystal_size_min          0.10
_refine_diff_density_max         0.51
_refine_diff_density_min         -0.59
_refine_ls_extinction_method     None
_refine_ls_goodness_of_fit_ref   0.9971
_refine_ls_hydrogen_treatment    constr
_refine_ls_matrix_type           full
_refine_ls_number_parameters     86
_refine_ls_number_reflns         488
_refine_ls_number_restraints     213
_refine_ls_R_factor_all          0.0727
_refine_ls_R_factor_gt           0.0464
_refine_ls_shift/su_max          0.000054
_refine_ls_structure_factor_coef F
_refine_ls_weighting_details
;
 Method= Modified Sheldrick
 w=1/[σ²(Fo) + ( 0.00P)² + 0.03P]
 ,where P=(max(Fo,0) + 2Fc)/3
;
_refine_ls_weighting_scheme      calc
_refine_ls_wR_factor_all         0.0657
_refine_ls_wR_factor_gt          0.0544
_refine_ls_wR_factor_ref         0.0544
_reflns_number_gt                488
_reflns_number_total             667
_reflns_threshold_expression     I>2.0σ(I)
_cod_data_source_file            ws5073.cif
_cod_data_source_block           BTM4.0GPa
_cod_depositor_comments
;
The following automatic conversions were performed:
'_symmetry_cell_setting' value 'Orthorhombic' changed to 'orthorhombic'
according to '/home/saulius/struct/CIF-dictionaries/cif_core.dic'
dictionary named 'cif_core.dic' version 2.4.1 from 2010-06-29.

Automatic conversion script
Id: cif_fix_enum 1527 2010-12-29 10:47:43Z saulius 

The following automatic conversions were performed:

'_symmetry_cell_setting' value 'Orthorhombic' changed to
'orthorhombic' according to
/home/saulius/struct/CIF-dictionaries/cif_core.dic dictionary named
'cif_core.dic' version 2.4.1 from 2010-06-29.

Automatic conversion script
Id: cif_fix_values 1715 2011-07-08 13:25:40Z adriana 
;
_cod_original_sg_symbol_H-M      'P b c a '
_cod_original_formula_sum        'C5 H13 N1 O3'
_cod_database_code               2104643
_cod_database_fobs_code          2104643
loop_
_symmetry_equiv_pos_as_xyz
x,y,z
-x,-y,-z
-x+1/2,y+1/2,z
x+1/2,-y+1/2,-z
x,-y+1/2,z+1/2
-x,y+1/2,-z+1/2
-x+1/2,-y,z+1/2
x+1/2,y,-z+1/2
loop_
_atom_site_type_symbol
_atom_site_label
_atom_site_fract_x
_atom_site_fract_y
_atom_site_fract_z
_atom_site_U_iso_or_equiv
_atom_site_adp_type
_atom_site_occupancy
_atom_site_disorder_assembly
_atom_site_disorder_group
N N1 0.23898(19) 0.3157(2) 0.11141(13) 0.0143 Uani 1.0000 . .
O O1 0.05166(18) 0.1240(3) 0.31508(13) 0.0277 Uani 1.0000 . .
O O2 -0.00642(18) 0.1562(3) 0.13968(12) 0.0265 Uani 1.0000 . .
C C1 0.1153(3) 0.4060(4) 0.0959(2) 0.0245 Uani 1.0000 . .
C C2 0.2518(3) 0.2311(4) 0.01573(18) 0.0227 Uani 1.0000 . .
C C3 0.3822(3) 0.3847(4) 0.12152(19) 0.0248 Uani 1.0000 . .
C C4 0.2154(2) 0.2452(4) 0.21511(16) 0.0176 Uani 1.0000 . .
C C5 0.0746(2) 0.1686(3) 0.22207(16) 0.0179 Uani 1.0000 . .
H H1 0.0196 0.3626 0.0916 0.0294 Uiso 1.0000 . .
H H2 0.1318 0.4518 0.0277 0.0294 Uiso 1.0000 . .
H H3 0.1135 0.4628 0.1582 0.0294 Uiso 1.0000 . .
H H4 0.1598 0.1830 0.0090 0.0273 Uiso 1.0000 . .
H H5 0.3368 0.1759 0.0269 0.0273 Uiso 1.0000 . .
H H6 0.2672 0.2787 -0.0515 0.0273 Uiso 1.0000 . .
H H7 0.3762 0.4407 0.1843 0.0297 Uiso 1.0000 . .
H H8 0.3997 0.4316 0.0541 0.0297 Uiso 1.0000 . .
H H9 0.4647 0.3271 0.1328 0.0297 Uiso 1.0000 . .
H H10 0.3018 0.1896 0.2244 0.0211 Uiso 1.0000 . .
H H11 0.2131 0.3045 0.2765 0.0211 Uiso 1.0000 . .
O O3 0.2869(2) -0.0218(3) 0.36805(15) 0.0283 Uani 1.0000 . .
H H12 0.2102(16) 0.020(2) 0.355(3) 0.0758(11) Uiso 1.0000 . .
H H13 0.3557(19) 0.0295(17) 0.359(2) 0.0758(11) Uiso 1.0000 . .
loop_
_atom_site_aniso_label
_atom_site_aniso_U_11
_atom_site_aniso_U_22
_atom_site_aniso_U_33
_atom_site_aniso_U_12
_atom_site_aniso_U_13
_atom_site_aniso_U_23
N1 0.0190(10) 0.010(3) 0.0138(8) -0.0010(9) 0.0007(7) -0.0009(9)
O1 0.0220(11) 0.033(3) 0.0283(9) -0.0041(9) 0.0029(7) 0.0106(12)
O2 0.0194(10) 0.031(3) 0.0289(9) -0.0061(9) -0.0037(6) 0.0005(13)
C1 0.0295(15) 0.016(3) 0.0281(13) 0.0074(14) 0.0022(10) 0.0074(14)
C2 0.0267(13) 0.022(3) 0.0193(11) 0.0001(13) 0.0049(9) -0.0088(14)
C3 0.0224(13) 0.029(4) 0.0228(11) -0.0114(13) 0.0014(9) -0.0030(15)
C4 0.0178(13) 0.018(3) 0.0168(10) -0.0002(11) -0.0007(8) 0.0050(12)
C5 0.0142(12) 0.016(3) 0.0230(10) 0.0029(11) 0.0029(8) 0.0010(13)
O3 0.0329(11) 0.021(3) 0.0311(10) 0.0006(11) -0.0021(8) 0.0017(12)
loop_
_atom_type_symbol
_atom_type_scat_dispersion_real
_atom_type_scat_dispersion_imag
_atom_type_scat_source
C 0.0000 0.0010 'International Tables Vol C 4.2.6.8 and 6.1.1.4'
H 0.0000 0.0000 'International Tables Vol C 4.2.6.8 and 6.1.1.4'
N 0.0010 0.0010 'International Tables Vol C 4.2.6.8 and 6.1.1.4'
O 0.0030 0.0030 'International Tables Vol C 4.2.6.8 and 6.1.1.4'
loop_
_geom_angle_atom_site_label_1
_geom_angle_atom_site_label_2
_geom_angle_atom_site_label_3
_geom_angle_site_symmetry_1
_geom_angle_site_symmetry_2
_geom_angle_site_symmetry_3
_geom_angle
_geom_angle_publ_flag
C1 N1 C2 . . . 111.60(18) yes
C1 N1 C3 . . . 108.2(2) yes
C2 N1 C3 . . . 108.18(17) yes
C1 N1 C4 . . . 110.06(17) yes
C2 N1 C4 . . . 110.5(2) yes
C3 N1 C4 . . . 108.22(16) yes
N1 C1 H1 . . . 109.5 no
N1 C1 H2 . . . 109.5 no
H1 C1 H2 . . . 109.5 no
N1 C1 H3 . . . 109.5 no
H1 C1 H3 . . . 109.5 no
H2 C1 H3 . . . 109.5 no
N1 C2 H4 . . . 109.5 no
N1 C2 H5 . . . 109.5 no
H4 C2 H5 . . . 109.5 no
N1 C2 H6 . . . 109.5 no
H4 C2 H6 . . . 109.5 no
H5 C2 H6 . . . 109.5 no
N1 C3 H7 . . . 109.5 no
N1 C3 H8 . . . 109.5 no
H7 C3 H8 . . . 109.5 no
N1 C3 H9 . . . 109.5 no
H7 C3 H9 . . . 109.5 no
H8 C3 H9 . . . 109.5 no
N1 C4 C5 . . . 116.75(15) yes
N1 C4 H10 . . . 107.6 no
C5 C4 H10 . . . 107.6 no
N1 C4 H11 . . . 107.6 no
C5 C4 H11 . . . 107.6 no
H10 C4 H11 . . . 109.5 no
C4 C5 O1 . . . 113.78(17) yes
C4 C5 O2 . . . 119.95(18) yes
O1 C5 O2 . . . 126.3(2) yes
H12 O3 H13 . . . 102.002(6) no
loop_
_geom_bond_atom_site_label_1
_geom_bond_atom_site_label_2
_geom_bond_site_symmetry_1
_geom_bond_site_symmetry_2
_geom_bond_distance
_geom_bond_publ_flag
N1 C1 . . 1.494(4) yes
N1 C2 . . 1.492(3) yes
N1 C3 . . 1.492(3) yes
N1 C4 . . 1.494(3) yes
O1 C5 . . 1.249(3) yes
O2 C5 . . 1.245(2) yes
C1 H1 . . 0.980 no
C1 H2 . . 0.980 no
C1 H3 . . 0.980 no
C2 H4 . . 0.980 no
C2 H5 . . 0.980 no
C2 H6 . . 0.980 no
C3 H7 . . 0.980 no
C3 H8 . . 0.980 no
C3 H9 . . 0.980 no
C4 C5 . . 1.515(3) yes
C4 H10 . . 0.990 no
C4 H11 . . 0.990 no
O3 H12 . . 0.840 no
O3 H13 . . 0.84027(5) no
loop_
_cod_related_entry_id
_cod_related_entry_database
_cod_related_entry_code
1 ChemSpider 75635
