#------------------------------------------------------------------------------
#$Date: 2016-02-20 02:53:41 +0200 (Sat, 20 Feb 2016) $
#$Revision: 176768 $
#$URL: svn://www.crystallography.net/cod/cif/2/10/56/2105699.cif $
#------------------------------------------------------------------------------
#
# This file is available in the Crystallography Open Database (COD),
# http://www.crystallography.net/. The original data for this entry
# were provided by IUCr Journals, http://journals.iucr.org/.
#
# The file may be used within the scientific community so long as
# proper attribution is given to the journal article from which the
# data were obtained.
#
data_2105699
loop_
_publ_author_name
'Langan, Paul'
'Mason, Sax A.'
'Myles, Dean'
'Schoenborn, Benno P.'
_publ_section_title
;
 Structural characterization of crystals of α-glycine during anomalous
 electrical behaviour
;
_journal_issue                   4
_journal_name_full
'Acta Crystallographica Section B Structural Science'
_journal_page_first              728
_journal_paper_doi               10.1107/S0108768102004263
_journal_volume                  58
_journal_year                    2002
_chemical_formula_sum            'C2 H5 N O2'
_chemical_formula_weight         75.06
_chemical_name_common            glycine
_chemical_name_systematic
;
 ?
;
_space_group_IT_number           14
_symmetry_cell_setting           monoclinic
_symmetry_space_group_name_Hall  '-P 2yn'
_symmetry_space_group_name_H-M   'P 1 21/n 1'
_atom_sites_solution_hydrogens   geom
_atom_sites_solution_primary     direct
_atom_sites_solution_secondary   difmap
_audit_creation_method           SHELXL-97
_cell_angle_alpha                90.00
_cell_angle_beta                 111.763(5)
_cell_angle_gamma                90.00
_cell_formula_units_Z            4
_cell_length_a                   5.1012(3)
_cell_length_b                   11.9651(9)
_cell_length_c                   5.4604(4)
_cell_measurement_reflns_used    1044
_cell_measurement_temperature    313(2)
_cell_measurement_theta_max      39.96
_cell_measurement_theta_min      4.02
_cell_volume                     309.53(4)
_computing_cell_refinement       'ILL RAFD9'
_computing_data_collection       'ILL MAD'
_computing_data_reduction        'ILL RETREAT'
_computing_molecular_graphics    PLATON
_computing_structure_refinement  'SHELXL-97 (Sheldrick, 1997)'
_computing_structure_solution    'SHELXL-97 (Sheldrick, 1997)'
_diffrn_ambient_temperature      313(2)
_diffrn_measured_fraction_theta_full 1.000
_diffrn_measured_fraction_theta_max 0.797
_diffrn_measurement_device_type  d9
_diffrn_measurement_method       'equatorial geometry'
_diffrn_radiation_probe          neutron
_diffrn_radiation_source         'ILL reactor'
_diffrn_radiation_type           neutron
_diffrn_radiation_wavelength     0.83950
_diffrn_reflns_av_R_equivalents  0.0149
_diffrn_reflns_av_sigmaI/netI    0.0229
_diffrn_reflns_limit_h_max       2
_diffrn_reflns_limit_h_min       -7
_diffrn_reflns_limit_k_max       18
_diffrn_reflns_limit_k_min       -13
_diffrn_reflns_limit_l_max       8
_diffrn_reflns_limit_l_min       -6
_diffrn_reflns_number            1044
_diffrn_reflns_theta_full        35.00
_diffrn_reflns_theta_max         39.96
_diffrn_reflns_theta_min         4.02
_diffrn_standards_decay_%        0
_diffrn_standards_interval_count 50
_diffrn_standards_number         3
_exptl_absorpt_coefficient_mu    0.239
_exptl_absorpt_correction_T_max  0.7060
_exptl_absorpt_correction_T_min  0.5934
_exptl_absorpt_correction_type   gaussian
_exptl_absorpt_process_details
;
  P. Coppens: The evaluation of absorption and extinction in
  single crystal structure analysis in crystallographic computing,
  ed F.R.Ahmed, Munsgaad, 1970.
;
_exptl_crystal_colour            none
_exptl_crystal_density_diffrn    1.611
_exptl_crystal_density_meas      ?
_exptl_crystal_density_method    'not measured'
_exptl_crystal_description       needle
_exptl_crystal_F_000             62
_exptl_crystal_size_max          6
_exptl_crystal_size_mid          1.8
_exptl_crystal_size_min          1.7
_refine_diff_density_max         0.508
_refine_diff_density_min         -0.551
_refine_ls_extinction_coef       0.60(2)
_refine_ls_extinction_expression Fc^*^=kFc[1+0.001xFc²λ³/sin(2θ)]^-1/4^
_refine_ls_extinction_method     SHELXL
_refine_ls_goodness_of_fit_ref   1.159
_refine_ls_hydrogen_treatment    mixed
_refine_ls_matrix_type           full
_refine_ls_number_parameters     92
_refine_ls_number_reflns         926
_refine_ls_number_restraints     0
_refine_ls_restrained_S_all      1.159
_refine_ls_R_factor_all          0.0321
_refine_ls_R_factor_gt           0.0300
_refine_ls_shift/su_max          0.000
_refine_ls_shift/su_mean         0.000
_refine_ls_structure_factor_coef Fsqd
_refine_ls_weighting_details
'calc w=1/[σ²(Fo²)+(0.0434P)²+0.2935P] where P=(Fo²+2Fc²)/3'
_refine_ls_weighting_scheme      calc
_refine_ls_wR_factor_gt          0.0732
_refine_ls_wR_factor_ref         0.0741
_reflns_number_gt                876
_reflns_number_total             926
_reflns_threshold_expression     >2sigma(I)
_cod_data_source_file            an0604sup1.cif
_cod_data_source_block           313K
_cod_depositor_comments
;
The following automatic conversions were performed:

'_exptl_crystal_density_meas' value 'not measured' was changed to '?'
- the value is perceived as not measured.

Automatic conversion script
Id: cif_fix_values 3008 2015-01-20 13:52:24Z robertas 
;
_cod_database_code               2105699
loop_
_symmetry_equiv_pos_as_xyz
'x, y, z'
'-x+1/2, y+1/2, -z+1/2'
'-x, -y, -z'
'x-1/2, -y-1/2, z-1/2'
loop_
_atom_site_label
_atom_site_fract_x
_atom_site_fract_y
_atom_site_fract_z
_atom_site_U_iso_or_equiv
_atom_site_adp_type
_atom_site_calc_flag
_atom_site_occupancy
_atom_site_type_symbol
O1 0.3051(2) 0.09431(9) 0.23518(16) 0.0240(2) Uani d 1 O
O2 -0.1472(2) 0.14152(10) 0.1073(2) 0.0278(2) Uani d 1 O
N3 0.30130(12) 0.09000(5) -0.25903(10) 0.02068(17) Uani d 1 N
C4 0.07517(15) 0.12480(6) 0.06600(14) 0.01530(18) Uani d 1 C
C5 0.06478(16) 0.14495(7) -0.21328(14) 0.01793(18) Uani d 1 C
H6 0.2897(4) 0.10015(19) -0.4542(3) 0.0348(4) Uani d 1 H
H7 0.4953(4) 0.1190(2) -0.1309(4) 0.0385(4) Uani d 1 H
H8 0.2991(5) 0.00493(17) -0.2258(4) 0.0421(5) Uani d 1 H
H9 0.0778(5) 0.23451(17) -0.2434(4) 0.0439(5) Uani d 1 H
H10 -0.1330(4) 0.1142(2) -0.3567(4) 0.0446(5) Uani d 1 H
loop_
_atom_site_aniso_label
_atom_site_aniso_U_11
_atom_site_aniso_U_22
_atom_site_aniso_U_33
_atom_site_aniso_U_12
_atom_site_aniso_U_13
_atom_site_aniso_U_23
O1 0.0220(4) 0.0380(5) 0.0139(4) 0.0059(4) 0.0086(3) 0.0039(3)
O2 0.0203(4) 0.0457(6) 0.0227(4) 0.0023(4) 0.0140(3) -0.0026(4)
N3 0.0211(3) 0.0299(3) 0.0131(2) 0.0057(2) 0.00872(19) 0.00189(18)
C4 0.0167(3) 0.0176(3) 0.0141(3) -0.0007(2) 0.0087(2) -0.0011(2)
C5 0.0182(3) 0.0227(4) 0.0143(3) 0.0030(3) 0.0076(2) 0.0037(2)
H6 0.0346(9) 0.0520(11) 0.0218(6) 0.0059(7) 0.0152(6) 0.0044(7)
H7 0.0261(8) 0.0605(12) 0.0281(8) 0.0031(8) 0.0092(6) -0.0003(8)
H8 0.0590(13) 0.0354(9) 0.0333(9) 0.0154(9) 0.0188(8) 0.0029(7)
H9 0.0662(14) 0.0299(8) 0.0456(11) 0.0116(9) 0.0322(10) 0.0141(8)
H10 0.0254(8) 0.0785(15) 0.0264(8) -0.0033(9) 0.0056(7) -0.0069(9)
loop_
_atom_type_symbol
_atom_type_description
_atom_type_scat_dispersion_real
_atom_type_scat_dispersion_imag
_atom_type_scat_source
C C 0.0000 0.0000 'International Tables Vol C Tables 4.2.6.8 and 6.1.1.4'
H H 0.0000 0.0000 'International Tables Vol C Tables 4.2.6.8 and 6.1.1.4'
N N 0.0000 0.0000 'International Tables Vol C Tables 4.2.6.8 and 6.1.1.4'
O O 0.0000 0.0000 'International Tables Vol C Tables 4.2.6.8 and 6.1.1.4'
loop_
_geom_angle_atom_site_label_1
_geom_angle_atom_site_label_2
_geom_angle_atom_site_label_3
_geom_angle
C5 N3 H6 112.20(12)
C5 N3 H7 111.87(13)
C5 N3 H8 110.26(14)
O1 C4 O2 125.38(8)
O1 C4 C5 117.43(7)
O2 C4 C5 117.18(8)
N3 C5 C4 111.82(6)
N3 C5 H9 108.26(13)
C4 C5 H9 108.95(13)
N3 C5 H10 109.07(14)
C4 C5 H10 110.23(13)
loop_
_geom_bond_atom_site_label_1
_geom_bond_atom_site_label_2
_geom_bond_distance
O1 C4 1.2486(12)
O2 C4 1.2521(12)
N3 C5 1.4744(9)
N3 H6 1.0525(17)
N3 H7 1.037(2)
N3 H8 1.035(2)
C4 C5 1.5253(10)
C5 H9 1.090(2)
C5 H10 1.087(2)
loop_
_geom_hbond_atom_site_label_D
_geom_hbond_atom_site_label_H
_geom_hbond_atom_site_label_A
_geom_hbond_site_symmetry_A
_geom_hbond_distance_DH
_geom_hbond_distance_HA
_geom_hbond_distance_DA
_geom_hbond_angle_DHA
N3 H6 O1 1_554 1.0525(17) 1.7281(18) 2.7696(10) 169.54(19)
N3 H6 O2 1_554 1.0525(17) 2.644(2) 3.4230(12) 130.60(14)
N3 H7 O2 1_655 1.037(2) 1.825(2) 2.8499(12) 168.9(2)
N3 H8 O2 3 1.035(2) 2.112(3) 3.0759(14) 154.01(19)
N3 H8 O1 3_655 1.035(2) 2.359(2) 2.9525(12) 115.24(18)
N3 H8 O1 3_655 1.035(2) 2.359(2) 2.9525(12) 115.24(18)
