#------------------------------------------------------------------------------
#$Date: 2017-10-13 12:31:46 +0300 (Fri, 13 Oct 2017) $
#$Revision: 201979 $
#$URL: file:///home/coder/svn-repositories/cod/cif/2/23/32/2233269.cif $
#------------------------------------------------------------------------------
#
# This file is available in the Crystallography Open Database (COD),
# http://www.crystallography.net/. The original data for this entry
# were provided by IUCr Journals, http://journals.iucr.org/.
#
# The file may be used within the scientific community so long as
# proper attribution is given to the journal article from which the
# data were obtained.
#
data_2233269
loop_
_publ_author_name
'Liu, Hua Quan'
'Tang, Wei'
'Wang, De Cai'
'Ou-yang, Ping Kai'
_publ_section_title
;
 6-Chloro-1-methylindoline-2,3-dione
;
_journal_coeditor_code           PV2487
_journal_issue                   1
_journal_name_full               'Acta Crystallographica Section E'
_journal_page_first              o14
_journal_paper_doi               10.1107/S1600536811051294
_journal_volume                  68
_journal_year                    2012
_chemical_formula_iupac          'C9 H6 Cl N O2'
_chemical_formula_moiety         'C9 H6 Cl N O2'
_chemical_formula_sum            'C9 H6 Cl N O2'
_chemical_formula_weight         195.60
_chemical_name_systematic
;
6-Chloro-1-methylindoline-2,3-dione
;
_space_group_IT_number           15
_symmetry_cell_setting           monoclinic
_symmetry_space_group_name_Hall  '-C 2yc'
_symmetry_space_group_name_H-M   'C 1 2/c 1'
_atom_sites_solution_hydrogens   geom
_atom_sites_solution_primary     direct
_atom_sites_solution_secondary   difmap
_audit_creation_method           SHELXL-97
_cell_angle_alpha                90.00
_cell_angle_beta                 101.95(3)
_cell_angle_gamma                90.00
_cell_formula_units_Z            8
_cell_length_a                   13.077(3)
_cell_length_b                   7.9390(16)
_cell_length_c                   16.673(3)
_cell_measurement_reflns_used    25
_cell_measurement_temperature    293(2)
_cell_measurement_theta_max      13
_cell_measurement_theta_min      9
_cell_volume                     1693.5(6)
_computing_cell_refinement       'CAD-4 EXPRESS (Enraf--Nonius, 1994)'
_computing_data_collection       'CAD-4 EXPRESS (Enraf--Nonius, 1994)'
_computing_data_reduction        'XCAD4 (Harms & Wocadlo, 1995)'
_computing_molecular_graphics    'SHELXTL (Sheldrick, 2008)'
_computing_publication_material  'PLATON (Spek, 2009)'
_computing_structure_refinement  'SHELXL97 (Sheldrick, 2008)'
_computing_structure_solution    'SHELXS97 (Sheldrick, 2008)'
_diffrn_ambient_temperature      293(2)
_diffrn_measured_fraction_theta_full 1.000
_diffrn_measured_fraction_theta_max 1.000
_diffrn_measurement_device_type  'Enraf--Nonius CAD-4'
_diffrn_measurement_method       ω/2θ
_diffrn_radiation_monochromator  graphite
_diffrn_radiation_source         'fine-focus sealed tube'
_diffrn_radiation_type           MoK\a
_diffrn_radiation_wavelength     0.71073
_diffrn_reflns_av_R_equivalents  0.0314
_diffrn_reflns_av_sigmaI/netI    0.0305
_diffrn_reflns_limit_h_max       15
_diffrn_reflns_limit_h_min       0
_diffrn_reflns_limit_k_max       9
_diffrn_reflns_limit_k_min       -9
_diffrn_reflns_limit_l_max       20
_diffrn_reflns_limit_l_min       -20
_diffrn_reflns_number            3124
_diffrn_reflns_theta_full        25.37
_diffrn_reflns_theta_max         25.37
_diffrn_reflns_theta_min         2.50
_diffrn_standards_decay_%        1
_diffrn_standards_interval_count 200
_diffrn_standards_interval_time  2
_diffrn_standards_number         3
_exptl_absorpt_coefficient_mu    0.411
_exptl_absorpt_correction_T_max  0.9601
_exptl_absorpt_correction_T_min  0.8866
_exptl_absorpt_correction_type   psi-scan
_exptl_absorpt_process_details   '(North et al., 1968)'
_exptl_crystal_colour            yellow
_exptl_crystal_density_diffrn    1.534
_exptl_crystal_density_method    'not measured'
_exptl_crystal_description       block
_exptl_crystal_F_000             800
_exptl_crystal_size_max          0.30
_exptl_crystal_size_mid          0.20
_exptl_crystal_size_min          0.10
_refine_diff_density_max         0.171
_refine_diff_density_min         -0.274
_refine_ls_extinction_method     none
_refine_ls_goodness_of_fit_ref   1.004
_refine_ls_hydrogen_treatment    constr
_refine_ls_matrix_type           full
_refine_ls_number_parameters     119
_refine_ls_number_reflns         1557
_refine_ls_number_restraints     1
_refine_ls_restrained_S_all      1.004
_refine_ls_R_factor_all          0.0516
_refine_ls_R_factor_gt           0.0397
_refine_ls_shift/su_max          0.000
_refine_ls_shift/su_mean         0.000
_refine_ls_structure_factor_coef Fsqd
_refine_ls_weighting_details
'calc w=1/[σ²(Fo²)+(0.0800P)²] where P=(Fo²+2Fc²)/3'
_refine_ls_weighting_scheme      calc
_refine_ls_wR_factor_gt          0.1098
_refine_ls_wR_factor_ref         0.1184
_reflns_number_gt                1250
_reflns_number_total             1557
_reflns_threshold_expression     I>2sigma(I)
_cod_data_source_file            pv2487.cif
_cod_data_source_block           I
_cod_original_sg_symbol_H-M      'C 2/c'
_cod_database_code               2233269
_cod_database_fobs_code          2233269
loop_
_symmetry_equiv_pos_as_xyz
'x, y, z'
'-x, y, -z+1/2'
'x+1/2, y+1/2, z'
'-x+1/2, y+1/2, -z+1/2'
'-x, -y, -z'
'x, -y, z-1/2'
'-x+1/2, -y+1/2, -z'
'x+1/2, -y+1/2, z-1/2'
loop_
_atom_site_type_symbol
_atom_site_label
_atom_site_fract_x
_atom_site_fract_y
_atom_site_fract_z
_atom_site_U_iso_or_equiv
_atom_site_adp_type
_atom_site_calc_flag
_atom_site_refinement_flags
_atom_site_occupancy
_atom_site_symmetry_multiplicity
Cl Cl 0.44670(4) 0.16058(8) 0.34958(3) 0.0700(3) Uani d . 1 1
N N 0.64277(11) 0.39456(19) 0.62790(9) 0.0490(4) Uani d . 1 1
C C1 0.62506(13) 0.3717(2) 0.54308(11) 0.0427(4) Uani d . 1 1
O O1 0.84333(11) 0.63253(19) 0.57603(13) 0.0790(5) Uani d . 1 1
C C2 0.54622(13) 0.2784(2) 0.49497(11) 0.0441(4) Uani d U 1 1
H H2A 0.4961 0.2225 0.5172 0.053 Uiso calc R 1 1
O O2 0.76431(12) 0.5344(2) 0.72436(10) 0.0801(5) Uani d . 1 1
C C3 0.54593(14) 0.2728(2) 0.41247(12) 0.0492(5) Uani d U 1 1
C C4 0.62028(16) 0.3525(2) 0.37645(13) 0.0552(5) Uani d . 1 1
H H4A 0.6180 0.3424 0.3205 0.066 Uiso calc R 1 1
C C5 0.69747(15) 0.4469(2) 0.42582(13) 0.0554(5) Uani d . 1 1
H H5A 0.7472 0.5033 0.4033 0.067 Uiso calc R 1 1
C C6 0.69983(13) 0.4564(2) 0.50844(12) 0.0484(5) Uani d . 1 1
C C7 0.76899(14) 0.5415(2) 0.57711(15) 0.0579(5) Uani d . 1 1
C C8 0.72891(14) 0.4939(2) 0.65333(14) 0.0579(5) Uani d . 1 1
C C9 0.58013(17) 0.3220(3) 0.68150(14) 0.0608(5) Uani d . 1 1
H H9A 0.6096 0.3521 0.7373 0.091 Uiso calc R 1 1
H H9B 0.5794 0.2016 0.6761 0.091 Uiso calc R 1 1
H H9C 0.5100 0.3643 0.6666 0.091 Uiso calc R 1 1
loop_
_atom_site_aniso_label
_atom_site_aniso_U_11
_atom_site_aniso_U_22
_atom_site_aniso_U_33
_atom_site_aniso_U_12
_atom_site_aniso_U_13
_atom_site_aniso_U_23
Cl 0.0696(4) 0.0753(4) 0.0577(4) -0.0114(3) -0.0042(3) -0.0050(2)
N 0.0434(9) 0.0508(9) 0.0522(9) -0.0023(7) 0.0088(7) -0.0046(7)
C1 0.0372(9) 0.0385(8) 0.0526(10) 0.0041(7) 0.0095(7) 0.0015(7)
O1 0.0522(9) 0.0643(9) 0.1197(15) -0.0190(8) 0.0158(9) -0.0066(9)
C2 0.0394(9) 0.0423(9) 0.0509(10) -0.0021(7) 0.0100(7) 0.0035(7)
O2 0.0701(10) 0.0856(11) 0.0755(12) -0.0061(8) -0.0060(8) -0.0214(9)
C3 0.0455(10) 0.0446(10) 0.0544(11) 0.0033(8) 0.0031(8) 0.0022(8)
C4 0.0631(12) 0.0558(12) 0.0481(11) 0.0060(9) 0.0143(9) 0.0089(8)
C5 0.0535(11) 0.0511(11) 0.0673(13) 0.0018(9) 0.0253(9) 0.0131(9)
C6 0.0384(9) 0.0385(9) 0.0690(13) 0.0007(7) 0.0126(8) 0.0029(8)
C7 0.0377(10) 0.0444(10) 0.0900(16) -0.0023(8) 0.0098(9) -0.0042(9)
C8 0.0433(10) 0.0534(11) 0.0715(14) 0.0020(8) -0.0009(9) -0.0132(9)
C9 0.0596(12) 0.0710(14) 0.0530(12) 0.0004(10) 0.0141(9) 0.0037(10)
loop_
_atom_type_symbol
_atom_type_description
_atom_type_scat_dispersion_real
_atom_type_scat_dispersion_imag
_atom_type_scat_source
C C 0.0033 0.0016 'International Tables Vol C Tables 4.2.6.8 and 6.1.1.4'
H H 0.0000 0.0000 'International Tables Vol C Tables 4.2.6.8 and 6.1.1.4'
N N 0.0061 0.0033 'International Tables Vol C Tables 4.2.6.8 and 6.1.1.4'
O O 0.0106 0.0060 'International Tables Vol C Tables 4.2.6.8 and 6.1.1.4'
Cl Cl 0.1484 0.1585 'International Tables Vol C Tables 4.2.6.8 and 6.1.1.4'
loop_
_geom_angle_atom_site_label_1
_geom_angle_atom_site_label_2
_geom_angle_atom_site_label_3
_geom_angle
C8 N C1 109.98(16)
C8 N C9 124.86(18)
C1 N C9 125.16(15)
C2 C1 N 127.17(16)
C2 C1 C6 121.09(17)
N C1 C6 111.74(16)
C3 C2 C1 116.40(16)
C3 C2 H2A 121.8
C1 C2 H2A 121.8
C2 C3 C4 123.89(18)
C2 C3 Cl 117.88(14)
C4 C3 Cl 118.23(15)
C5 C4 C3 118.50(19)
C5 C4 H4A 120.8
C3 C4 H4A 120.8
C6 C5 C4 119.24(17)
C6 C5 H5A 120.4
C4 C5 H5A 120.4
C5 C6 C1 120.85(18)
C5 C6 C7 133.59(17)
C1 C6 C7 105.55(17)
O1 C7 C6 128.9(2)
O1 C7 C8 125.2(2)
C6 C7 C8 105.93(16)
O2 C8 N 125.0(2)
O2 C8 C7 128.2(2)
N C8 C7 106.77(17)
N C9 H9A 109.5
N C9 H9B 109.5
H9A C9 H9B 109.5
N C9 H9C 109.5
H9A C9 H9C 109.5
H9B C9 H9C 109.5
loop_
_geom_bond_atom_site_label_1
_geom_bond_atom_site_label_2
_geom_bond_distance
Cl C3 1.7361(19)
N C8 1.369(2)
N C1 1.397(2)
N C9 1.451(3)
C1 C2 1.383(2)
C1 C6 1.406(2)
O1 C7 1.215(2)
C2 C3 1.376(3)
C2 H2A 0.9300
O2 C8 1.222(3)
C3 C4 1.396(3)
C4 C5 1.383(3)
C4 H4A 0.9300
C5 C6 1.373(3)
C5 H5A 0.9300
C6 C7 1.468(3)
C7 C8 1.519(3)
C9 H9A 0.9600
C9 H9B 0.9600
C9 H9C 0.9600
loop_
_geom_hbond_atom_site_label_D
_geom_hbond_atom_site_label_H
_geom_hbond_atom_site_label_A
_geom_hbond_site_symmetry_A
_geom_hbond_distance_DH
_geom_hbond_distance_HA
_geom_hbond_distance_DA
_geom_hbond_angle_DHA
_geom_hbond_publ_flag
C2 H2A O1 3_445 0.93 2.50 3.419(2) 168 y
C9 H9A O2 . 0.96 2.53 2.906(3) 103 ?
loop_
_geom_torsion_atom_site_label_1
_geom_torsion_atom_site_label_2
_geom_torsion_atom_site_label_3
_geom_torsion_atom_site_label_4
_geom_torsion
C8 N C1 C2 179.45(16)
C9 N C1 C2 0.2(3)
C8 N C1 C6 0.0(2)
C9 N C1 C6 -179.27(17)
N C1 C2 C3 -179.06(16)
C6 C1 C2 C3 0.4(2)
C1 C2 C3 C4 1.0(3)
C1 C2 C3 Cl -178.72(13)
C2 C3 C4 C5 -1.9(3)
Cl C3 C4 C5 177.82(14)
C3 C4 C5 C6 1.3(3)
C4 C5 C6 C1 0.0(3)
C4 C5 C6 C7 179.48(19)
C2 C1 C6 C5 -0.9(3)
N C1 C6 C5 178.65(16)
C2 C1 C6 C7 179.49(15)
N C1 C6 C7 -0.97(19)
C5 C6 C7 O1 2.2(4)
C1 C6 C7 O1 -178.19(19)
C5 C6 C7 C8 -178.04(19)
C1 C6 C7 C8 1.52(19)
C1 N C8 O2 -179.21(19)
C9 N C8 O2 0.0(3)
C1 N C8 C7 1.0(2)
C9 N C8 C7 -179.76(16)
O1 C7 C8 O2 -1.6(3)
C6 C7 C8 O2 178.7(2)
O1 C7 C8 N 178.14(18)
C6 C7 C8 N -1.6(2)
loop_
_cod_related_entry_id
_cod_related_entry_database
_cod_related_entry_code
1 ChemSpider 16178830
