#------------------------------------------------------------------------------
#$Date: 2016-02-14 16:26:36 +0200 (Sun, 14 Feb 2016) $
#$Revision: 176435 $
#$URL: svn://www.crystallography.net/cod/cif/2/31/01/2310112.cif $
#------------------------------------------------------------------------------
#
# This file is available in the Crystallography Open Database (COD),
# http://www.crystallography.net/. The original data for this entry
# were provided by IUCr Journals, http://journals.iucr.org/.
#
# The file may be used within the scientific community so long as
# proper attribution is given to the journal article from which the
# data were obtained.
#
data_2310112
loop_
_publ_author_name
'Stuart, W.I.'
'McDonald, B.J.'
_publ_section_title
;
 The crystal structures of some plutonium borides
;
_journal_name_full               'Acta Crystallographica (1,1948-23,1967)'
_journal_page_first              447
_journal_page_last               448
_journal_paper_doi               10.1107/S0365110X60001059
_journal_volume                  13
_journal_year                    1960
_chemical_formula_sum            'B6 Pu'
_chemical_name_systematic        'Pu B6'
_space_group_IT_number           221
_symmetry_space_group_name_Hall  '-P 4 2 3'
_symmetry_space_group_name_H-M   'P m -3 m'
_cell_angle_alpha                90
_cell_angle_beta                 90
_cell_angle_gamma                90
_cell_formula_units_Z            1
_cell_length_a                   4.14
_cell_length_b                   4.14
_cell_length_c                   4.14
_cell_volume                     70.958
_citation_journal_id_ASTM        ACCRA9
_cod_data_source_file            boron4-x_294.cif
_cod_data_source_block           B6Pu1
_cod_original_cell_volume        70.95794
_cod_original_formula_sum        'B6 Pu1'
_cod_database_code               2310112
loop_
_symmetry_equiv_pos_as_xyz
x,y,z
-y,x,z
-x,-y,z
y,-x,z
x,-y,-z
y,x,-z
-x,y,-z
-y,-x,-z
z,x,y
-x,z,y
-z,-x,y
x,-z,y
z,-x,-y
x,z,-y
-z,x,-y
-x,-z,-y
y,z,x
y,-z,-x
z,y,-x
-y,z,-x
-z,-y,-x
-y,-z,x
z,-y,x
-z,y,x
-x,-y,-z
y,-x,-z
x,y,-z
-y,x,-z
-x,y,z
-y,-x,z
x,-y,z
y,x,z
-z,-x,-y
x,-z,-y
z,x,-y
-x,z,-y
-z,x,y
-x,-z,y
z,-x,y
x,z,y
-y,-z,-x
-y,z,x
-z,-y,x
y,-z,x
z,y,x
y,z,-x
-z,y,-x
z,-y,-x
loop_
_atom_site_label
_atom_site_type_symbol
_atom_site_fract_x
_atom_site_fract_y
_atom_site_fract_z
_atom_site_occupancy
_atom_site_U_iso_or_equiv
B1 B 0.207 0.5 0.5 1 0.0
Pu1 Pu 0 0 0 1 0.0
