data_3000588
loop_
_publ_author_name
'Sasaki, Toshiyuki'
'Nakane, Takanori'
'Takimoto, Kazuyoshi'
'Ichiyanagi, Kouhei'
'Mori, Yuki'
'Baba, Seiki'
'Sakai, Naoki'
'Kurisu, Genji'
'Miyata, Mikiji'
'Uno, Takahiro'
'Itoh, Takahito'
_journal_name_full               'To be published'
_chemical_formula_sum            'C16 H16 O8'
_space_group_name_Hall           '-P 2yn'
_space_group_name_H-M_alt        'P 1 21/n 1'
_cell_angle_alpha                90
_cell_angle_beta                 104.401(3)
_cell_angle_gamma                90
_cell_length_a                   8.4689(3)
_cell_length_b                   7.6011(2)
_cell_length_c                   12.5302(4)
_cell_measurement_temperature    100
_cell_volume                     781.26(4)
_diffrn_ambient_temperature      100.00
_diffrn_radiation_type           CuK\a
_diffrn_radiation_wavelength     1.54184
_refine_ls_goodness_of_fit_ref   1.159
_refine_ls_R_factor_all          0.0366
_refine_ls_R_factor_gt           0.0352
_refine_ls_wR_factor_gt          0.0898
_refine_ls_wR_factor_ref         0.0907
_cod_database_code               3000588
_cod_hold_until_date             2025-08-28
_cod_depositor_requested_release_date 2025-08-28
loop_
_atom_site_label
_atom_site_fract_x
_atom_site_fract_y
_atom_site_fract_z
? ? ? ?
