data_3000591
loop_
_publ_author_name
'Sasaki, Toshiyuki'
'Nakane, Takanori'
'Takimoto, Kazuyoshi'
'Ichiyanagi, Kouhei'
'Mori, Yuki'
'Baba, Seiki'
'Sakai, Naoki'
'Kurisu, Genji'
'Miyata, Mikiji'
'Uno, Takahiro'
'Itoh, Takahito'
_journal_name_full               'To be published'
_chemical_formula_sum            'Ca H O4 P'
_space_group_name_Hall           '-P 1'
_space_group_name_H-M_alt        'P -1'
_cell_angle_alpha                76.15
_cell_angle_beta                 83.82
_cell_angle_gamma                88.42
_cell_length_a                   6.618
_cell_length_b                   6.892
_cell_length_c                   6.980
_cell_measurement_temperature    100(2)
_cell_volume                     307.313
_diffrn_ambient_temperature      100(2)
_diffrn_radiation_type           synchrotron
_diffrn_radiation_wavelength     0.700
_refine_ls_goodness_of_fit_ref   0.989
_refine_ls_R_factor_all          0.0586
_refine_ls_R_factor_gt           0.0471
_refine_ls_wR_factor_gt          0.1077
_refine_ls_wR_factor_ref         0.1115
_cod_database_code               3000591
_cod_hold_until_date             2025-08-28
_cod_depositor_requested_release_date 2025-08-28
loop_
_atom_site_label
_atom_site_fract_x
_atom_site_fract_y
_atom_site_fract_z
? ? ? ?
