data_3000619
loop_
_publ_author_name
'Yasutomo Segawa'
_journal_name_full               'To be published'
_chemical_formula_sum            'C30 H36 B N O4'
_space_group_name_Hall           '-I 4 2 3'
_space_group_name_H-M_alt        'I m -3 m'
_cell_angle_alpha                90
_cell_angle_beta                 90
_cell_angle_gamma                90
_cell_length_a                   25.2887(3)
_cell_length_b                   25.2887(3)
_cell_length_c                   25.2887(3)
_cell_measurement_temperature    79
_cell_volume                     16172.6(3)
_diffrn_ambient_temperature      79
_diffrn_radiation_probe          electron
_diffrn_radiation_type           electron
_diffrn_radiation_wavelength     0.02508
_refine_ls_goodness_of_fit_ref   1.3807
_refine_ls_R_factor_all          0.1250
_refine_ls_R_factor_gt           0.1215
_refine_ls_wR_factor_gt          0.3356
_refine_ls_wR_factor_ref         0.3386
_cod_database_code               3000619
_cod_hold_until_date             2026-09-25
_cod_depositor_requested_release_date 2026-09-25
loop_
_atom_site_label
_atom_site_fract_x
_atom_site_fract_y
_atom_site_fract_z
? ? ? ?
