#------------------------------------------------------------------------------
#$Date: 2016-02-16 22:30:59 +0200 (Tue, 16 Feb 2016) $
#$Revision: 176467 $
#$URL: svn://www.crystallography.net/cod/cif/4/33/59/4335960.cif $
#------------------------------------------------------------------------------
#
# This file is available in the Crystallography Open Database (COD),
# http://www.crystallography.net/
#
# All data on this site have been placed in the public domain by the
# contributors.
#
data_4335960
loop_
_publ_author_name
'Charles J. Simmons'
'Horst Stratemeier'
'Michael A. Hitchman'
'Mark J. Riley'
_publ_section_title
;
 Influence of Lattice Interactions on the Jahn-Teller Distortion of the
 [Cu(H2O)6]2+ Ion: Dependence of the Crystal Structure of
 K2xRb2-2x[Cu(H2O)6](SeO4)2 upon the K/Rb Ratio
;
_journal_name_full               'Inorganic Chemistry'
_journal_page_first              10481
_journal_page_last               10499
_journal_paper_doi               10.1021/ic401385f
_journal_volume                  52
_journal_year                    2013
_chemical_formula_moiety         'Cu H12 O14 Rb2 Se2 '
_chemical_formula_sum            'Cu H12 O14 Rb2 Se2'
_chemical_formula_weight         628.49
_space_group_IT_number           14
_symmetry_cell_setting           monoclinic
_symmetry_Int_Tables_number      14
_symmetry_space_group_name_Hall  '-P 2yab'
_symmetry_space_group_name_H-M   'P 1 21/a 1'
_cell_angle_alpha                90
_cell_angle_beta                 104.573(2)
_cell_angle_gamma                90
_cell_formula_units_Z            2
_cell_length_a                   9.3851(2)
_cell_length_b                   12.4788(4)
_cell_length_c                   6.3235(2)
_cell_measurement_reflns_used    8712
_cell_measurement_temperature    130
_cell_measurement_theta_max      40.0
_cell_measurement_theta_min      1.6
_cell_volume                     716.75(4)
_computing_cell_refinement       'HKL Scalepack'
_computing_data_collection       'KappaCCD Server Control'
_computing_data_reduction        'HKL Denzo and Scalepack'
_computing_publication_material  'teXsan for Windows v. 1.06 MSC'
_computing_structure_refinement  'teXsan for Windows v. 1.06 MSC'
_computing_structure_solution
;
SIR92 (Altomare, et. al. 1994)
;
_diffrn_ambient_temperature      130
_diffrn_measured_fraction_theta_full 0.990
_diffrn_measured_fraction_theta_max 0.990
_diffrn_measurement_device       'Nonius CCD camera'
_diffrn_measurement_method       'φ scans ω scans κ offsets'
_diffrn_radiation_detector       'Nonius Kappa CCD'
_diffrn_radiation_monochromator  graphite
_diffrn_radiation_source         'fine-focus sealed x-ray tube'
_diffrn_radiation_type           'Mo K\a'
_diffrn_radiation_wavelength     0.7107
_diffrn_reflns_av_R_equivalents  0.02473
_diffrn_reflns_av_sigmaI/netI    0.054
_diffrn_reflns_limit_h_max       16
_diffrn_reflns_limit_h_min       -16
_diffrn_reflns_limit_k_max       22
_diffrn_reflns_limit_k_min       -22
_diffrn_reflns_limit_l_max       11
_diffrn_reflns_limit_l_min       -11
_diffrn_reflns_number            8712
_diffrn_reflns_theta_full        40.00
_diffrn_reflns_theta_max         40.00
_diffrn_reflns_theta_min         1.63
_diffrn_standards_decay_%        0.00
_diffrn_standards_interval_count 0
_diffrn_standards_number         0
_exptl_absorpt_coefficient_mu    13.399
_exptl_absorpt_correction_T_max  0.899
_exptl_absorpt_correction_T_min  0.708
_exptl_absorpt_correction_type   multi-scan
_exptl_absorpt_process_details   '(Denzo-SMN; Otwinowski & Minor, 1997)'
_exptl_crystal_colour            blue
_exptl_crystal_density_diffrn    2.912
_exptl_crystal_description       sphere
_exptl_crystal_F_000             590.00
_exptl_crystal_size_rad          0.30
_refine_diff_density_max         0.66
_refine_diff_density_min         -1.15
_refine_ls_extinction_coef       0.00000124(3)
_refine_ls_extinction_expression 'equ(3) Acta Cryst.(1968) A24, p213.'
_refine_ls_extinction_method     'Zachariasen (1967)'
_refine_ls_goodness_of_fit_all   1.424
_refine_ls_goodness_of_fit_ref   1.420
_refine_ls_hydrogen_treatment    refall
_refine_ls_matrix_type           full
_refine_ls_number_constraints    0
_refine_ls_number_parameters     113
_refine_ls_number_reflns         2941
_refine_ls_number_restraints     0
_refine_ls_R_factor_all          0.0215
_refine_ls_R_factor_gt           0.0220
_refine_ls_shift/su_max          0.0000
_refine_ls_shift/su_mean         0.0000
_refine_ls_structure_factor_coef F
_refine_ls_weighting_details     'w = 1/[σ²(Fo)]'
_refine_ls_weighting_scheme      sigma
_refine_ls_wR_factor_all         0.0220
_refine_ls_wR_factor_ref         0.0220
_reflns_number_gt                2941
_reflns_number_total             4391
_reflns_threshold_expression     I>5.00σ(I)
_cod_data_source_file            ic401385f_si_003_02.cif
_cod_data_source_block           '_Template_texray.inf1'
_cod_original_cell_volume        716.75(3)
_cod_original_sg_symbol_H-M      'P 21/a '
_cod_original_formula_sum        'Cu H12 O14 Rb2 Se2 '
_cod_database_code               4335960
loop_
_symmetry_equiv_pos_as_xyz
'   +x,   +y,   +z'
'1/2-x,1/2+y,   -z'
'   -x,   -y,   -z'
'1/2+x,1/2-y,   +z'
loop_
_atom_site_label
_atom_site_fract_x
_atom_site_fract_y
_atom_site_fract_z
_atom_site_U_iso_or_equiv
_atom_site_occupancy
_atom_site_refinement_flags
_atom_site_adp_type
_atom_site_calc_flag
Rb(10) 0.12188(2) 0.345659(13) 0.34297(2) 0.01158(4) 1.000 . Uani d
Se(2) 0.39345(2) 0.137383(12) 0.72571(2) 0.00736(3) 1.000 . Uani d
Cu(1) 0.0000 0.0000 0.0000 0.00704(6) 1.000 S Uani d
O(3) 0.40182(11) 0.24400(9) 0.5774(2) 0.0121(3) 1.000 . Uani d
O(4) 0.54421(11) 0.06755(10) 0.7573(2) 0.0150(3) 1.000 . Uani d
O(5) 0.25462(11) 0.06341(9) 0.5922(2) 0.0103(3) 1.000 . Uani d
O(6) 0.36710(11) 0.17325(9) 0.9630(2) 0.0117(3) 1.000 . Uani d
O(7) 0.14966(13) 0.10897(10) 0.1578(2) 0.0111(3) 1.000 . Uani d
O(8) -0.1873(1) 0.11350(10) 0.0307(2) 0.0129(3) 1.000 . Uani d
O(9) -0.00221(13) -0.06135(10) 0.2821(2) 0.0101(3) 1.000 . Uani d
H(15) 0.195(2) 0.087(2) 0.280(4) 0.048(7) 1.000 . Uiso d
H(16) 0.210(2) 0.121(2) 0.110(3) 0.017(6) 1.000 . Uiso d
H(17) -0.246(2) 0.101(2) -0.057(4) 0.032(7) 1.000 . Uiso d
H(18) -0.163(2) 0.171(2) 0.005(3) 0.028(6) 1.000 . Uiso d
H(19) -0.063(3) -0.057(2) 0.326(4) 0.048(8) 1.000 . Uiso d
H(20) 0.028(2) -0.116(2) 0.326(4) 0.038(7) 1.000 . Uiso d
loop_
_atom_site_aniso_label
_atom_site_aniso_U_11
_atom_site_aniso_U_22
_atom_site_aniso_U_33
_atom_site_aniso_U_12
_atom_site_aniso_U_13
_atom_site_aniso_U_23
Rb(10) 0.01180(7) 0.01348(7) 0.01028(7) 0.00008(5) 0.00428(5) 0.00020(5)
Se(2) 0.00696(7) 0.00914(7) 0.00594(6) -0.00089(5) 0.00155(5) -0.00035(5)
Cu(1) 0.00747(12) 0.00893(12) 0.00477(11) -0.00156(8) 0.00164(9) 0.00028(8)
O(3) 0.0164(6) 0.0115(5) 0.0087(5) -0.0028(4) 0.0037(4) 0.0021(4)
O(4) 0.0073(5) 0.0174(6) 0.0189(6) 0.0031(4) 0.0008(4) -0.0012(5)
O(5) 0.0080(5) 0.0143(6) 0.0078(5) -0.0040(4) 0.0008(4) -0.0021(4)
O(6) 0.0162(5) 0.0146(5) 0.0052(4) -0.0013(4) 0.0045(4) -0.0015(4)
O(7) 0.0111(6) 0.0159(6) 0.0064(5) -0.0031(4) 0.0023(4) -0.0000(4)
O(8) 0.0117(6) 0.0134(6) 0.0128(6) -0.0010(5) 0.0017(5) 0.0005(5)
O(9) 0.0105(5) 0.0126(6) 0.0081(5) 0.0008(4) 0.0041(4) 0.0013(4)
loop_
_atom_type_symbol
_atom_type_oxidation_number
_atom_type_number_in_cell
_atom_type_scat_dispersion_real
_atom_type_scat_dispersion_imag
_atom_type_scat_source
H 0 24 0.000 0.000
;International Tables for Crystallography
(1992, Vol. C, Table 6.1.1.2)
;
O 0 28 0.008 0.006
;International Tables for Crystallography
(1992, Vol. C, Table 6.1.1.2)
;
Cu 0 2 0.263 1.266
;International Tables for Crystallography
(1992, Vol. C, Tables 4.2.6.8 and 6.1.1.1)
;
Se 0 4 -0.178 2.223
;International Tables for Crystallography
(1992, Vol. C, Tables 4.2.6.8 and 6.1.1.1)
;
Rb 0 4 -1.044 2.973
;International Tables for Crystallography
(1992, Vol. C, Tables 4.2.6.8 and 6.1.1.1)
;
loop_
_diffrn_standard_refln_index_h
_diffrn_standard_refln_index_k
_diffrn_standard_refln_index_l
0 0 0
loop_
_geom_angle_atom_site_label_1
_geom_angle_atom_site_label_2
_geom_angle_atom_site_label_3
_geom_angle
_geom_angle_publ_flag
O3 SE2 O4 109.78(7) ?
O3 SE2 O5 107.89(6) ?
O3 SE2 O6 109.94(7) ?
O4 SE2 O5 108.28(7) ?
O4 SE2 O6 111.04(7) ?
O5 SE2 O6 109.85(6) ?
O7 CU1 O7 180.00 ?
O7 CU1 O8 89.71(6) ?
O7 CU1 O9 88.78(6) ?
O8 CU1 O8 180.00 ?
O8 CU1 O9 88.87(6) ?
O9 CU1 O9 180.00 ?
CU1 O7 H15 111.1(21) no
CU1 O7 H16 116.9(19) no
H15 O7 H16 100.8(24) no
CU1 O8 H17 105.0(24) no
CU1 O8 H18 106.3(18) no
H17 O8 H18 104.5(27) no
CU1 O9 H19 122.4(26) no
CU1 O9 H20 126.6(21) no
H19 O9 H20 100.7(30) no
loop_
_geom_bond_atom_site_label_1
_geom_bond_atom_site_label_2
_geom_bond_distance
_geom_bond_publ_flag
SE2 O3 1.6412(13) ?
SE2 O4 1.6307(13) ?
SE2 O5 1.6458(12) ?
SE2 O6 1.6433(12) ?
CU1 O7 2.028(1) ?
CU1 O7 2.028(1) ?
CU1 O8 2.303(2) ?
CU1 O8 2.303(2) ?
CU1 O9 1.9460(13) ?
CU1 O9 1.9460(13) ?
O7 H15 0.83(3) no
O7 H16 0.72(2) no
O8 H17 0.69(3) no
O8 H18 0.78(3) no
O9 H19 0.69(3) no
O9 H20 0.77(3) no
