#------------------------------------------------------------------------------
#$Date: 2016-02-09 20:42:54 +0200 (Tue, 09 Feb 2016) $
#$Revision: 176292 $
#$URL: svn://www.crystallography.net/cod/cif/6/00/02/6000293.cif $
#------------------------------------------------------------------------------
#
# This file is available in the Crystallography Open Database (COD),
# http://www.crystallography.net/
#
# All data on this site have been placed in the public domain by the
# contributors.
#
data_6000293
loop_
_publ_author_name
'Reckeweg, O.'
'Meyer, H. J.'
_publ_section_title
;
 The nitrido borates Ln(3)B(2)N(4) (Ln = La-Nd) and La5B4N9: syntheses,
 structures, and properties
;
_journal_name_full
'Zeitschrift Fur Anorganische Und Allgemeine Chemie'
_journal_page_first              866
_journal_page_last               874
_journal_paper_doi
10.1002/(SICI)1521-3749(199906)625:6<866::AID-ZAAC866>3.0.CO;2-3
_journal_volume                  625
_journal_year                    1999
_chemical_formula_sum            'B2 Ce3 N4'
_space_group_name_H-M_alt        'I m m m'
_cell_angle_alpha                90.000
_cell_angle_beta                 90.000
_cell_angle_gamma                90.000
_cell_length_a                   3.5620
_cell_length_b                   6.3190
_cell_length_c                   10.7191
_cell_volume                     241.27
_cod_database_code               6000293
loop_
_atom_site_label
_atom_site_fract_x
_atom_site_fract_y
_atom_site_fract_z
? ? ? ?
