#------------------------------------------------------------------------------
#$Date: 2016-02-09 20:42:54 +0200 (Tue, 09 Feb 2016) $
#$Revision: 176292 $
#$URL: svn://www.crystallography.net/cod/cif/6/00/03/6000399.cif $
#------------------------------------------------------------------------------
#
# This file is available in the Crystallography Open Database (COD),
# http://www.crystallography.net/
#
# All data on this site have been placed in the public domain by the
# contributors.
#
data_6000399
loop_
_publ_author_name
'Wickleder, M. S.'
_publ_section_title
;
 Synthesis, crystal structure, and thermal behavior of the rare earth
 sulfates (H5O2)M(SO4)(2) (M = Ho, Er, Y)
;
_journal_name_full               'Chemistry of Materials'
_journal_page_first              3212
_journal_page_last               3216
_journal_paper_doi               10.1021/cm980301w
_journal_volume                  10
_journal_year                    1998
_chemical_formula_sum            'H5 O10 S2 Y'
_space_group_name_H-M_alt        'I 41/a m d'
_cell_angle_alpha                90.000
_cell_angle_beta                 90.000
_cell_angle_gamma                90.000
_cell_length_a                   6.8875
_cell_length_b                   6.8875
_cell_length_c                   17.1590
_cell_volume                     813.98
_cod_database_code               6000399
loop_
_atom_site_label
_atom_site_fract_x
_atom_site_fract_y
_atom_site_fract_z
? ? ? ?
