#------------------------------------------------------------------------------
#$Date: 2016-02-09 20:42:54 +0200 (Tue, 09 Feb 2016) $
#$Revision: 176292 $
#$URL: svn://www.crystallography.net/cod/cif/6/00/04/6000422.cif $
#------------------------------------------------------------------------------
#
# This file is available in the Crystallography Open Database (COD),
# http://www.crystallography.net/
#
# All data on this site have been placed in the public domain by the
# contributors.
#
data_6000422
loop_
_publ_author_name
'Layland, R. C.'
'Kirkland, S. L.'
'Nunez, P.'
'zur Loye, H. C.'
_publ_section_title
;
 Synthesis and characterization of new Rh(III) compounds with the K4CdCl6
 structure-type: Sr3MRhO6 (M = Y, Sc, In)
;
_journal_name_full               'Journal of Solid State Chemistry'
_journal_page_first              416
_journal_page_last               421
_journal_paper_doi               10.1006/jssc.1998.7877
_journal_volume                  139
_journal_year                    1998
_space_group_name_H-M_alt        'R -3 c'
_cell_angle_alpha                90.000
_cell_angle_beta                 90.000
_cell_angle_gamma                120.000
_cell_length_a                   9.6473
_cell_length_b                   9.6473
_cell_length_c                   11.3597
_cell_volume                     915.61
_cod_database_code               6000422
loop_
_atom_site_label
_atom_site_fract_x
_atom_site_fract_y
_atom_site_fract_z
? ? ? ?
