#------------------------------------------------------------------------------
#$Date: 2016-02-09 20:42:54 +0200 (Tue, 09 Feb 2016) $
#$Revision: 176292 $
#$URL: svn://www.crystallography.net/cod/cif/6/00/04/6000482.cif $
#------------------------------------------------------------------------------
#
# This file is available in the Crystallography Open Database (COD),
# http://www.crystallography.net/
#
# All data on this site have been placed in the public domain by the
# contributors.
#
data_6000482
loop_
_publ_author_name
'Do, J.'
'Bontchev, R. P.'
'Jacobson, A. J.'
_publ_section_title
;
 Hydrothermal synthesis and characterization of two mixed valence
 piperazine-vanadium phosphates:
 (C4H12N2)(H3O)[(VOPO4)(4)(H2O)H2PO4].3H(2)O and
 (C4H12N2)[(VO)(VO2)(2)(H2O)(PO4)(2)]
;
_journal_name_full               'Journal of Solid State Chemistry'
_journal_page_first              514
_journal_page_last               523
_journal_paper_doi               10.1006/jssc.2000.8872
_journal_volume                  154
_journal_year                    2000
_chemical_formula_sum            'C4 H25 N2 O29 P5 V4'
_space_group_name_H-M_alt        'P 1 2/n 1'
_cell_angle_alpha                90.000
_cell_angle_beta                 91.936
_cell_angle_gamma                90.000
_cell_length_a                   9.6448
_cell_length_b                   8.8770
_cell_length_c                   14.8130
_cell_volume                     1267.52
_cod_database_code               6000482
loop_
_atom_site_label
_atom_site_fract_x
_atom_site_fract_y
_atom_site_fract_z
? ? ? ?
