#------------------------------------------------------------------------------
#$Date: 2016-11-20 11:52:06 +0200 (Sun, 20 Nov 2016) $
#$Revision: 188599 $
#$URL: file:///home/coder/svn-repositories/cod/cif/6/00/05/6000555.cif $
#------------------------------------------------------------------------------
#
# This file is available in the Crystallography Open Database (COD),
# http://www.crystallography.net/
#
# All data on this site have been placed in the public domain by the
# contributors.
#
data_6000555
loop_
_publ_author_name
'Chernyshev, V. V.'
'Fitch, A. N.'
'Sonneveld, E. J.'
'Kurbakov, A. I.'
'Makarov, V. A.'
'Tafeenko, V. A.'
_publ_section_title
;
 Crystal and molecular structures of
 2-[1-(2-aminoethyl)-2-imidazolidinylidene]-2-nitroacetonitrile
 (C₇H₁₁N₅O₂) and
 2,6-diamino-5-hydroxy-3-nitro-4H-pyrazolo[1,5-a]pyrimidin-7-one
 monohydrate (C₆H₆N₆O₄·H₂O) from X-ray, synchrotron and
 neutron powder diffraction data
;
_journal_issue                   4
_journal_name_full               'Acta Crystallographica Section B'
_journal_page_first              554
_journal_page_last               562
_journal_paper_doi               10.1107/S010876819900213X
_journal_volume                  55
_journal_year                    1999
_chemical_formula_sum            'C6 H8 N6 O5'
_space_group_name_H-M_alt        'P 1 21/n 1'
_cell_angle_alpha                90.000
_cell_angle_beta                 98.670
_cell_angle_gamma                90.000
_cell_length_a                   17.5760
_cell_length_b                   10.9000
_cell_length_c                   4.6738
_cell_volume                     885.17
_cod_duplicate_entry             2002918
_cod_database_code               6000555
loop_
_atom_site_label
_atom_site_fract_x
_atom_site_fract_y
_atom_site_fract_z
? ? ? ?
