#------------------------------------------------------------------------------
#$Date: 2016-02-09 20:42:54 +0200 (Tue, 09 Feb 2016) $
#$Revision: 176292 $
#$URL: svn://www.crystallography.net/cod/cif/6/00/05/6000570.cif $
#------------------------------------------------------------------------------
#
# This file is available in the Crystallography Open Database (COD),
# http://www.crystallography.net/
#
# All data on this site have been placed in the public domain by the
# contributors.
#
data_6000570
loop_
_publ_author_name
'Binbrek, O. S.'
'Torrie, B. H.'
'von Dreele, R.'
'Powell, B. M.'
_publ_section_title
;
 The two solid phases of chlorodifluoromethane
;
_journal_name_full               'Molecular Physics'
_journal_page_first              49
_journal_page_last               54
_journal_paper_doi               10.1080/002689797172859
_journal_volume                  90
_journal_year                    1997
_chemical_formula_sum            'C H Cl F2'
_space_group_name_H-M_alt        P112/n
_cell_angle_alpha                90.000
_cell_angle_beta                 90.000
_cell_angle_gamma                90.319
_cell_length_a                   10.1106
_cell_length_b                   10.4830
_cell_length_c                   5.5868
_cell_volume                     592.13
_diffrn_ambient_temperature      10
_cod_database_code               6000570
loop_
_atom_site_label
_atom_site_fract_x
_atom_site_fract_y
_atom_site_fract_z
? ? ? ?
