#------------------------------------------------------------------------------
#$Date: 2016-03-25 16:22:33 +0200 (Fri, 25 Mar 2016) $
#$Revision: 179966 $
#$URL: svn://www.crystallography.net/cod/cif/7/02/60/7026096.cif $
#------------------------------------------------------------------------------
#
# This file is available in the Crystallography Open Database (COD),
# http://www.crystallography.net/
#
# All data on this site have been placed in the public domain by the
# contributors.
#
data_7026096
loop_
_publ_author_name
'Adams, Christopher J.'
'Kurawa, Mukhtar A.'
'Orpen, A. Guy'
_publ_section_title
;
 Coordination chemistry in the solid state: synthesis and interconversion
 of pyrazolium salts, pyrazole complexes, and pyrazolate MOFs.
;
_journal_issue                   30
_journal_name_full
'Dalton transactions (Cambridge, England : 2003)'
_journal_page_first              6974
_journal_page_last               6984
_journal_paper_doi               10.1039/c0dt00195c
_journal_volume                  39
_journal_year                    2010
_chemical_formula_sum            'C6 H10 Cl4 N4 Zn'
_chemical_formula_weight         345.35
_chemical_name_systematic
;
?
;
_space_group_IT_number           14
_symmetry_cell_setting           monoclinic
_symmetry_space_group_name_Hall  '-P 2yn'
_symmetry_space_group_name_H-M   'P 1 21/n 1'
_atom_sites_solution_hydrogens   geom
_atom_sites_solution_primary     direct
_atom_sites_solution_secondary   difmap
_audit_creation_method           SHELXL-97
_cell_angle_alpha                90.00
_cell_angle_beta                 92.822(11)
_cell_angle_gamma                90.00
_cell_formula_units_Z            4
_cell_length_a                   7.5750(18)
_cell_length_b                   12.858(3)
_cell_length_c                   13.302(3)
_cell_measurement_reflns_used    20364
_cell_measurement_temperature    293(2)
_cell_measurement_theta_max      30.02
_cell_measurement_theta_min      3.03
_cell_volume                     1294.0(5)
_computing_cell_refinement       'Bruker SMART'
_computing_data_collection       'Bruker SMART'
_computing_data_reduction        'Bruker SAINT'
_computing_molecular_graphics    'Bruker SHELXTL'
_computing_publication_material  'Bruker SHELXTL'
_computing_structure_refinement  'SHELXL-97 (Sheldrick, 1997)'
_computing_structure_solution    'SHELXS-97 (Sheldrick, 1990)'
_diffrn_ambient_temperature      293(2)
_diffrn_measured_fraction_theta_full 0.998
_diffrn_measured_fraction_theta_max 0.984
_diffrn_measurement_device_type  'CCD area detector'
_diffrn_measurement_method       'phi and omega scans'
_diffrn_radiation_monochromator  graphite
_diffrn_radiation_source         'fine-focus sealed tube'
_diffrn_radiation_type           MoK\a
_diffrn_radiation_wavelength     0.71073
_diffrn_reflns_av_R_equivalents  0.0347
_diffrn_reflns_av_sigmaI/netI    0.0164
_diffrn_reflns_limit_h_max       10
_diffrn_reflns_limit_h_min       -10
_diffrn_reflns_limit_k_max       17
_diffrn_reflns_limit_k_min       -17
_diffrn_reflns_limit_l_max       18
_diffrn_reflns_limit_l_min       -18
_diffrn_reflns_number            34843
_diffrn_reflns_theta_full        27.50
_diffrn_reflns_theta_max         30.14
_diffrn_reflns_theta_min         2.20
_diffrn_standards_decay_%        0
_exptl_absorpt_coefficient_mu    2.697
_exptl_absorpt_correction_T_max  0.3887
_exptl_absorpt_correction_T_min  0.2533
_exptl_absorpt_correction_type   multi-scan
_exptl_absorpt_process_details   sadabs
_exptl_crystal_colour            Colourless
_exptl_crystal_density_diffrn    1.773
_exptl_crystal_density_meas      ?
_exptl_crystal_density_method    'not measured'
_exptl_crystal_description       Block
_exptl_crystal_F_000             688
_exptl_crystal_size_max          0.50
_exptl_crystal_size_mid          0.45
_exptl_crystal_size_min          0.35
_refine_diff_density_max         1.687
_refine_diff_density_min         -2.719
_refine_diff_density_rms         0.166
_refine_ls_extinction_coef       0.045(3)
_refine_ls_extinction_expression Fc^*^=kFc[1+0.001xFc²λ³/sin(2θ)]^-1/4^
_refine_ls_extinction_method     SHELXL
_refine_ls_goodness_of_fit_ref   1.235
_refine_ls_hydrogen_treatment    constr
_refine_ls_matrix_type           full
_refine_ls_number_parameters     137
_refine_ls_number_reflns         3755
_refine_ls_number_restraints     0
_refine_ls_restrained_S_all      1.235
_refine_ls_R_factor_all          0.0654
_refine_ls_R_factor_gt           0.0475
_refine_ls_shift/su_max          0.000
_refine_ls_shift/su_mean         0.000
_refine_ls_structure_factor_coef Fsqd
_refine_ls_weighting_details
'calc w=1/[σ²(Fo²)+(0.0887P)²+2.7119P] where P=(Fo²+2Fc²)/3'
_refine_ls_weighting_scheme      calc
_refine_ls_wR_factor_gt          0.1404
_refine_ls_wR_factor_ref         0.2005
_reflns_number_gt                3135
_reflns_number_total             3755
_reflns_threshold_expression     >2sigma(I)
_cod_data_source_file            c0dt00195c.txt
_cod_data_source_block           3RT
_cod_depositor_comments
;
The following automatic conversions were performed:

'_symmetry_cell_setting' value 'Monoclinic' changed to 'monoclinic'
according to /home/saulius/struct/CIF-dictionaries/cif_core.dic
dictionary named 'cif_core.dic' version 2.4.2 from
2011-04-26.

'_refine_ls_hydrogen_treatment' value 'Constr' changed
to 'constr' according to
/home/saulius/struct/CIF-dictionaries/cif_core.dic dictionary named
'cif_core.dic' version 2.4.2 from 2011-04-26.

Automatic conversion script
Id: cif_fix_values 1891 2012-01-12 08:04:46Z andrius 

The following automatic conversions were performed:

'_exptl_crystal_density_meas' value 'not measured' was changed to '?'
- the value is perceived as not measured.

Automatic conversion script
Id: cif_fix_values 3008 2015-01-20 13:52:24Z robertas 
;
_cod_original_cell_volume        1294.1(5)
_cod_original_sg_symbol_H-M      P21/n
_cod_database_code               7026096
loop_
_symmetry_equiv_pos_as_xyz
'x, y, z'
'-x+1/2, y+1/2, -z+1/2'
'-x, -y, -z'
'x-1/2, -y-1/2, z-1/2'
loop_
_atom_site_label
_atom_site_type_symbol
_atom_site_fract_x
_atom_site_fract_y
_atom_site_fract_z
_atom_site_U_iso_or_equiv
_atom_site_adp_type
_atom_site_occupancy
_atom_site_symmetry_multiplicity
_atom_site_calc_flag
_atom_site_refinement_flags
Zn1 Zn 0.23868(6) 0.78964(4) 0.24857(3) 0.0402(2) Uani 1 1 d .
Cl1 Cl 0.23377(16) 0.96788(10) 0.24340(8) 0.0489(3) Uani 1 1 d .
Cl2 Cl 0.25831(19) 0.74174(10) 0.41218(9) 0.0530(3) Uani 1 1 d .
Cl3 Cl -0.01100(16) 0.73050(11) 0.17260(10) 0.0546(3) Uani 1 1 d .
Cl4 Cl 0.47823(17) 0.74089(10) 0.16589(12) 0.0604(4) Uani 1 1 d .
N1 N 0.2758(8) 0.0249(5) 0.4733(4) 0.0772(17) Uani 1 1 d .
H1A H 0.2953 0.0172 0.4106 0.093 Uiso 1 1 calc R
N2 N 0.2172(9) -0.0473(4) 0.5323(5) 0.0783(17) Uani 1 1 d .
H2A H 0.1925 -0.1102 0.5147 0.094 Uiso 1 1 calc R
N3 N 0.1542(11) 0.5484(5) 0.6189(4) 0.0776(18) Uani 1 1 d .
H3A H 0.1116 0.6093 0.6289 0.093 Uiso 1 1 calc R
N4 N 0.0671(9) 0.4631(6) 0.6215(5) 0.089(2) Uani 1 1 d .
H4A H -0.0426 0.4581 0.6348 0.107 Uiso 1 1 calc R
C1 C 0.2021(11) -0.0084(6) 0.6222(5) 0.0771(18) Uani 1 1 d .
H1B H 0.1637 -0.0440 0.6779 0.093 Uiso 1 1 calc R
C2 C 0.2518(12) 0.0917(5) 0.6202(5) 0.080(2) Uani 1 1 d .
H2B H 0.2530 0.1386 0.6734 0.096 Uiso 1 1 calc R
C3 C 0.3001(12) 0.1111(6) 0.5250(5) 0.0773(19) Uani 1 1 d .
H3B H 0.3425 0.1737 0.5009 0.093 Uiso 1 1 calc R
C4 C 0.3170(12) 0.5286(7) 0.5988(6) 0.086(2) Uani 1 1 d .
H4B H 0.4081 0.5765 0.5935 0.103 Uiso 1 1 calc R
C5 C 0.3272(12) 0.4236(7) 0.5871(7) 0.095(3) Uani 1 1 d .
H5A H 0.4266 0.3853 0.5721 0.114 Uiso 1 1 calc R
C6 C 0.1667(13) 0.3869(6) 0.6015(7) 0.088(2) Uani 1 1 d .
H6A H 0.1328 0.3175 0.5976 0.106 Uiso 1 1 calc R
loop_
_atom_site_aniso_label
_atom_site_aniso_U_11
_atom_site_aniso_U_22
_atom_site_aniso_U_33
_atom_site_aniso_U_23
_atom_site_aniso_U_13
_atom_site_aniso_U_12
Zn1 0.0359(3) 0.0463(4) 0.0387(3) -0.00319(18) 0.00352(19) -0.00228(19)
Cl1 0.0526(6) 0.0484(6) 0.0463(6) -0.0012(4) 0.0109(5) 0.0004(5)
Cl2 0.0681(8) 0.0506(7) 0.0397(5) 0.0019(5) -0.0026(5) -0.0013(5)
Cl3 0.0434(6) 0.0631(8) 0.0562(7) -0.0076(5) -0.0075(5) -0.0069(5)
Cl4 0.0486(7) 0.0483(7) 0.0866(10) -0.0078(6) 0.0283(6) 0.0001(5)
N1 0.083(4) 0.102(5) 0.047(2) -0.016(3) 0.003(2) 0.027(3)
N2 0.087(4) 0.054(3) 0.091(4) -0.018(3) -0.023(3) -0.002(3)
N3 0.114(5) 0.062(3) 0.056(3) -0.007(2) -0.001(3) 0.036(3)
N4 0.062(3) 0.116(6) 0.090(4) 0.010(4) 0.017(3) 0.014(4)
C1 0.099(5) 0.070(4) 0.063(4) 0.012(3) 0.002(3) -0.006(4)
C2 0.140(7) 0.053(3) 0.046(3) -0.007(2) -0.005(3) 0.010(4)
C3 0.103(6) 0.063(4) 0.065(4) 0.012(3) 0.001(4) -0.008(4)
C4 0.086(5) 0.083(5) 0.089(5) 0.020(4) 0.002(4) -0.032(4)
C5 0.082(5) 0.094(6) 0.112(6) 0.019(5) 0.042(5) 0.041(4)
C6 0.096(6) 0.064(4) 0.106(6) 0.001(4) 0.024(5) -0.005(4)
loop_
_atom_type_symbol
_atom_type_description
_atom_type_scat_dispersion_real
_atom_type_scat_dispersion_imag
_atom_type_scat_source
C C 0.0033 0.0016 'International Tables Vol C Tables 4.2.6.8 and 6.1.1.4'
H H 0.0000 0.0000 'International Tables Vol C Tables 4.2.6.8 and 6.1.1.4'
N N 0.0061 0.0033 'International Tables Vol C Tables 4.2.6.8 and 6.1.1.4'
Cl Cl 0.1484 0.1585 'International Tables Vol C Tables 4.2.6.8 and 6.1.1.4'
Zn Zn 0.2839 1.4301 'International Tables Vol C Tables 4.2.6.8 and 6.1.1.4'
loop_
_geom_angle_atom_site_label_1
_geom_angle_atom_site_label_2
_geom_angle_atom_site_label_3
_geom_angle
Cl3 Zn1 Cl4 111.61(6)
Cl3 Zn1 Cl2 110.92(6)
Cl4 Zn1 Cl2 112.17(6)
Cl3 Zn1 Cl1 108.34(5)
Cl4 Zn1 Cl1 105.98(5)
Cl2 Zn1 Cl1 107.55(5)
N2 N1 C3 109.2(5)
N2 N1 H1A 125.4
C3 N1 H1A 125.4
C1 N2 N1 108.9(6)
C1 N2 H2A 125.5
N1 N2 H2A 125.5
N4 N3 C4 109.5(6)
N4 N3 H3A 125.2
C4 N3 H3A 125.2
C6 N4 N3 110.0(7)
C6 N4 H4A 125.0
N3 N4 H4A 125.0
N2 C1 C2 108.2(6)
N2 C1 H1B 125.9
C2 C1 H1B 125.9
C1 C2 C3 106.4(6)
C1 C2 H2B 126.8
C3 C2 H2B 126.8
N1 C3 C2 107.2(6)
N1 C3 H3B 126.4
C2 C3 H3B 126.4
N3 C4 C5 106.1(7)
N3 C4 H4B 127.0
C5 C4 H4B 127.0
C6 C5 C4 106.2(7)
C6 C5 H5A 126.9
C4 C5 H5A 126.9
N4 C6 C5 108.3(8)
N4 C6 H6A 125.9
C5 C6 H6A 125.9
loop_
_geom_bond_atom_site_label_1
_geom_bond_atom_site_label_2
_geom_bond_distance
Zn1 Cl3 2.2335(13)
Zn1 Cl4 2.2565(13)
Zn1 Cl2 2.2597(13)
Zn1 Cl1 2.2931(16)
N1 N2 1.307(9)
N1 C3 1.311(9)
N1 H1A 0.8600
N2 C1 1.306(9)
N2 H2A 0.8600
N3 N4 1.281(9)
N3 C4 1.299(11)
N3 H3A 0.8600
N4 C6 1.273(10)
N4 H4A 0.8600
C1 C2 1.342(11)
C1 H1B 0.9300
C2 C3 1.358(10)
C2 H2B 0.9300
C3 H3B 0.9300
C4 C5 1.362(12)
C4 H4B 0.9300
C5 C6 1.326(12)
C5 H5A 0.9300
C6 H6A 0.9300
loop_
_geom_hbond_atom_site_label_D
_geom_hbond_atom_site_label_H
_geom_hbond_atom_site_label_A
_geom_hbond_distance_DH
_geom_hbond_distance_HA
_geom_hbond_distance_DA
_geom_hbond_angle_DHA
_geom_hbond_site_symmetry_A
N1 H1A Cl1 0.86 2.34 3.146(5) 156.7 1_545
N2 H2A Cl2 0.86 2.41 3.171(6) 148.1 1_545
N3 H3A Cl4 0.86 2.24 3.097(5) 173.5 4_576
N4 H4A Cl1 0.86 2.47 3.193(6) 142.0 4_576
loop_
_geom_torsion_atom_site_label_1
_geom_torsion_atom_site_label_2
_geom_torsion_atom_site_label_3
_geom_torsion_atom_site_label_4
_geom_torsion
C3 N1 N2 C1 0.4(9)
C4 N3 N4 C6 -1.4(10)
N1 N2 C1 C2 0.3(9)
N2 C1 C2 C3 -0.8(10)
N2 N1 C3 C2 -0.9(9)
C1 C2 C3 N1 1.1(10)
N4 N3 C4 C5 0.9(9)
N3 C4 C5 C6 -0.1(11)
N3 N4 C6 C5 1.3(11)
C4 C5 C6 N4 -0.7(12)
