#------------------------------------------------------------------------------
#$Date: 2016-03-26 14:30:06 +0200 (Sat, 26 Mar 2016) $
#$Revision: 180265 $
#$URL: svn://www.crystallography.net/cod/cif/7/11/51/7115127.cif $
#------------------------------------------------------------------------------
#
# This file is available in the Crystallography Open Database (COD),
# http://www.crystallography.net/
#
# All data on this site have been placed in the public domain by the
# contributors.
#
data_7115127
loop_
_publ_author_name
'Kálmán, Alajos'
'Fábián, László'
'Argay, Gyula'
_publ_section_title
;
 Supramolecular similarities between a diastereomer pair and their
 truncated derivative: common tetrameric synthon and isostructurality
;
_journal_issue                   22
_journal_name_full               'Chemical Communications'
_journal_page_first              2255
_journal_paper_doi               10.1039/b005422o
_journal_year                    2000
_chemical_formula_sum            'C10 H18 O3'
_chemical_formula_weight         186.24
_chemical_name_systematic
;
 (1S*,2R*,4R*)-4-tert-butyl-2-hydroxy-1-cyclopentanecarboxylic acid
;
_space_group_IT_number           14
_symmetry_cell_setting           monoclinic
_symmetry_space_group_name_Hall  '-P 2ybc'
_symmetry_space_group_name_H-M   'P 1 21/c 1'
_atom_sites_solution_hydrogens   geom
_atom_sites_solution_primary     direct
_atom_sites_solution_secondary   difmap
_audit_creation_method           SHELXL-97
_cell_angle_alpha                90.00
_cell_angle_beta                 107.03(4)
_cell_angle_gamma                90.00
_cell_formula_units_Z            4
_cell_length_a                   16.862(2)
_cell_length_b                   6.104(1)
_cell_length_c                   10.519(3)
_cell_measurement_reflns_used    25
_cell_measurement_temperature    293(2)
_cell_measurement_theta_max      28.30
_cell_measurement_theta_min      24.50
_cell_volume                     1035.2(4)
_computing_cell_refinement       'CAD4 Express'
_computing_data_collection       'CAD4 Express'
_computing_data_reduction        'XCAD4 (Harms 1996)'
_computing_molecular_graphics    'PLUTO in CSD(Allen F.H & Kennard O.(1993))'
_computing_structure_refinement  'SHELXL-97 (Sheldrick, 1997)'
_computing_structure_solution    'SHELXS-97 (Sheldrick, 1990)'
_diffrn_ambient_temperature      293(2)
_diffrn_measured_fraction_theta_full 0.975
_diffrn_measured_fraction_theta_max 0.975
_diffrn_measurement_device_type  'Enraf-Nonius CAD4'
_diffrn_measurement_method       ω--2θ
_diffrn_radiation_monochromator  graphite
_diffrn_radiation_source         'fine-focus sealed tube'
_diffrn_radiation_type           CuK\a
_diffrn_radiation_wavelength     1.54178
_diffrn_reflns_av_R_equivalents  0.0000
_diffrn_reflns_av_sigmaI/netI    0.0337
_diffrn_reflns_limit_h_max       21
_diffrn_reflns_limit_h_min       0
_diffrn_reflns_limit_k_max       7
_diffrn_reflns_limit_k_min       0
_diffrn_reflns_limit_l_max       12
_diffrn_reflns_limit_l_min       -13
_diffrn_reflns_number            2084
_diffrn_reflns_theta_full        74.99
_diffrn_reflns_theta_max         74.99
_diffrn_reflns_theta_min         2.74
_diffrn_standards_interval_time  60
_diffrn_standards_number         3
_exptl_absorpt_coefficient_mu    0.704
_exptl_absorpt_correction_T_max  0.9374
_exptl_absorpt_correction_T_min  0.7913
_exptl_absorpt_correction_type   psi-scan
_exptl_absorpt_process_details
'North A.C., Philips, D.C. & Mathews, F.(1968) Acta Cryst. A24, 350-359.'
_exptl_crystal_colour            colourless
_exptl_crystal_density_diffrn    1.195
_exptl_crystal_density_method    'not measured'
_exptl_crystal_description       block
_exptl_crystal_F_000             408
_exptl_crystal_size_max          0.35
_exptl_crystal_size_mid          0.20
_exptl_crystal_size_min          0.12
_refine_diff_density_max         0.249
_refine_diff_density_min         -0.241
_refine_diff_density_rms         0.053
_refine_ls_extinction_coef       0.0019(9)
_refine_ls_extinction_expression Fc^*^=kFc[1+0.001xFc²λ³/sin(2θ)]^-1/4^
_refine_ls_extinction_method     SHELXL
_refine_ls_goodness_of_fit_ref   0.951
_refine_ls_hydrogen_treatment    mixed
_refine_ls_matrix_type           full
_refine_ls_number_parameters     125
_refine_ls_number_reflns         2084
_refine_ls_number_restraints     0
_refine_ls_restrained_S_all      0.951
_refine_ls_R_factor_all          0.0732
_refine_ls_R_factor_gt           0.0541
_refine_ls_shift/su_max          0.000
_refine_ls_shift/su_mean         0.000
_refine_ls_structure_factor_coef Fsqd
_refine_ls_weighting_details
'calc w=1/[σ²(Fo²)+(0.1017P)²+0.4219P] where P=(Fo²+2Fc²)/3'
_refine_ls_weighting_scheme      calc
_refine_ls_wR_factor_gt          0.1415
_refine_ls_wR_factor_ref         0.1688
_reflns_number_gt                1598
_reflns_number_total             2084
_reflns_threshold_expression     >2sigma(I)
_cod_data_source_file            b005422o.txt
_cod_data_source_block           b
_cod_database_code               7115127
loop_
_symmetry_equiv_pos_as_xyz
'x, y, z'
'x, -y+1/2, z+1/2'
'-x, -y, -z'
'-x, y-1/2, -z-1/2'
loop_
_atom_site_label
_atom_site_type_symbol
_atom_site_fract_x
_atom_site_fract_y
_atom_site_fract_z
_atom_site_U_iso_or_equiv
_atom_site_adp_type
_atom_site_occupancy
_atom_site_symmetry_multiplicity
_atom_site_calc_flag
_atom_site_refinement_flags
C1 C 0.35505(10) -0.0958(3) 0.58254(16) 0.0398(4) Uani 1 1 d .
H1 H 0.3505 -0.2480 0.5516 0.052 Uiso 1 1 calc R
C2 C 0.38233(10) 0.0392(3) 0.48141(16) 0.0418(4) Uani 1 1 d .
H2 H 0.4286 -0.0295 0.4577 0.054 Uiso 1 1 calc R
C3 C 0.30370(10) 0.0451(3) 0.36427(16) 0.0443(4) Uani 1 1 d .
H3A H 0.2980 -0.0888 0.3127 0.058 Uiso 1 1 calc R
H3B H 0.3047 0.1685 0.3067 0.058 Uiso 1 1 calc R
C4 C 0.23157(10) 0.0685(3) 0.42660(16) 0.0412(4) Uani 1 1 d .
H4 H 0.2209 0.2255 0.4323 0.054 Uiso 1 1 calc R
C5 C 0.26735(11) -0.0175(4) 0.57051(17) 0.0505(5) Uani 1 1 d .
H5A H 0.2684 0.0984 0.6341 0.066 Uiso 1 1 calc R
H5B H 0.2339 -0.1372 0.5870 0.066 Uiso 1 1 calc R
C6 C 0.41419(10) -0.0947(2) 0.72128(16) 0.0398(4) Uani 1 1 d .
C7 C 0.14966(10) -0.0382(3) 0.34636(18) 0.0455(4) Uani 1 1 d .
C8 C 0.08188(13) 0.0187(5) 0.4114(3) 0.0735(7) Uani 1 1 d .
H8A H 0.0971 -0.0374 0.5005 0.096 Uiso 1 1 calc R
H8B H 0.0303 -0.0457 0.3609 0.096 Uiso 1 1 calc R
H8C H 0.0758 0.1749 0.4133 0.096 Uiso 1 1 calc R
C9 C 0.12460(14) 0.0530(4) 0.2045(2) 0.0672(6) Uani 1 1 d .
H9A H 0.1214 0.2099 0.2074 0.087 Uiso 1 1 calc R
H9B H 0.0715 -0.0052 0.1558 0.087 Uiso 1 1 calc R
H9C H 0.1652 0.0116 0.1613 0.087 Uiso 1 1 calc R
C10 C 0.15631(15) -0.2882(4) 0.3396(2) 0.0633(6) Uani 1 1 d .
H10A H 0.1670 -0.3486 0.4273 0.082 Uiso 1 1 calc R
H10B H 0.2009 -0.3260 0.3042 0.082 Uiso 1 1 calc R
H10C H 0.1052 -0.3465 0.2832 0.082 Uiso 1 1 calc R
O1 O 0.40347(9) 0.2564(2) 0.53654(13) 0.0551(4) Uani 1 1 d .
H1A H 0.4067 0.3406 0.4775 0.092(10) Uiso 1 1 calc R
O2 O 0.39432(8) -0.0464(2) 0.81974(12) 0.0499(4) Uani 1 1 d .
O3 O 0.48924(8) -0.1578(3) 0.72425(13) 0.0553(4) Uani 1 1 d .
H3C H 0.5182 -0.1672 0.8017 0.072 Uiso 1 1 calc R
loop_
_atom_site_aniso_label
_atom_site_aniso_U_11
_atom_site_aniso_U_22
_atom_site_aniso_U_33
_atom_site_aniso_U_23
_atom_site_aniso_U_13
_atom_site_aniso_U_12
C1 0.0458(9) 0.0366(8) 0.0393(8) -0.0004(6) 0.0158(6) 0.0000(6)
C2 0.0389(8) 0.0466(9) 0.0418(8) -0.0009(7) 0.0146(6) -0.0051(6)
C3 0.0413(9) 0.0524(10) 0.0390(8) 0.0022(7) 0.0116(7) -0.0075(7)
C4 0.0401(8) 0.0361(8) 0.0476(9) -0.0060(6) 0.0130(7) 0.0011(6)
C5 0.0420(9) 0.0697(12) 0.0429(9) -0.0028(8) 0.0175(7) -0.0001(8)
C6 0.0452(8) 0.0302(7) 0.0440(8) 0.0045(6) 0.0131(7) 0.0015(6)
C7 0.0378(8) 0.0484(10) 0.0497(9) -0.0043(7) 0.0118(7) -0.0005(7)
C8 0.0407(10) 0.1004(19) 0.0809(15) -0.0118(13) 0.0201(10) 0.0053(10)
C9 0.0544(11) 0.0800(15) 0.0573(12) 0.0064(11) 0.0010(9) -0.0032(10)
C10 0.0732(13) 0.0489(11) 0.0717(13) -0.0091(9) 0.0275(11) -0.0159(9)
O1 0.0626(8) 0.0488(8) 0.0475(7) 0.0053(6) 0.0062(6) -0.0195(6)
O2 0.0573(7) 0.0515(7) 0.0423(6) -0.0008(5) 0.0169(5) 0.0009(6)
O3 0.0528(7) 0.0614(9) 0.0488(7) 0.0044(6) 0.0105(6) 0.0201(6)
loop_
_atom_type_symbol
_atom_type_description
_atom_type_scat_dispersion_real
_atom_type_scat_dispersion_imag
_atom_type_scat_source
C C 0.0181 0.0091 'International Tables Vol C Tables 4.2.6.8 and 6.1.1.4'
H H 0.0000 0.0000 'International Tables Vol C Tables 4.2.6.8 and 6.1.1.4'
O O 0.0492 0.0322 'International Tables Vol C Tables 4.2.6.8 and 6.1.1.4'
loop_
_geom_angle_atom_site_label_1
_geom_angle_atom_site_label_2
_geom_angle_atom_site_label_3
_geom_angle
C6 C1 C2 115.17(14)
C6 C1 C5 115.45(14)
C2 C1 C5 104.90(14)
O1 C2 C1 107.78(13)
O1 C2 C3 110.85(14)
C1 C2 C3 102.06(13)
C2 C3 C4 105.38(13)
C7 C4 C5 115.05(15)
C7 C4 C3 114.80(14)
C5 C4 C3 104.68(13)
C1 C5 C4 106.16(13)
O2 C6 O3 123.71(16)
O2 C6 C1 123.86(15)
O3 C6 C1 112.40(14)
C9 C7 C10 108.66(18)
C9 C7 C8 108.84(18)
C10 C7 C8 108.68(18)
C9 C7 C4 109.14(16)
C10 C7 C4 112.41(16)
C8 C7 C4 109.04(16)
loop_
_geom_bond_atom_site_label_1
_geom_bond_atom_site_label_2
_geom_bond_distance
C1 C6 1.507(2)
C1 C2 1.519(2)
C1 C5 1.524(2)
C2 O1 1.449(2)
C2 C3 1.523(2)
C3 C4 1.548(2)
C4 C7 1.537(2)
C4 C5 1.548(2)
C6 O2 1.215(2)
C6 O3 1.314(2)
C7 C9 1.532(3)
C7 C10 1.533(3)
C7 C8 1.534(3)
loop_
_geom_hbond_atom_site_label_D
_geom_hbond_atom_site_label_H
_geom_hbond_atom_site_label_A
_geom_hbond_distance_DH
_geom_hbond_distance_HA
_geom_hbond_distance_DA
_geom_hbond_angle_DHA
_geom_hbond_site_symmetry_A
O3 H3C O1 0.82 1.88 2.686(2) 166.3 4_657
O1 H1A O2 0.82 2.04 2.8550(19) 170.8 2_554
loop_
_geom_torsion_atom_site_label_1
_geom_torsion_atom_site_label_2
_geom_torsion_atom_site_label_3
_geom_torsion_atom_site_label_4
_geom_torsion
C6 C1 C2 O1 -51.46(18)
C5 C1 C2 O1 76.59(16)
C6 C1 C2 C3 -168.25(14)
C5 C1 C2 C3 -40.19(17)
O1 C2 C3 C4 -76.09(16)
C1 C2 C3 C4 38.46(17)
C2 C3 C4 C7 -149.25(14)
C2 C3 C4 C5 -22.15(18)
C6 C1 C5 C4 154.62(14)
C2 C1 C5 C4 26.74(18)
C7 C4 C5 C1 124.19(15)
C3 C4 C5 C1 -2.76(18)
C2 C1 C6 O2 126.22(18)
C5 C1 C6 O2 3.6(2)
C2 C1 C6 O3 -55.56(19)
C5 C1 C6 O3 -178.13(16)
C5 C4 C7 C9 -176.78(16)
C3 C4 C7 C9 -55.2(2)
C5 C4 C7 C10 -56.1(2)
C3 C4 C7 C10 65.5(2)
C5 C4 C7 C8 64.4(2)
C3 C4 C7 C8 -173.95(17)
